BEGIN:VCALENDAR
VERSION:2.0
PRODID:-//The Greater Iowa City Home Builders Association  - ECPv6.11.2//NONSGML v1.0//EN
CALSCALE:GREGORIAN
METHOD:PUBLISH
X-WR-CALNAME:The Greater Iowa City Home Builders Association 
X-ORIGINAL-URL:https://hbaofic.org
X-WR-CALDESC:Events for The Greater Iowa City Home Builders Association 
REFRESH-INTERVAL;VALUE=DURATION:PT1H
X-Robots-Tag:noindex
X-PUBLISHED-TTL:PT1H
BEGIN:VTIMEZONE
TZID:America/Chicago
BEGIN:DAYLIGHT
TZOFFSETFROM:-0600
TZOFFSETTO:-0500
TZNAME:CDT
DTSTART:20200308T080000
END:DAYLIGHT
BEGIN:STANDARD
TZOFFSETFROM:-0500
TZOFFSETTO:-0600
TZNAME:CST
DTSTART:20201101T070000
END:STANDARD
END:VTIMEZONE
BEGIN:VEVENT
DTSTART;TZID=America/Chicago:20201110T173000
DTEND;TZID=America/Chicago:20201110T183000
DTSTAMP:20260422T194650
CREATED:20201007T225648Z
LAST-MODIFIED:20201027T160016Z
UID:10000829-1605029400-1605033000@hbaofic.org
SUMMARY:Women's Council Virtual Wine Tasting
DESCRIPTION:Connect with Iowa City Area HBA Women’s Council\nmembers through this unique activity.  \nHow it Works: Pick up your Wine Sampler Box and Palate Cleansing Goodies (cheese\, crackers\, nuts and dark chocolates) at sponsor Sobaski Abbey Carpet & Floor (600 Hwy 1 W\, IC; 319-337-4054) on event day between 9 a.m. and 5 p.m. Zoom in at 5:30 p.m. for a short meeting to discuss scholarships fundraising efforts then learn about the wines from Joshua Figg of the Wine Shop at Home. Don’t miss the fun! \nRSVP by Friday\, Nov. 6 to karyl@hbaofic.org or michelle@hbaofic.org.\nA calendar invitation with Zoom link will be sent shortly after the registration deadline. \nEVENT SPONSOR \n 
URL:https://hbaofic.org/calendar/womens-council-wine-tasting-social/
LOCATION:Online
END:VEVENT
END:VCALENDAR