BEGIN:VCALENDAR
VERSION:2.0
PRODID:-//The Greater Iowa City Home Builders Association  - ECPv6.11.2//NONSGML v1.0//EN
CALSCALE:GREGORIAN
METHOD:PUBLISH
X-WR-CALNAME:The Greater Iowa City Home Builders Association 
X-ORIGINAL-URL:https://hbaofic.org
X-WR-CALDESC:Events for The Greater Iowa City Home Builders Association 
REFRESH-INTERVAL;VALUE=DURATION:PT1H
X-Robots-Tag:noindex
X-PUBLISHED-TTL:PT1H
BEGIN:VTIMEZONE
TZID:America/Chicago
BEGIN:DAYLIGHT
TZOFFSETFROM:-0600
TZOFFSETTO:-0500
TZNAME:CDT
DTSTART:20200308T080000
END:DAYLIGHT
BEGIN:STANDARD
TZOFFSETFROM:-0500
TZOFFSETTO:-0600
TZNAME:CST
DTSTART:20201101T070000
END:STANDARD
END:VTIMEZONE
BEGIN:VEVENT
DTSTART;VALUE=DATE:20201201
DTEND;VALUE=DATE:20201203
DTSTAMP:20260422T093113
CREATED:20201111T142020Z
LAST-MODIFIED:20201216T173027Z
UID:10000840-1606784400-1606870799@hbaofic.org
SUMMARY:Scholarships Donation Challenge Collection Begins
DESCRIPTION:Six Greater Iowa City Area HBA member businesses are signed up for the Women’s Council’s Scholarships Donation Challenge. The winner gets three bottles of wine to share with employees. \nParticipants\, who have a special donation bag located in their business\, are: Foster Appliance\, Kitchens By Design\, Mix Home Mercantile\, PSC Distribution\, Sobaski Abbey Carpet & Floor and Studio H20. Thank you!  Stop by to make a contribution and read about a past recipient. \nThe festive challenge is a fun and exciting way the council is fundraising for this important philanthropy\, since its annual Holiday Party unfortunately isn’t happening this year. Scholarships go to graduating high school seniors planning to enter the skilled-trades/home-building industry or have some connection with the HBA.   \n 
URL:https://hbaofic.org/calendar/donation-wine-challenge-for-scholarships-collection-begins/
LOCATION:IA
CATEGORIES:HBA Event
ORGANIZER;CN="Greater Iowa City Area Home Builders Association":MAILTO:eo@hbaofic.org
END:VEVENT
BEGIN:VEVENT
DTSTART;TZID=America/Chicago:20201201T090000
DTEND;TZID=America/Chicago:20201201T200000
DTSTAMP:20260422T093113
CREATED:20170726T163017Z
LAST-MODIFIED:20201208T175858Z
UID:10000867-1606813200-1606852800@hbaofic.org
SUMMARY:Online Silent Auction for Scholarships Begins
DESCRIPTION:The highlight of our annual holiday party continues virtually! View\, bid on and – if you win – purchase items from our amazing donors from your favorite space through https://www.32auctions.com/ICHBAScholarships. \nSpecial HBA 60th anniversary hand-crafted patio chairs\, a holiday centerpiece flower-arrangement\, boutique purses and much more will be available. Auction items will be loaded the week of Nov. 23. Winners should contact the HBA office to arrange pick up/delivery. \nCan you donate something for the auction? Every bit helps as some items are combined to create auction baskets. Call (319) 351-5333 or email karyl@hbaofic.org or michelle@hbaofic.org to arrange pick up or delivery. \nHave fun! \nPARTICIPATE IN THE AUCTION:\nhttps://www.32auctions.com/ICHBAScholarships \n \nSPONSORED BY \n                                                                            
URL:https://hbaofic.org/calendar/silent_auction_scholarships/
LOCATION:IA\, United States
CATEGORIES:HBA Event
ORGANIZER;CN="Greater Iowa City Area Home Builders Association":MAILTO:eo@hbaofic.org
END:VEVENT
END:VCALENDAR