BEGIN:VCALENDAR
VERSION:2.0
PRODID:-//The Greater Iowa City Home Builders Association  - ECPv6.11.2//NONSGML v1.0//EN
CALSCALE:GREGORIAN
METHOD:PUBLISH
X-ORIGINAL-URL:https://hbaofic.org
X-WR-CALDESC:Events for The Greater Iowa City Home Builders Association 
REFRESH-INTERVAL;VALUE=DURATION:PT1H
X-Robots-Tag:noindex
X-PUBLISHED-TTL:PT1H
BEGIN:VTIMEZONE
TZID:America/Chicago
BEGIN:DAYLIGHT
TZOFFSETFROM:-0600
TZOFFSETTO:-0500
TZNAME:CDT
DTSTART:20210314T080000
END:DAYLIGHT
BEGIN:STANDARD
TZOFFSETFROM:-0500
TZOFFSETTO:-0600
TZNAME:CST
DTSTART:20211107T070000
END:STANDARD
END:VTIMEZONE
BEGIN:VEVENT
DTSTART;VALUE=DATE:20210209
DTEND;VALUE=DATE:20210214
DTSTAMP:20260422T063426
CREATED:20201202T175217Z
LAST-MODIFIED:20201202T175217Z
UID:10001083-1612832400-1613177999@hbaofic.org
SUMMARY:NAHB International Builders Show Experience (IBSx)
DESCRIPTION:The 2021 NAHB International Builders Show is virtual. Find details and registration information at buildersshow.com. \n 
URL:https://hbaofic.org/calendar/nahb-international-builders-show-experience-ibsx/
LOCATION:IA
CATEGORIES:HBA Event
END:VEVENT
BEGIN:VEVENT
DTSTART;TZID=America/Chicago:20210209T120000
DTEND;TZID=America/Chicago:20210209T130000
DTSTAMP:20260422T063426
CREATED:20210112T202937Z
LAST-MODIFIED:20210118T161426Z
UID:10001098-1612872000-1612875600@hbaofic.org
SUMMARY:Remodelers Council Board Meeting
DESCRIPTION:The Remodelers Council Board of Directors meets the 2nd Tuesday of every other month – except August –  in the IC HBA’s Conference Room. Interested in joining our Remodelers Council? Email karyl@hbaofic.org. Learn more under our Remodelers Council tab.
URL:https://hbaofic.org/calendar/remodelers-council-board-meeting-10/
LOCATION:Virtual
CATEGORIES:HBA Event
ORGANIZER;CN="Greater Iowa City Area Home Builders Association":MAILTO:eo@hbaofic.org
END:VEVENT
END:VCALENDAR