BEGIN:VCALENDAR
VERSION:2.0
PRODID:-//The Greater Iowa City Home Builders Association  - ECPv6.11.2//NONSGML v1.0//EN
CALSCALE:GREGORIAN
METHOD:PUBLISH
X-WR-CALNAME:The Greater Iowa City Home Builders Association 
X-ORIGINAL-URL:https://hbaofic.org
X-WR-CALDESC:Events for The Greater Iowa City Home Builders Association 
REFRESH-INTERVAL;VALUE=DURATION:PT1H
X-Robots-Tag:noindex
X-PUBLISHED-TTL:PT1H
BEGIN:VTIMEZONE
TZID:America/Chicago
BEGIN:DAYLIGHT
TZOFFSETFROM:-0600
TZOFFSETTO:-0500
TZNAME:CDT
DTSTART:20210314T080000
END:DAYLIGHT
BEGIN:STANDARD
TZOFFSETFROM:-0500
TZOFFSETTO:-0600
TZNAME:CST
DTSTART:20211107T070000
END:STANDARD
END:VTIMEZONE
BEGIN:VEVENT
DTSTART;TZID=America/Chicago:20210325T110000
DTEND;TZID=America/Chicago:20210325T120000
DTSTAMP:20260422T044854
CREATED:20210119T155601Z
LAST-MODIFIED:20210124T005509Z
UID:10000871-1616670000-1616673600@hbaofic.org
SUMMARY:Vocational Training Council Board Meeting
DESCRIPTION:The Vocational Training Council (VTC) Board of Directors meets the third Thursday of the month\, every three months. \nThe VTC assists and supports area schools in the operation of their vocational training programs. Initiatives include the Student-Built House Program\, Build My Future showcase\, career fairs\, job shadows and guest lecturing at ACE Academy classes. Contact VTC President Adam Hahn  of Watts Group for more information. \n  \n           \nThe 2021 Vocational Training Council Board of Directors. 
URL:https://hbaofic.org/calendar/vocational-training-council-meeting-5/
LOCATION:Virtual
CATEGORIES:HBA Event
ORGANIZER;CN="Greater Iowa City Area Home Builders Association":MAILTO:eo@hbaofic.org
END:VEVENT
BEGIN:VEVENT
DTSTART;TZID=America/Chicago:20210325T120000
DTEND;TZID=America/Chicago:20210325T130000
DTSTAMP:20260422T044854
CREATED:20210112T203251Z
LAST-MODIFIED:20210119T155047Z
UID:10001099-1616673600-1616677200@hbaofic.org
SUMMARY:Board of Directors Meeting
DESCRIPTION:
URL:https://hbaofic.org/calendar/board-of-directors-meeting-51/
LOCATION:Virtual
CATEGORIES:HBA Event
ORGANIZER;CN="Greater Iowa City Area Home Builders Association":MAILTO:eo@hbaofic.org
END:VEVENT
END:VCALENDAR