BEGIN:VCALENDAR
VERSION:2.0
PRODID:-//The Greater Iowa City Home Builders Association  - ECPv6.11.2//NONSGML v1.0//EN
CALSCALE:GREGORIAN
METHOD:PUBLISH
X-ORIGINAL-URL:https://hbaofic.org
X-WR-CALDESC:Events for The Greater Iowa City Home Builders Association 
REFRESH-INTERVAL;VALUE=DURATION:PT1H
X-Robots-Tag:noindex
X-PUBLISHED-TTL:PT1H
BEGIN:VTIMEZONE
TZID:America/Chicago
BEGIN:DAYLIGHT
TZOFFSETFROM:-0600
TZOFFSETTO:-0500
TZNAME:CDT
DTSTART:20210314T080000
END:DAYLIGHT
BEGIN:STANDARD
TZOFFSETFROM:-0500
TZOFFSETTO:-0600
TZNAME:CST
DTSTART:20211107T070000
END:STANDARD
END:VTIMEZONE
BEGIN:VEVENT
DTSTART;TZID=America/Chicago:20210512T120000
DTEND;TZID=America/Chicago:20210512T130000
DTSTAMP:20260422T010705
CREATED:20210511T201429Z
LAST-MODIFIED:20210511T201429Z
UID:10000886-1620820800-1620824400@hbaofic.org
SUMMARY:Aging-in-Place Forum: Resources to Prevent Social Isolation
DESCRIPTION:Join the first webinar in the 2021 Aging-in-Place series: Resources to Prevent Social Isolation: Sunshine and Lollipops – how to find them every day. \nEugenia Kendall from the Heritage Area Agency on Aging will provide an overview on social isolation and how it impacts a person’s health. LaTasha DeLoach from the Center\, Erin Balvanz from United Way of Washington and Johnson County 55+ Retired Senior Volunteer Program and Amy Golly from North Liberty 55+ Senior Connections Lunch will discuss ways to stay socially active. \nRegister via Zoom at https://us02web.zoom.us/…/reg…/WN_R_RGaX80Ql2uZKL2HG4y_w.\nYou may also view the event live on the Johnson County Social Services Facebook page. \n 
URL:https://hbaofic.org/calendar/aging-in-place-forum-resources-to-prevent-social-isolation/
LOCATION:Online
CATEGORIES:HBA Event
END:VEVENT
END:VCALENDAR