BEGIN:VCALENDAR
VERSION:2.0
PRODID:-//The Greater Iowa City Home Builders Association  - ECPv6.11.2//NONSGML v1.0//EN
CALSCALE:GREGORIAN
METHOD:PUBLISH
X-ORIGINAL-URL:https://hbaofic.org
X-WR-CALDESC:Events for The Greater Iowa City Home Builders Association 
REFRESH-INTERVAL;VALUE=DURATION:PT1H
X-Robots-Tag:noindex
X-PUBLISHED-TTL:PT1H
BEGIN:VTIMEZONE
TZID:America/Chicago
BEGIN:DAYLIGHT
TZOFFSETFROM:-0600
TZOFFSETTO:-0500
TZNAME:CDT
DTSTART:20210314T080000
END:DAYLIGHT
BEGIN:STANDARD
TZOFFSETFROM:-0500
TZOFFSETTO:-0600
TZNAME:CST
DTSTART:20211107T070000
END:STANDARD
END:VTIMEZONE
BEGIN:VEVENT
DTSTART;TZID=America/Chicago:20210828T110000
DTEND;TZID=America/Chicago:20210828T113000
DTSTAMP:20260421T054809
CREATED:20210817T165628Z
LAST-MODIFIED:20210817T204504Z
UID:10001142-1630148400-1630150200@hbaofic.org
SUMMARY:Jane Hagedorn IVHFH Women Build Groundbreaking
DESCRIPTION:Long-time Greater Iowa City Area HBA member Jane Hagedorn\, retired from Bea Day Plumbing\, is the 2021 Iowa Valley Habitat for Humanity (IVHFH) Women Build honoree! \nJoin us for the project’s groundbreaking. The event is outdoors\, but those attending in person are encouraged to wear face masks and practice social distancing.  \nJane was highly involved in all 11 previous IVHFH Women Build homes. Women Build is a program developed by Habitat for Humanity to engage and empower women in construction. The goal is not meant to exclude men\, but to include women who may not feel comfortable volunteering at a male-dominated construction site. Women Build also highlights and honors the talented and hard-working women in our community.  \nCome congratulate Jane and witness another IVHFH home starting for a deserving family.
URL:https://hbaofic.org/calendar/jane-hagedorn-women-build/
LOCATION:2021 IVHFH Jane Hagedorn Women Build\, 780 Barber Place\, Iowa City\, IA\, 52245
CATEGORIES:HBA Event
END:VEVENT
END:VCALENDAR