BEGIN:VCALENDAR
VERSION:2.0
PRODID:-//The Greater Iowa City Home Builders Association  - ECPv6.11.2//NONSGML v1.0//EN
CALSCALE:GREGORIAN
METHOD:PUBLISH
X-WR-CALNAME:The Greater Iowa City Home Builders Association 
X-ORIGINAL-URL:https://hbaofic.org
X-WR-CALDESC:Events for The Greater Iowa City Home Builders Association 
REFRESH-INTERVAL;VALUE=DURATION:PT1H
X-Robots-Tag:noindex
X-PUBLISHED-TTL:PT1H
BEGIN:VTIMEZONE
TZID:America/Chicago
BEGIN:DAYLIGHT
TZOFFSETFROM:-0600
TZOFFSETTO:-0500
TZNAME:CDT
DTSTART:20210314T080000
END:DAYLIGHT
BEGIN:STANDARD
TZOFFSETFROM:-0500
TZOFFSETTO:-0600
TZNAME:CST
DTSTART:20211107T070000
END:STANDARD
END:VTIMEZONE
BEGIN:VEVENT
DTSTART;VALUE=DATE:20210907
DTEND;VALUE=DATE:20210910
DTSTAMP:20260421T034353
CREATED:20210805T205936Z
LAST-MODIFIED:20210805T205936Z
UID:10001141-1630976400-1631149199@hbaofic.org
SUMMARY:HousingIowa Conference
DESCRIPTION:The 2021 HousingIowa Conference: Housing at the Crossroads features fantastic speakers\, including NAHB President and CEO Jerry Howard who sits on a Sept. 7 panel titled Housing Insiders. Joining him for that session will be Associate Vice President Economic & Industry Forecasting Joel Kan of Mortgage Bankers Association; Vice President of Public Policy Sarah Saadian from the National Low Income Housing Coalition; and Executive Director Stockton Williams with the National Council of State Housing Agencies. \nThey will discuss the status of the industry following the expiration of the eviction and foreclosure moratoriums\, the new challenges facing the housing industry\, including building costs and labor shortages as well as the very latest on new and proposed federal programs to support homeowners\, renters and individuals facing homelessness. \nGet the details and register at https://www.housingiowaconference.com/.  \n 
URL:https://hbaofic.org/calendar/housingiowa-conference/
LOCATION:DoubleTree by Hilton\, 350 1st Avenue NE\, Cedar Rapids\, IA\, 52401
CATEGORIES:HBA Event
END:VEVENT
END:VCALENDAR