BEGIN:VCALENDAR
VERSION:2.0
PRODID:-//The Greater Iowa City Home Builders Association  - ECPv6.11.2//NONSGML v1.0//EN
CALSCALE:GREGORIAN
METHOD:PUBLISH
X-WR-CALNAME:The Greater Iowa City Home Builders Association 
X-ORIGINAL-URL:https://hbaofic.org
X-WR-CALDESC:Events for The Greater Iowa City Home Builders Association 
REFRESH-INTERVAL;VALUE=DURATION:PT1H
X-Robots-Tag:noindex
X-PUBLISHED-TTL:PT1H
BEGIN:VTIMEZONE
TZID:America/Chicago
BEGIN:DAYLIGHT
TZOFFSETFROM:-0600
TZOFFSETTO:-0500
TZNAME:CDT
DTSTART:20210314T080000
END:DAYLIGHT
BEGIN:STANDARD
TZOFFSETFROM:-0500
TZOFFSETTO:-0600
TZNAME:CST
DTSTART:20211107T070000
END:STANDARD
END:VTIMEZONE
BEGIN:VEVENT
DTSTART;TZID=America/Chicago:20210909T083000
DTEND;TZID=America/Chicago:20210909T170000
DTSTAMP:20260421T053141
CREATED:20210720T155310Z
LAST-MODIFIED:20210817T161706Z
UID:10001139-1631176200-1631206800@hbaofic.org
SUMMARY:Tari Dailey Memorial Golf Tournament
DESCRIPTION:The Greater Iowa City Area & Greater Cedar Rapids HBAs invite you to the Tari Dailey Memorial Golf Tournament.  \nEnjoy a day of golf followed by dinner and networking with HBA members. Event proceeds benefit the HBA of Iowa Educational Corporation to provide scholarships for students entering the building trades. \nPricing\nDinner Only: $20\nGolf Foursome: $440\nSingle Player: $110\nSponsorships: Hole – $150\, Beverage – $250\, Prize – $750 \nLearn more\, including what comes with each package\, and sign up at https://dailey-memorial-golf.perfectgolfevent.com. \n\nAbout Tari Dailey\n\nTari\, who passed away last February\, worked for Cedar Rapids Millworks before becoming a partner/owner for Ogden & Adams Lumber. \nHe was a long-time\, dedicated volunteer for the Greater Cedar Rapids HBA and HBA of Iowa. Among Tari’s leadership roles was Cedar Rapids HBA president (2006) and state president (2011).His exemplary service earned him several awards\, including induction into the Cedar Rapids HBA Hall of Fame. \n 
URL:https://hbaofic.org/calendar/tari-dailey-memorial-golf-tournament/
LOCATION:Amana Colonies Golf Club\, 451 27th Avenue\, Amana\, IA\, 52203
CATEGORIES:HBA Event
ORGANIZER;CN="Greater Iowa City Area Home Builders Association":MAILTO:eo@hbaofic.org
END:VEVENT
BEGIN:VEVENT
DTSTART;TZID=America/Chicago:20210909T160000
DTEND;TZID=America/Chicago:20210909T170000
DTSTAMP:20260421T053141
CREATED:20210118T230337Z
LAST-MODIFIED:20210817T162707Z
UID:10000868-1631203200-1631206800@hbaofic.org
SUMMARY:September Membership Meeting: Dinner After The Tari Dailey Memorial Golf Tournament
DESCRIPTION:The Greater Iowa City Area & Greater Cedar Rapids HBAs invite you to attend dinner and network with HBA members following the Tari Dailey Memorial Golf Tournament. Event proceeds benefit the HBA of Iowa Educational Corporation to provide scholarships for students entering the building trades. \nPricing \nDinner Only: $20\nGolf Foursome: $440\nSingle Player: $110\nSponsorships: Hole – $150\, Beverage – $250\, Prize – $750 \nLearn more\, including what comes with each package\, and sign up at https://dailey-memorial-golf.perfectgolfevent.com. \n\nAbout Tari Dailey\n\nTari\, who passed away last February\, worked for Cedar Rapids Millworks before becoming a partner/owner for Ogden & Adams Lumber. \nHe was a long-time\, dedicated volunteer for the Greater Cedar Rapids HBA and HBA of Iowa. Among Tari’s leadership roles was Cedar Rapids HBA president (2006) and state president (2011).His exemplary service earned him several awards\, including induction into the Cedar Rapids HBA Hall of Fame. \n 
URL:https://hbaofic.org/calendar/september-membership-meeting-2/
LOCATION:Amana Colonies Golf Club\, 451 27th Avenue\, Amana\, IA\, 52203
CATEGORIES:HBA Event
ORGANIZER;CN="Greater Iowa City Area Home Builders Association":MAILTO:eo@hbaofic.org
END:VEVENT
END:VCALENDAR