BEGIN:VCALENDAR
VERSION:2.0
PRODID:-//The Greater Iowa City Home Builders Association  - ECPv6.11.2//NONSGML v1.0//EN
CALSCALE:GREGORIAN
METHOD:PUBLISH
X-WR-CALNAME:The Greater Iowa City Home Builders Association 
X-ORIGINAL-URL:https://hbaofic.org
X-WR-CALDESC:Events for The Greater Iowa City Home Builders Association 
REFRESH-INTERVAL;VALUE=DURATION:PT1H
X-Robots-Tag:noindex
X-PUBLISHED-TTL:PT1H
BEGIN:VTIMEZONE
TZID:America/Chicago
BEGIN:DAYLIGHT
TZOFFSETFROM:-0600
TZOFFSETTO:-0500
TZNAME:CDT
DTSTART:20210314T080000
END:DAYLIGHT
BEGIN:STANDARD
TZOFFSETFROM:-0500
TZOFFSETTO:-0600
TZNAME:CST
DTSTART:20211107T070000
END:STANDARD
END:VTIMEZONE
BEGIN:VEVENT
DTSTART;VALUE=DATE:20211014
DTEND;VALUE=DATE:20211018
DTSTAMP:20260421T040428
CREATED:20210128T143902Z
LAST-MODIFIED:20210128T143902Z
UID:10001122-1634173200-1634432399@hbaofic.org
SUMMARY:NAHB Fall Leadership Meetings
DESCRIPTION:
URL:https://hbaofic.org/calendar/nahb-fall-leadership-meetings/
LOCATION:Houston\, Texas
END:VEVENT
END:VCALENDAR