BEGIN:VCALENDAR
VERSION:2.0
PRODID:-//The Greater Iowa City Home Builders Association  - ECPv6.11.2//NONSGML v1.0//EN
CALSCALE:GREGORIAN
METHOD:PUBLISH
X-ORIGINAL-URL:https://hbaofic.org
X-WR-CALDESC:Events for The Greater Iowa City Home Builders Association 
REFRESH-INTERVAL;VALUE=DURATION:PT1H
X-Robots-Tag:noindex
X-PUBLISHED-TTL:PT1H
BEGIN:VTIMEZONE
TZID:America/Chicago
BEGIN:DAYLIGHT
TZOFFSETFROM:-0600
TZOFFSETTO:-0500
TZNAME:CDT
DTSTART:20240310T080000
END:DAYLIGHT
BEGIN:STANDARD
TZOFFSETFROM:-0500
TZOFFSETTO:-0600
TZNAME:CST
DTSTART:20241103T070000
END:STANDARD
END:VTIMEZONE
BEGIN:VEVENT
DTSTART;VALUE=DATE:20240426
DTEND;VALUE=DATE:20240430
DTSTAMP:20260423T232938
CREATED:20231101T155059Z
LAST-MODIFIED:20231101T155059Z
UID:10001292-1714093200-1714352399@hbaofic.org
SUMMARY:Home and Garden Show
DESCRIPTION:
URL:https://hbaofic.org/calendar/home-and-garden-show/
LOCATION:Johnson County Fairgrounds\, 4261 Oak Crest Hill Rd SE\, Iowa City\, IA\, 52246\, United States
CATEGORIES:Exhibitor,HBA Event
ORGANIZER;CN="HBA of IC":MAILTO:eo@hbaofic.org
END:VEVENT
END:VCALENDAR