BEGIN:VCALENDAR
VERSION:2.0
PRODID:-//The Greater Iowa City Home Builders Association  - ECPv6.11.2//NONSGML v1.0//EN
CALSCALE:GREGORIAN
METHOD:PUBLISH
X-WR-CALNAME:The Greater Iowa City Home Builders Association 
X-ORIGINAL-URL:https://hbaofic.org
X-WR-CALDESC:Events for The Greater Iowa City Home Builders Association 
REFRESH-INTERVAL;VALUE=DURATION:PT1H
X-Robots-Tag:noindex
X-PUBLISHED-TTL:PT1H
BEGIN:VTIMEZONE
TZID:America/Chicago
BEGIN:DAYLIGHT
TZOFFSETFROM:-0600
TZOFFSETTO:-0500
TZNAME:CDT
DTSTART:20240310T080000
END:DAYLIGHT
BEGIN:STANDARD
TZOFFSETFROM:-0500
TZOFFSETTO:-0600
TZNAME:CST
DTSTART:20241103T070000
END:STANDARD
END:VTIMEZONE
BEGIN:VEVENT
DTSTART;TZID=America/Chicago:20240709T073000
DTEND;TZID=America/Chicago:20240709T083000
DTSTAMP:20260423T190141
CREATED:20231106T191426Z
LAST-MODIFIED:20240620T200107Z
UID:10001309-1720510200-1720513800@hbaofic.org
SUMMARY:Legislative Committee Meeting
DESCRIPTION:
URL:https://hbaofic.org/calendar/legislative-committee-meeting-23/
LOCATION:HBA Office & Zoom\, 11 S Gilbert St\, Iowa City\, IA\, 52240\, United States
ORGANIZER;CN="HBA of IC":MAILTO:eo@hbaofic.org
END:VEVENT
BEGIN:VEVENT
DTSTART;TZID=America/Chicago:20240709T120000
DTEND;TZID=America/Chicago:20240709T130000
DTSTAMP:20260423T190141
CREATED:20231106T195316Z
LAST-MODIFIED:20240620T200153Z
UID:10001328-1720526400-1720530000@hbaofic.org
SUMMARY:Vocational Training Council (VTC) meeting
DESCRIPTION:
URL:https://hbaofic.org/calendar/vcational-training-council-vtc-meeting/
LOCATION:HBA Office & Zoom\, 11 S Gilbert St\, Iowa City\, IA\, 52240\, United States
ORGANIZER;CN="HBA of IC":MAILTO:eo@hbaofic.org
END:VEVENT
END:VCALENDAR