BEGIN:VCALENDAR
VERSION:2.0
PRODID:-//The Greater Iowa City Home Builders Association  - ECPv6.11.2//NONSGML v1.0//EN
CALSCALE:GREGORIAN
METHOD:PUBLISH
X-WR-CALNAME:The Greater Iowa City Home Builders Association 
X-ORIGINAL-URL:https://hbaofic.org
X-WR-CALDESC:Events for The Greater Iowa City Home Builders Association 
REFRESH-INTERVAL;VALUE=DURATION:PT1H
X-Robots-Tag:noindex
X-PUBLISHED-TTL:PT1H
BEGIN:VTIMEZONE
TZID:America/Chicago
BEGIN:DAYLIGHT
TZOFFSETFROM:-0600
TZOFFSETTO:-0500
TZNAME:CDT
DTSTART:20250309T080000
END:DAYLIGHT
BEGIN:STANDARD
TZOFFSETFROM:-0500
TZOFFSETTO:-0600
TZNAME:CST
DTSTART:20251102T070000
END:STANDARD
END:VTIMEZONE
BEGIN:VEVENT
DTSTART;TZID=America/Chicago:20250429T090000
DTEND;TZID=America/Chicago:20250429T140000
DTSTAMP:20260422T215211
CREATED:20250128T164923Z
LAST-MODIFIED:20250128T164923Z
UID:10001349-1745917200-1745935200@hbaofic.org
SUMMARY:Build My Future
DESCRIPTION:
URL:https://hbaofic.org/calendar/build-my-future-4/
LOCATION:Hawkeye Downs – Cedar Rapids\, 4601 6th St SW\, Cedar Rapids\, IA\, 52404
ORGANIZER;CN="Build My Future - ACE":MAILTO:karyl@hbaofic.org
END:VEVENT
END:VCALENDAR