BEGIN:VCALENDAR
VERSION:2.0
PRODID:-//The Greater Iowa City Home Builders Association  - ECPv6.11.2//NONSGML v1.0//EN
CALSCALE:GREGORIAN
METHOD:PUBLISH
X-WR-CALNAME:The Greater Iowa City Home Builders Association 
X-ORIGINAL-URL:https://hbaofic.org
X-WR-CALDESC:Events for The Greater Iowa City Home Builders Association 
REFRESH-INTERVAL;VALUE=DURATION:PT1H
X-Robots-Tag:noindex
X-PUBLISHED-TTL:PT1H
BEGIN:VTIMEZONE
TZID:America/Chicago
BEGIN:DAYLIGHT
TZOFFSETFROM:-0600
TZOFFSETTO:-0500
TZNAME:CDT
DTSTART:20250309T080000
END:DAYLIGHT
BEGIN:STANDARD
TZOFFSETFROM:-0500
TZOFFSETTO:-0600
TZNAME:CST
DTSTART:20251102T070000
END:STANDARD
END:VTIMEZONE
BEGIN:VEVENT
DTSTART;VALUE=DATE:20250607
DTEND;VALUE=DATE:20250617
DTSTAMP:20260422T182155
CREATED:20241217T204213Z
LAST-MODIFIED:20250610T183130Z
UID:10001339-1749258000-1750035599@hbaofic.org
SUMMARY:2025 Parade of New and Remodeled Homes
DESCRIPTION:Join us for the highly anticipated 2025 Parade of Homes\, where innovation meets inspiration! Explore the latest in homebuilding trends\, architectural marvels\, and cutting-edge designs from top builders. Whether you’re looking  for design ideas\, energy-efficient features\, or just some fun\, this year’s Parade offers something for everyone. Walk through beautifully crafted homes\, experience modern luxury\, and meet the builders behind the masterpieces. Mark your calendars—this is one event you won’t want to miss! \n  \nTickets Available at the door! \n\nSat\, June 7\n10 a.m. to 5 p.m.\n\n\nSun\, June 8\nNoon to 5 p.m.\n\n\nTues\, June 10\n5:30-8:30p.m.\n\n\nThurs\, June 12\n5:30-8:30p.m.\n\n\nSat\, June 14\n10 a.m. to 5 p.m.\n\n\nSun\, June 15\nNoon to 5 p.m.\n\nExplore 14 stunning homes across Iowa City\, Coralville\, North Liberty\, Solon\, and Ely – each showcasing exceptional design\, modern features\, and unique neighborhood charm. \n📍 Featured Neighborhoods Include:• Auburn Ridge• Eagle Bend• GreenBelt Trail• Monument Hills• Trail Ridge Estates• Old Mill & Old Mill Creek• Founders Grove• Lake Ridge Estates…and more! \nParade of Homes (June 7–15) Remodels First Weekend Only\n🏠 New Homes\n \n\nNavigate Homes – 1193 Kona Circle\, Coralville\, IA\n Elevation Homebuilders – 478 Rebekah Court\, Coralville\, IA\nDiamond Ridge Construction – 1291 Osage Lane\, North Liberty\, IA\nH&H HomeBuilders – 2373 Mehaffey Bridge Rd\, North Liberty\, IA\nWatts Group Inc – 3125 Sunflower Street\, Ely\, IA\nWatts Group Inc – 401 MacBride Trail\, Solon\, IA\nWatts Group Inc – 403 MacBride Trail\, Solon\, IA\nJohnson Custom Homes – 702 Beck Drive\, Solon\, IA\nMcCreedy Ruth Construction – 800 Crestview Drive\, Solon\, IA\nWatts Group Inc – 2219 Andrew Court NE\, Solon\, IA\nGary Frakes Construction\, Inc. – 643 Allison Way\, Iowa City\, IA\nBedrock Builders LLC – 679 Allison Way\, Iowa City\, IA\nBedrock Builders LLC – 929 Allison Way\, Iowa City\, IA\nSueppel’s Building & Remodeling – 726 Ronalds Street\, Iowa City\, IA\n\n🛠 Remodeled Homes (June 7th & 8th only)\n \n\nMartin Construction – 435 Rundell Street\, Iowa City\, IA\nMcCreedy Ruth Construction – 1006 16th Avenue\, Coralville\, IA\nMJC Carpentry – 2198 Sugar Bottom Road NE\, Solon\, IA\n\n  \n🔑 Whether you’re looking for timeless elegance\, contemporary flair\, or cozy community living – there’s something here for everyone. \n  \n  \n\n\nMember Only Breakfast + Tour (8.5 x 17 in) by IC Area HBA
URL:https://hbaofic.org/calendar/2025-parade-of-new-and-remodeled-homes/2025-06-07/
LOCATION:IA
ATTACH;FMTTYPE=image/jpeg:https://hbaofic.org/wp-content/uploads/2025/01/1.jpg
ORGANIZER;CN="Greater Iowa City Area Home Builders Association":MAILTO:eo@hbaofic.org
END:VEVENT
BEGIN:VEVENT
DTSTART;VALUE=DATE:20250610
DTEND;VALUE=DATE:20250611
DTSTAMP:20260422T182155
CREATED:20241217T204213Z
LAST-MODIFIED:20250610T183130Z
UID:10001367-1749576600-1749587400@hbaofic.org
SUMMARY:2025 Parade of New and Remodeled Homes
DESCRIPTION:Join us for the highly anticipated 2025 Parade of Homes\, where innovation meets inspiration! Explore the latest in homebuilding trends\, architectural marvels\, and cutting-edge designs from top builders. Whether you’re looking  for design ideas\, energy-efficient features\, or just some fun\, this year’s Parade offers something for everyone. Walk through beautifully crafted homes\, experience modern luxury\, and meet the builders behind the masterpieces. Mark your calendars—this is one event you won’t want to miss! \n  \nTickets Available at the door! \n\nSat\, June 7\n10 a.m. to 5 p.m.\n\n\nSun\, June 8\nNoon to 5 p.m.\n\n\nTues\, June 10\n5:30-8:30p.m.\n\n\nThurs\, June 12\n5:30-8:30p.m.\n\n\nSat\, June 14\n10 a.m. to 5 p.m.\n\n\nSun\, June 15\nNoon to 5 p.m.\n\nExplore 14 stunning homes across Iowa City\, Coralville\, North Liberty\, Solon\, and Ely – each showcasing exceptional design\, modern features\, and unique neighborhood charm. \n📍 Featured Neighborhoods Include:• Auburn Ridge• Eagle Bend• GreenBelt Trail• Monument Hills• Trail Ridge Estates• Old Mill & Old Mill Creek• Founders Grove• Lake Ridge Estates…and more! \nParade of Homes (June 7–15) Remodels First Weekend Only\n🏠 New Homes\n \n\nNavigate Homes – 1193 Kona Circle\, Coralville\, IA\n Elevation Homebuilders – 478 Rebekah Court\, Coralville\, IA\nDiamond Ridge Construction – 1291 Osage Lane\, North Liberty\, IA\nH&H HomeBuilders – 2373 Mehaffey Bridge Rd\, North Liberty\, IA\nWatts Group Inc – 3125 Sunflower Street\, Ely\, IA\nWatts Group Inc – 401 MacBride Trail\, Solon\, IA\nWatts Group Inc – 403 MacBride Trail\, Solon\, IA\nJohnson Custom Homes – 702 Beck Drive\, Solon\, IA\nMcCreedy Ruth Construction – 800 Crestview Drive\, Solon\, IA\nWatts Group Inc – 2219 Andrew Court NE\, Solon\, IA\nGary Frakes Construction\, Inc. – 643 Allison Way\, Iowa City\, IA\nBedrock Builders LLC – 679 Allison Way\, Iowa City\, IA\nBedrock Builders LLC – 929 Allison Way\, Iowa City\, IA\nSueppel’s Building & Remodeling – 726 Ronalds Street\, Iowa City\, IA\n\n🛠 Remodeled Homes (June 7th & 8th only)\n \n\nMartin Construction – 435 Rundell Street\, Iowa City\, IA\nMcCreedy Ruth Construction – 1006 16th Avenue\, Coralville\, IA\nMJC Carpentry – 2198 Sugar Bottom Road NE\, Solon\, IA\n\n  \n🔑 Whether you’re looking for timeless elegance\, contemporary flair\, or cozy community living – there’s something here for everyone. \n  \n  \n\n\nMember Only Breakfast + Tour (8.5 x 17 in) by IC Area HBA
URL:https://hbaofic.org/calendar/2025-parade-of-new-and-remodeled-homes/2025-06-10/
LOCATION:IA
ATTACH;FMTTYPE=image/jpeg:https://hbaofic.org/wp-content/uploads/2025/01/1.jpg
ORGANIZER;CN="Greater Iowa City Area Home Builders Association":MAILTO:eo@hbaofic.org
END:VEVENT
END:VCALENDAR