BEGIN:VCALENDAR
VERSION:2.0
PRODID:-//The Greater Iowa City Home Builders Association  - ECPv6.11.2//NONSGML v1.0//EN
CALSCALE:GREGORIAN
METHOD:PUBLISH
X-WR-CALNAME:The Greater Iowa City Home Builders Association 
X-ORIGINAL-URL:https://hbaofic.org
X-WR-CALDESC:Events for The Greater Iowa City Home Builders Association 
REFRESH-INTERVAL;VALUE=DURATION:PT1H
X-Robots-Tag:noindex
X-PUBLISHED-TTL:PT1H
BEGIN:VTIMEZONE
TZID:America/Chicago
BEGIN:DAYLIGHT
TZOFFSETFROM:-0600
TZOFFSETTO:-0500
TZNAME:CDT
DTSTART:20190310T080000
END:DAYLIGHT
BEGIN:STANDARD
TZOFFSETFROM:-0500
TZOFFSETTO:-0600
TZNAME:CST
DTSTART:20191103T070000
END:STANDARD
END:VTIMEZONE
BEGIN:VEVENT
DTSTART;TZID=America/Chicago:20191011T130000
DTEND;TZID=America/Chicago:20191011T130000
DTSTAMP:20260420T194650
CREATED:20191009T152637Z
LAST-MODIFIED:20191009T153002Z
UID:10001011-1570798800-1570798800@hbaofic.org
SUMMARY:Student-Built House Dedication and Open House
DESCRIPTION:Join us to recognize the hard work of the Student-Built House team and turn over keys to new owner Reach For Your Potential. Refreshments will be served. RSVP by end of day Oct. 11 to Karyl or Michelle.
URL:https://hbaofic.org/calendar/student-built-house-dedication-and-open-house/
LOCATION:2019 Student-Built House\, 2732 Farragut Lane\, Iowa City\, Iowa
ORGANIZER;CN="Greater Iowa City Area Home Builders Association":MAILTO:eo@hbaofic.org
END:VEVENT
BEGIN:VEVENT
DTSTART;TZID=America/Chicago:20191010T180000
DTEND;TZID=America/Chicago:20191010T200000
DTSTAMP:20260420T194650
CREATED:20190426T150554Z
LAST-MODIFIED:20191001T205325Z
UID:10000755-1570730400-1570737600@hbaofic.org
SUMMARY:October Kinnick Membership Meeting
DESCRIPTION:Join us at Kinnick Stadium overlooking the field for one of our more popular meetings of the year! FREE parking in lot 43 in front of the press box. Please enter the stadium at Gate D. \n \nEvent Sponsor: \n \nSpeaker Sponsor:                                                          \n \nSocial Sponsors:   \n                          \n                        \n 
URL:https://hbaofic.org/calendar/october-kinnick-membership-meeting/
LOCATION:Kinnick Stadium Skyboxes/Mediacom Outdoor Club\, 825 Stadium Dr\, Iowa City\, IA\, 52240\, United States
CATEGORIES:HBA Event
ORGANIZER;CN="Greater Iowa City Area Home Builders Association":MAILTO:eo@hbaofic.org
END:VEVENT
BEGIN:VEVENT
DTSTART;TZID=America/Chicago:20191010T170000
DTEND;TZID=America/Chicago:20191010T180000
DTSTAMP:20260420T194650
CREATED:20190829T163415Z
LAST-MODIFIED:20191001T205302Z
UID:10001007-1570726800-1570730400@hbaofic.org
SUMMARY:New Member Welcome Reception
DESCRIPTION:New members and Membership Drive Teams: Come early to our October Membership Meeting. New members will learn from existing members more about The Greater Iowa City Area HBA and how to get the most out of membership. Learn more about how to be part of our Membership 360 Drive.  NOTE: FREE parking in lot 43. Please enter the stadium at Gate D.
URL:https://hbaofic.org/calendar/new-member-welcome-reception/
LOCATION:Kinnick Stadium Skyboxes/Mediacom Outdoor Club\, 825 Stadium Dr\, Iowa City\, IA\, 52240\, United States
ORGANIZER;CN="Greater Iowa City Area Home Builders Association":MAILTO:eo@hbaofic.org
END:VEVENT
BEGIN:VEVENT
DTSTART;TZID=America/Chicago:20191008T120000
DTEND;TZID=America/Chicago:20191008T130000
DTSTAMP:20260420T194650
CREATED:20190301T171150Z
LAST-MODIFIED:20190301T171240Z
UID:10000993-1570536000-1570539600@hbaofic.org
SUMMARY:Remodelers Council Board Meeting
DESCRIPTION:The Remodelers Council meets the 2nd Tuesday of every other month – except August –  in the IC HBA’s Conference Room. \nLunch is provided for $5.
URL:https://hbaofic.org/calendar/remodelers-council-board-meeting-5/
LOCATION:Greater Iowa City Area HBA Conference Room\, 11 South Gilbert St\, Iowa City\, IA\, 52240\, United States
ORGANIZER;CN="Greater Iowa City Area Home Builders Association":MAILTO:eo@hbaofic.org
END:VEVENT
BEGIN:VEVENT
DTSTART;TZID=America/Chicago:20191007T090000
DTEND;TZID=America/Chicago:20191007T090000
DTSTAMP:20260420T194650
CREATED:20190925T214756Z
LAST-MODIFIED:20190925T215420Z
UID:10001010-1570438800-1570438800@hbaofic.org
SUMMARY:MidAmercian Energy New Construction Turnaround Program Discussion
DESCRIPTION:Come learn about MidAmerican Energy’s roll out of new gas distribution program that will improve construction turnaround time. The launch begins in October. Developers\, builders and any other interested members are welcome to attend. Coffee\, donuts and bagels will be served.  \nTo attend\, email karyl@hbaofic.org or michelle@hbaofic.org by Friday\, Oct. 4.
URL:https://hbaofic.org/calendar/midamercian-energy-new-construction-turnaround-program-discussion/
LOCATION:MidAmerican Energy\, 1630 Lower Muscatine Road\, Iowa City\, IA\, 52240
ORGANIZER;CN="Greater Iowa City Area Home Builders Association":MAILTO:eo@hbaofic.org
END:VEVENT
BEGIN:VEVENT
DTSTART;VALUE=DATE:20190925
DTEND;VALUE=DATE:20190928
DTSTAMP:20260420T194650
CREATED:20190809T201847Z
LAST-MODIFIED:20190829T162332Z
UID:10001006-1569373200-1569545999@hbaofic.org
SUMMARY:Membership 360 Campaign Drive Day
DESCRIPTION:Time to recruit!  \nWe’ve been trained\, now to make some phone calls! \n\nTime:  9 a.m. – 5 p.m.\, Both Days \nEach team member has a two-hour slot\, minimum. Pick what works for you.  \n\nThis year’s fall drive is part of NAHB’s Membership 360 Campaign\, a pilot initiative to help HBAs enhance their membership recruiting efforts during the fall drive. We’re only one of a few associations chosen nationwide to participate. Learn More. \n\n\n \n                 
URL:https://hbaofic.org/calendar/membership-360-campaign-drive-day/
LOCATION:Greater Iowa City HBA\, 11 S Gilbert Street\, Iowa City\, IA\, 52244\, United States
CATEGORIES:HBA Event
ORGANIZER;CN="Greater Iowa City Area Home Builders Association":MAILTO:eo@hbaofic.org
END:VEVENT
BEGIN:VEVENT
DTSTART;TZID=America/Chicago:20190924T170000
DTEND;TZID=America/Chicago:20190924T190000
DTSTAMP:20260420T194650
CREATED:20190301T165104Z
LAST-MODIFIED:20190809T182623Z
UID:10000748-1569344400-1569351600@hbaofic.org
SUMMARY:Remodelers Council Social
DESCRIPTION:Join us at host and sponsor Alexander Lumber’s new location! \n \n  \n 
URL:https://hbaofic.org/calendar/remodelers-social-2/
LOCATION:Alexander Lumber\, 4340 420th Street\, Iowa City\, IA\, 52240
CATEGORIES:HBA Event
ORGANIZER;CN="Greater Iowa City Area Home Builders Association":MAILTO:eo@hbaofic.org
END:VEVENT
BEGIN:VEVENT
DTSTART;TZID=America/Chicago:20190919T160000
DTEND;TZID=America/Chicago:20190919T170000
DTSTAMP:20260420T194650
CREATED:20190426T145905Z
LAST-MODIFIED:20190918T180026Z
UID:10001001-1568908800-1568912400@hbaofic.org
SUMMARY:Board of Directors Meeting
DESCRIPTION:
URL:https://hbaofic.org/calendar/board-of-directors-meeting-34/
LOCATION:Greater Iowa City Area HBA Conference Room\, 11 South Gilbert St\, Iowa City\, IA\, 52240\, United States
ORGANIZER;CN="Greater Iowa City Area Home Builders Association":MAILTO:eo@hbaofic.org
END:VEVENT
BEGIN:VEVENT
DTSTART;TZID=America/Chicago:20190917T160000
DTEND;TZID=America/Chicago:20190917T180000
DTSTAMP:20260420T194650
CREATED:20190731T140957Z
LAST-MODIFIED:20190809T182700Z
UID:10001003-1568736000-1568743200@hbaofic.org
SUMMARY:Women's Council Social
DESCRIPTION:Hosted and sponsored by: \n\nCheck out The Mansion’s new location and enjoy Mexican beers\, easy margaritas and small bites from Tap N Tacos on the patio (weather permitting.) Event proceeds support the Scholarship Fund. R.S.V.P by Friday\, Sept. 13 to karyl@hbaofic.org\, michelle@hbaofic.org or by calling the Iowa City Area HBA office. 
URL:https://hbaofic.org/calendar/womens-council-social-2/
LOCATION:The Mansion\, 501 12th Ave\, Suite 3\, Coralville\, Iowa\, 52241
CATEGORIES:HBA Event
ORGANIZER;CN="Greater Iowa City Area Home Builders Association":MAILTO:eo@hbaofic.org
END:VEVENT
BEGIN:VEVENT
DTSTART;TZID=America/Chicago:20190912T173000
DTEND;TZID=America/Chicago:20190912T193000
DTSTAMP:20260420T194650
CREATED:20190301T170247Z
LAST-MODIFIED:20190809T182717Z
UID:10000750-1568309400-1568316600@hbaofic.org
SUMMARY:Iowa City/Cedar Rapids Area HBAs Tailgate Party
DESCRIPTION:Gather with IC/CR Area HBA members to usher in fall\, network and enjoy drinks and appetizers courtesy of host and sponsor Kinzler Construction Services. \nFor reservations\, GCRHBA members contact eo@crhba.org and ICHBA members email karyl@hbaofic.org or michelle@hbaofic.org by Sept. 10.
URL:https://hbaofic.org/calendar/iowa-city-cedar-rapids-fall-mixer/
LOCATION:Kinzler Construction Services\, 9915 Atlantic Drive SW #100\, Cedar Rapids\, Iowa\, 52404
CATEGORIES:HBA Event
ORGANIZER;CN="Greater Iowa City Area Home Builders Association":MAILTO:eo@hbaofic.org
END:VEVENT
BEGIN:VEVENT
DTSTART;TZID=America/Chicago:20190830T120000
DTEND;TZID=America/Chicago:20190830T160000
DTSTAMP:20260420T194650
CREATED:20190809T201444Z
LAST-MODIFIED:20190816T152145Z
UID:10001005-1567166400-1567180800@hbaofic.org
SUMMARY:Membership 360 Campaign Training
DESCRIPTION:NAHB to Help with Fall Membership Drive! We Need you!\n \nIt’s Training Day!\nThe Greater Iowa City Area HBA has been selected to participate in NAHB’s Membership 360 Campaign\, a pilot initiative to help HBAs enhance their membership recruiting efforts during the fall drive. We’re only one of a few associations chosen nationwide. To make it effective\, we need members to be team leaders and team members. Learn More.\n\n \nPlease arrive by 11:40 a.m. to eat lunch and get settled. Lunch is sponsored by CBI Bank & Trust.\n \n                                                        
URL:https://hbaofic.org/calendar/membership-360-campaign-training/
LOCATION:Iowa City Area Association of Realtors\, 847 Quarry Road\, Suite #110\, Coralville\, IA\, United States
CATEGORIES:HBA Event
ORGANIZER;CN="Greater Iowa City Area Home Builders Association":MAILTO:eo@hbaofic.org
END:VEVENT
BEGIN:VEVENT
DTSTART;TZID=America/Chicago:20190826T180000
DTEND;TZID=America/Chicago:20190826T200000
DTSTAMP:20260420T194650
CREATED:20190809T174042Z
LAST-MODIFIED:20190809T182744Z
UID:10001004-1566842400-1566849600@hbaofic.org
SUMMARY:Young Professionals Network Social
DESCRIPTION:  \nCome mingle and get mentored. First round and appetizers are free\, thanks to our co-sponsors: \n             \nR.S.V.P by Wednesday\, Aug. 21 to karyl@hbaofic.org\, michelle@hbaofic.org or by calling the Iowa City Area HBA office.
URL:https://hbaofic.org/calendar/young-professionals-network-social/
LOCATION:Reds Ale House\, 405 N. Dubuque Street\, North Liberty\, Iowa\, 52317
CATEGORIES:HBA Event
ORGANIZER;CN="Greater Iowa City Area Home Builders Association":MAILTO:eo@hbaofic.org
END:VEVENT
BEGIN:VEVENT
DTSTART;TZID=America/Chicago:20190820T180000
DTEND;TZID=America/Chicago:20190820T180000
DTSTAMP:20260420T194650
CREATED:20190612T155119Z
LAST-MODIFIED:20200915T193031Z
UID:10000761-1566324000-1566324000@hbaofic.org
SUMMARY:BUILD-PAC Fundraiser
DESCRIPTION:Get Engaged in the Political Process to Elect Pro-Housing\, Pro-Business Candidates \nElections matter and have a lasting impact. BUILD-PAC\, the National Association of Home Builders’ (NAHB) bipartisan political arm\, supports federal-office candidates favorable to the home-building community and is critical to NAHB’s Capitol Hill success. Join us to learn more and help fill the coffers through one of four investment levels.  \nSpace is limited to 40 members! R.S.V.P. to Karyl or Michelle by Aug. 2. \nYou’ll Get:\n• Winery Tour with Tasting\n• Full Tasting with Appetizers\n• Buffet Meal with Drinks (Prime Rib\, Bourbon Chicken or Veggie)\n• Dessert \nBUILD-PAC Donor Options:\nNew Dollar-A-Day ($365)/Choose a bottle of wine.\nNew Gold Key ($1\,000)/Select wine or spirits.\nNew Platinum ($2\,500)/Take home half case of wine.\nNew Capital ($5\,000) Receive a full case of wine. \nTo learn more about BUILD-PAC\, click on the logo below. \n \nContributions to BUILD-PAC are completely voluntary. You may choose not to contribute without reprisal. Contributions to BUILD-PAC will be used for political purposes and are not tax deductible for federal income tax purposes. Federal law requires political action committees to report the name\, mailing address\, occupation and name of employer for each individual whose contributions exceed $200.00 in a calendar year. Foreign Nationals cannot contribute to BUILD-PAC
URL:https://hbaofic.org/calendar/build-pac-fundraiser/
LOCATION:Cedar Ridge Winery\, 1441 Marak Rd NW\, Swisher\, IA\, 52338\, United States
CATEGORIES:HBA Event
ORGANIZER;CN="Greater Iowa City Area Home Builders Association":MAILTO:eo@hbaofic.org
END:VEVENT
BEGIN:VEVENT
DTSTART;TZID=America/Chicago:20190815T120000
DTEND;TZID=America/Chicago:20190815T130000
DTSTAMP:20260420T194650
CREATED:20190426T150310Z
LAST-MODIFIED:20190607T160715Z
UID:10000754-1565870400-1565874000@hbaofic.org
SUMMARY:NO BOARD OF DIRECTORS MEETING
DESCRIPTION:
URL:https://hbaofic.org/calendar/board-of-directors-meeting-37/
LOCATION:Greater Iowa City Area HBA Conference Room\, 11 South Gilbert St\, Iowa City\, IA\, 52240\, United States
ORGANIZER;CN="Greater Iowa City Area Home Builders Association":MAILTO:eo@hbaofic.org
END:VEVENT
BEGIN:VEVENT
DTSTART;TZID=America/Chicago:20190813T080000
DTEND;TZID=America/Chicago:20190813T170000
DTSTAMP:20260420T194650
CREATED:20190301T171631Z
LAST-MODIFIED:20190301T171631Z
UID:10000994-1565683200-1565715600@hbaofic.org
SUMMARY:NO REMODELERS COUNCIL BOARD MEETING
DESCRIPTION:The Remodelers Council meets the 2nd Tuesday of every other month – except August –  in the IC HBA’s Conference Room. \nLunch is provided for $5.
URL:https://hbaofic.org/calendar/no-remodelers-council-board-meeting/
END:VEVENT
BEGIN:VEVENT
DTSTART;TZID=America/Chicago:20190731T113000
DTEND;TZID=America/Chicago:20190731T130000
DTSTAMP:20260420T194650
CREATED:20190702T150316Z
LAST-MODIFIED:20190702T170019Z
UID:10000762-1564572600-1564578000@hbaofic.org
SUMMARY:Lunch & Learn: Kirkwood Construction Technologist Program
DESCRIPTION:Enjoy lunch and hear about the new Construction Technologist Apprenticeship Program at Kirkwood Community College. Launched last January\, the curriculum is a Department of Labor recognized training program that provides an opportunity for individuals to enter the construction field and receive the core learning needed to be successful on the job. The Construction Technologist Apprenticeship program is one tool that construction employers of all types can use to address their workforce-shortage needs. If you are struggling to fill your open positions\, make plans to attend this luncheon to learn how your company can become involved. \nSpace is limited! RSVP by Monday\, July 30. \n \n  \n  \n  \n 
URL:https://hbaofic.org/calendar/lunch-learn-kirkwood-construction-technologist-program/
LOCATION:Kirkwood Regional Center\, 2301 Oakdale Blvd \, Coralville\, IA\, United States
ORGANIZER;CN="Greater Iowa City Area Home Builders Association":MAILTO:eo@hbaofic.org
END:VEVENT
BEGIN:VEVENT
DTSTART;TZID=America/Chicago:20190718T120000
DTEND;TZID=America/Chicago:20190718T130000
DTSTAMP:20260420T194650
CREATED:20190426T145719Z
LAST-MODIFIED:20190426T150002Z
UID:10001000-1563451200-1563454800@hbaofic.org
SUMMARY:Board of Directors Meeting
DESCRIPTION:
URL:https://hbaofic.org/calendar/board-of-directors-meeting-32/
LOCATION:Greater Iowa City Area HBA Conference Room\, 11 South Gilbert St\, Iowa City\, IA\, 52240\, United States
ORGANIZER;CN="Greater Iowa City Area Home Builders Association":MAILTO:eo@hbaofic.org
END:VEVENT
BEGIN:VEVENT
DTSTART;VALUE=DATE:20190709
DTEND;VALUE=DATE:20190711
DTSTAMP:20260420T194650
CREATED:20190301T164440Z
LAST-MODIFIED:20190620T133251Z
UID:10000747-1562634000-1562720399@hbaofic.org
SUMMARY:Nail Drivers Open
DESCRIPTION:Join us for the 2019 Nail Drivers Open!   \nCorporate Sponsor: \n \nRefreshments/Social Sponsors: \n                           \nBreakfast Sponsor:                                         Lunch Sponsor:\n                                                                                                                  \n                           Range Ball Sponsors:                                                    Mulligan Sponsor:   \n                                               \nHole Sponsors: \n                                       \n                                           Larry Yoder Masonry                            Siders Development                              \n  \nHole in One Sponsor:                     Spot the Sponsor:                 Water Sponsor: \n                                                   \n  \n  \n  \n  \n 
URL:https://hbaofic.org/calendar/nail-drivers-open-4/
LOCATION:Brown Deer Golf Club\, 1900 Country Club Dr.\, Coralville\, IA\, 52241\, United States
ORGANIZER;CN="Greater Iowa City Area Home Builders Association":MAILTO:eo@hbaofic.org
END:VEVENT
BEGIN:VEVENT
DTSTART;TZID=America/Chicago:20190620T100000
DTEND;TZID=America/Chicago:20190620T150000
DTSTAMP:20260420T194650
CREATED:20190521T165608Z
LAST-MODIFIED:20190521T165832Z
UID:10000757-1561024800-1561042800@hbaofic.org
SUMMARY:HBA of Iowa State Board Meeting
DESCRIPTION:
URL:https://hbaofic.org/calendar/hba-if-iowa-state-board-meeting/
LOCATION:Des Moines
ORGANIZER;CN="HBAI":MAILTO:jayiverson@hbaiowa.org
END:VEVENT
BEGIN:VEVENT
DTSTART;TZID=America/Chicago:20190619T120000
DTEND;TZID=America/Chicago:20190619T130000
DTSTAMP:20260420T194650
CREATED:20190329T163725Z
LAST-MODIFIED:20190521T165406Z
UID:10000996-1560945600-1560949200@hbaofic.org
SUMMARY:Board of Directors Meeting
DESCRIPTION:NOTE DIFFERENT DAY!
URL:https://hbaofic.org/calendar/board-of-directors-meeting-31/
LOCATION:Greater Iowa City Area HBA Conference Room\, 11 South Gilbert St\, Iowa City\, IA\, 52240\, United States
ORGANIZER;CN="Greater Iowa City Area Home Builders Association":MAILTO:eo@hbaofic.org
END:VEVENT
BEGIN:VEVENT
DTSTART;TZID=America/Chicago:20190618T173000
DTEND;TZID=America/Chicago:20190618T193000
DTSTAMP:20260420T194650
CREATED:20190508T215605Z
LAST-MODIFIED:20190618T173829Z
UID:10000756-1560879000-1560886200@hbaofic.org
SUMMARY:Young Professionals Social
DESCRIPTION:Join the Young Professionals of The Greater Iowa City Area HBA at our first event! \nEvery leader plays a paramount role in helping the community – whether local\, regional or national – work toward common future goals. As a young professional\, getting involved early on in your career means greater opportunity for generating positive impact. \nFirst Round courtesy of The Home Builders Association of Iowa. Appetizers sponsored by PSC Distribution/Studio H2O and Sobaski Abbey Carpet & Floor. \n                 
URL:https://hbaofic.org/calendar/young-professionals-network/
LOCATION:Tin Roost\, 840 W Penn St\, North Liberty\, IA\, 52317\, United States
CATEGORIES:HBA Event
ORGANIZER;CN="Greater Iowa City Area Home Builders Association":MAILTO:eo@hbaofic.org
END:VEVENT
BEGIN:VEVENT
DTSTART;TZID=America/Chicago:20190618T073000
DTEND;TZID=America/Chicago:20190618T083000
DTSTAMP:20260420T194650
CREATED:20190415T204442Z
LAST-MODIFIED:20190415T204442Z
UID:10000997-1560843000-1560846600@hbaofic.org
SUMMARY:Legislative Committee Meeting - Coffee with Nate Mueller\, Johnson County
DESCRIPTION:Have coffee with Nate Mueller\, Asst. PDS Director for Johnson County\, to learn about the development process and other happenings in the county.
URL:https://hbaofic.org/calendar/legislative-committee-meeting-coffee-with-nate-mueller-johnson-county-2/
LOCATION:Greater Iowa City Area HBA Conference Room\, 11 South Gilbert St\, Iowa City\, IA\, 52240\, United States
CATEGORIES:HBA Event
ORGANIZER;CN="Greater Iowa City Area Home Builders Association":MAILTO:eo@hbaofic.org
END:VEVENT
BEGIN:VEVENT
DTSTART;TZID=America/Chicago:20190611T120000
DTEND;TZID=America/Chicago:20190611T130000
DTSTAMP:20260420T194650
CREATED:20190301T170959Z
LAST-MODIFIED:20190301T171400Z
UID:10000752-1560254400-1560258000@hbaofic.org
SUMMARY:Remodelers Council Board Meeting
DESCRIPTION:The Remodelers Council meets the 2nd Tuesday of every other month – except August –  in the IC HBA’s Conference Room. \nLunch is provided for $5.
URL:https://hbaofic.org/calendar/remodelers-council-board-meeting-4/
LOCATION:Greater Iowa City Area HBA Conference Room\, 11 South Gilbert St\, Iowa City\, IA\, 52240\, United States
ORGANIZER;CN="Greater Iowa City Area Home Builders Association":MAILTO:eo@hbaofic.org
END:VEVENT
BEGIN:VEVENT
DTSTART;TZID=America/Chicago:20190609T120000
DTEND;TZID=America/Chicago:20190609T170000
DTSTAMP:20260420T194650
CREATED:20190301T163829Z
LAST-MODIFIED:20190418T175055Z
UID:10000746-1560081600-1560099600@hbaofic.org
SUMMARY:Parade of Homes
DESCRIPTION:Step Inside! \nTour beautiful new homes during the The 52nd Annual Parade of Homes. \nThe Parade of Homes is sponsored by Hills Bank and Urban Acres Real Estate. \n             \nAlexander Lumber is the official lumber sponsor of the 2019 Parade of Homes.
URL:https://hbaofic.org/calendar/parade-of-homes-16/
CATEGORIES:HBA Event
ORGANIZER;CN="Greater Iowa City Area Home Builders Association":MAILTO:eo@hbaofic.org
END:VEVENT
BEGIN:VEVENT
DTSTART;TZID=America/Chicago:20190608T100000
DTEND;TZID=America/Chicago:20190608T170000
DTSTAMP:20260420T194650
CREATED:20190301T163800Z
LAST-MODIFIED:20190418T175119Z
UID:10000745-1559988000-1560013200@hbaofic.org
SUMMARY:Parade of Homes
DESCRIPTION:Step Inside! \nTour beautiful new homes during the The 52nd Annual Parade of Homes. \nThe Parade of Homes is sponsored by Hills Bank and Urban Acres Real Estate. \n             \nAlexander Lumber is the official lumber sponsor of the 2019 Parade of Homes.
URL:https://hbaofic.org/calendar/parade-of-homes-15/
CATEGORIES:HBA Event
ORGANIZER;CN="Greater Iowa City Area Home Builders Association":MAILTO:eo@hbaofic.org
END:VEVENT
BEGIN:VEVENT
DTSTART;TZID=America/Chicago:20190606T173000
DTEND;TZID=America/Chicago:20190606T203000
DTSTAMP:20260420T194650
CREATED:20190301T163709Z
LAST-MODIFIED:20190418T175142Z
UID:10000744-1559842200-1559853000@hbaofic.org
SUMMARY:Parade of Homes
DESCRIPTION:Step Inside! \nTour beautiful new homes throughout the Iowa City Area during the 52nd Annual Parade of Homes. \nThe Parade of Homes is sponsored by Hills Bank and Urban Acres Real Estate. \n             \nAlexander Lumber is the official lumber sponsor of the 2019 Parade of Homes.
URL:https://hbaofic.org/calendar/parade-of-homes-14/
CATEGORIES:HBA Event
ORGANIZER;CN="Greater Iowa City Area Home Builders Association":MAILTO:eo@hbaofic.org
END:VEVENT
BEGIN:VEVENT
DTSTART;TZID=America/Chicago:20190604T173000
DTEND;TZID=America/Chicago:20190604T203000
DTSTAMP:20260420T194650
CREATED:20190301T163531Z
LAST-MODIFIED:20190418T175208Z
UID:10000743-1559669400-1559680200@hbaofic.org
SUMMARY:Parade of Homes
DESCRIPTION:Step Inside! \nTour beautiful new homes throughout the Iowa City Area during the 52nd Annual Parade of Homes. \nThe Parade of Homes is sponsored by Hills Bank and Urban Acres Real Estate. \n             \nAlexander Lumber is the official lumber sponsor of the 2019 Parade of Homes.
URL:https://hbaofic.org/calendar/parade-of-homes-13/
CATEGORIES:HBA Event
END:VEVENT
BEGIN:VEVENT
DTSTART;TZID=America/Chicago:20190602T120000
DTEND;TZID=America/Chicago:20190602T170000
DTSTAMP:20260420T194650
CREATED:20190301T163338Z
LAST-MODIFIED:20190418T175234Z
UID:10000992-1559476800-1559494800@hbaofic.org
SUMMARY:Parade of Homes/Remodelers Parade
DESCRIPTION:Step Inside! \nTour beautiful new and remodeled homes throughout the Iowa City Area during the 52nd Annual Parade of Homes and 22nd Annual Remodelers Parade. \nThe Parade of Homes is sponsored by Hills Bank and Urban Acres Real Estate. \n             \nAlexander Lumber is the official lumber sponsor of the 2019 Parade of Homes.
URL:https://hbaofic.org/calendar/parade-of-homes-remodelers-parade-2/
CATEGORIES:HBA Event
ORGANIZER;CN="Greater Iowa City Area Home Builders Association":MAILTO:eo@hbaofic.org
END:VEVENT
BEGIN:VEVENT
DTSTART;TZID=America/Chicago:20190601T100000
DTEND;TZID=America/Chicago:20190601T170000
DTSTAMP:20260420T194650
CREATED:20190301T163250Z
LAST-MODIFIED:20190418T175252Z
UID:10000991-1559383200-1559408400@hbaofic.org
SUMMARY:Parade of Homes/Remodelers Parade
DESCRIPTION:Step Inside! \nTour beautiful new and remodeled homes throughout the Iowa City Area during the 52nd Annual Parade of Homes and 22nd Annual Remodelers Parade. \nThe Parade of Homes is sponsored by Hills Bank and Urban Acres Real Estate. \n             \nAlexander Lumber is the official lumber sponsor of the 2019 Parade of Homes.
URL:https://hbaofic.org/calendar/parade-of-homes-remodelers-parade/
LOCATION:Greater Iowa City Area HBA Conference Room\, 11 South Gilbert St\, Iowa City\, IA\, 52240\, United States
CATEGORIES:HBA Event
END:VEVENT
BEGIN:VEVENT
DTSTART;TZID=America/Chicago:20190531T110000
DTEND;TZID=America/Chicago:20190531T133000
DTSTAMP:20260420T194650
CREATED:20190418T173048Z
LAST-MODIFIED:20200505T191639Z
UID:10000999-1559300400-1559309400@hbaofic.org
SUMMARY:Parade of Homes Member Lunch
DESCRIPTION:Take a break from the tour and enjoy lunch sponsored by Hills Bank. \nThe Parade of Homes is sponsored by: \n                                                            CORPORATE \n                                     \n  \n                   BIKE RIDE                                                             TICKET \n                           \n                                                        POKER RUN \n                         \n         MEMBER LUNCH                                           MAP APP & BREAKFAST   \n                                           \n        $500 GIVEAWAY                                                             LUMBER               \n                                                                     \n        VIRTUAL TOUR                                                               AWARDS \n                             \n 
URL:https://hbaofic.org/calendar/parade-of-homes-member-lunch/
LOCATION:Hills Bank\, 590 W Forevergreen Rd\, North Liberty\, IA\, United States
ORGANIZER;CN="Greater Iowa City Area Home Builders Association":MAILTO:eo@hbaofic.org
END:VEVENT
END:VCALENDAR