BEGIN:VCALENDAR
VERSION:2.0
PRODID:-//The Greater Iowa City Home Builders Association  - ECPv6.11.2//NONSGML v1.0//EN
CALSCALE:GREGORIAN
METHOD:PUBLISH
X-WR-CALNAME:The Greater Iowa City Home Builders Association 
X-ORIGINAL-URL:https://hbaofic.org
X-WR-CALDESC:Events for The Greater Iowa City Home Builders Association 
REFRESH-INTERVAL;VALUE=DURATION:PT1H
X-Robots-Tag:noindex
X-PUBLISHED-TTL:PT1H
BEGIN:VTIMEZONE
TZID:America/Chicago
BEGIN:DAYLIGHT
TZOFFSETFROM:-0600
TZOFFSETTO:-0500
TZNAME:CDT
DTSTART:20180311T080000
END:DAYLIGHT
BEGIN:STANDARD
TZOFFSETFROM:-0500
TZOFFSETTO:-0600
TZNAME:CST
DTSTART:20181104T070000
END:STANDARD
BEGIN:DAYLIGHT
TZOFFSETFROM:-0600
TZOFFSETTO:-0500
TZNAME:CDT
DTSTART:20190310T080000
END:DAYLIGHT
BEGIN:STANDARD
TZOFFSETFROM:-0500
TZOFFSETTO:-0600
TZNAME:CST
DTSTART:20191103T070000
END:STANDARD
END:VTIMEZONE
BEGIN:VEVENT
DTSTART;TZID=America/Chicago:20190117T120000
DTEND;TZID=America/Chicago:20190117T130000
DTSTAMP:20260420T213143
CREATED:20181123T200253Z
LAST-MODIFIED:20181123T200253Z
UID:10000739-1547726400-1547730000@hbaofic.org
SUMMARY:Board of Directors Meeting
DESCRIPTION:
URL:https://hbaofic.org/calendar/board-of-directors-meeting-23/
ORGANIZER;CN="Greater Iowa City Area Home Builders Association":MAILTO:eo@hbaofic.org
END:VEVENT
BEGIN:VEVENT
DTSTART;VALUE=DATE:20190115
DTEND;VALUE=DATE:20190117
DTSTAMP:20260420T213143
CREATED:20181123T193500Z
LAST-MODIFIED:20181123T200539Z
UID:10000730-1547514000-1547600399@hbaofic.org
SUMMARY:Second Deadline for Parade of Homes Applications
DESCRIPTION:
URL:https://hbaofic.org/calendar/second-deadline-for-parade-of-homes-applications/
ORGANIZER;CN="Greater Iowa City Area Home Builders Association":MAILTO:eo@hbaofic.org
END:VEVENT
BEGIN:VEVENT
DTSTART;TZID=America/Chicago:20190101T080000
DTEND;TZID=America/Chicago:20190101T170000
DTSTAMP:20260420T213143
CREATED:20181228T204554Z
LAST-MODIFIED:20181228T204554Z
UID:10000974-1546329600-1546362000@hbaofic.org
SUMMARY:Office Closed - Happy New Year!
DESCRIPTION:Happy New Year from The Greater Iowa City Area Home Builders Association!
URL:https://hbaofic.org/calendar/office-closed-happy-new-year/
END:VEVENT
BEGIN:VEVENT
DTSTART;VALUE=DATE:20181231
DTEND;VALUE=DATE:20190102
DTSTAMP:20260420T213143
CREATED:20181123T193410Z
LAST-MODIFIED:20181228T205608Z
UID:10000728-1546218000-1546304399@hbaofic.org
SUMMARY:First Deadline for Parade of Homes Applications
DESCRIPTION:Sponsored by Hills Bank and Trust Company and Urban Acres Real Estate \n \n  
URL:https://hbaofic.org/calendar/first-deadline-for-parade-of-homes-applications/
ORGANIZER;CN="Greater Iowa City Area Home Builders Association":MAILTO:eo@hbaofic.org
END:VEVENT
BEGIN:VEVENT
DTSTART;VALUE=DATE:20181224
DTEND;VALUE=DATE:20181227
DTSTAMP:20260420T213143
CREATED:20181123T193105Z
LAST-MODIFIED:20181123T193204Z
UID:10000726-1545613200-1545785999@hbaofic.org
SUMMARY:Office Closed for Holiday
DESCRIPTION:
URL:https://hbaofic.org/calendar/office-closed-for-holiday/
END:VEVENT
BEGIN:VEVENT
DTSTART;TZID=America/Chicago:20181220T120000
DTEND;TZID=America/Chicago:20181220T130000
DTSTAMP:20260420T213143
CREATED:20180214T190430Z
LAST-MODIFIED:20180214T190430Z
UID:10000696-1545307200-1545310800@hbaofic.org
SUMMARY:Board of Directors Meeting
DESCRIPTION:
URL:https://hbaofic.org/calendar/board-of-directors-meeting-27/
LOCATION:Greater Iowa City Area HBA Conference Room\, 11 South Gilbert St\, Iowa City\, IA\, 52240\, United States
ORGANIZER;CN="Greater Iowa City Area Home Builders Association":MAILTO:eo@hbaofic.org
END:VEVENT
BEGIN:VEVENT
DTSTART;TZID=America/Chicago:20181218T073000
DTEND;TZID=America/Chicago:20181218T083000
DTSTAMP:20260420T213143
CREATED:20180214T192042Z
LAST-MODIFIED:20180214T192042Z
UID:10000922-1545118200-1545121800@hbaofic.org
SUMMARY:Legislative Committee Meeting
DESCRIPTION:
URL:https://hbaofic.org/calendar/legislative-committee-meeting-6/
LOCATION:Greater Iowa City Area HBA Conference Room\, 11 South Gilbert St\, Iowa City\, IA\, 52240\, United States
ORGANIZER;CN="Greater Iowa City Area Home Builders Association":MAILTO:eo@hbaofic.org
END:VEVENT
BEGIN:VEVENT
DTSTART;TZID=America/Chicago:20181213T083000
DTEND;TZID=America/Chicago:20181213T170000
DTSTAMP:20260420T213143
CREATED:20180924T191938Z
LAST-MODIFIED:20181031T222302Z
UID:10000962-1544689800-1544720400@hbaofic.org
SUMMARY:Details & Solutions for Livable Homes and Aging In Place (CAPS III)
DESCRIPTION:This course builds on the CAPS I & II courses (which are prerequisites) by introducing design solution techniques\, innovative products and best practices for product installation for CAPS professionals to use when creating livable spaces in which to age in place. Participants will engage in hands-on activities from real case studies to apply material learned in all CAPS courses. \nBy completing this course\, participants will be able to: \n\nCreate comprehensive designs for aging in place projects.\nBecome familiar with available innovative and specialized products.\nPractice design and installation for key components of in AIP home design.\nImplement techniques of budget integration into design and product selection\nIdentify common missteps for design and installation of AIP solutions.\nReview and apply solutions for common single-room modifications cases\nIdentify common installation considerations for modifications of a specified space.\nPrioritize solutions in a whole house multi-generational case study while being compliant with budgetary constraints with consideration given to phased construction application.\nPrioritize individual tasks relative to a projects budget and urgency\n\n\n\n\n\n\n\n\n\n\n\n \nThis course qualifies for: •6 NAHB CE for: CAPS\, CGA\, CGB\, CGR\, GMB\, CSP\, Master CSP\, CMP\, MIRM\n \n\nThe fee is $345 with a $100 discount for members of The Greater Iowa City Area Home Builders Association.\n  
URL:https://hbaofic.org/calendar/details-solutions-for-livable-homes-and-aging-in-place-caps-iii/
LOCATION:Iowa City Area Association of Realtors\, 847 Quarry Road\, Suite #110\, Coralville\, IA\, United States
CATEGORIES:HBA Event
ORGANIZER;CN="Greater Iowa City Area Home Builders Association":MAILTO:eo@hbaofic.org
END:VEVENT
BEGIN:VEVENT
DTSTART;TZID=America/Chicago:20181211T120000
DTEND;TZID=America/Chicago:20181211T130000
DTSTAMP:20260420T213143
CREATED:20180214T191131Z
LAST-MODIFIED:20180214T191131Z
UID:10000911-1544529600-1544533200@hbaofic.org
SUMMARY:Remodelers Council Meeting
DESCRIPTION:
URL:https://hbaofic.org/calendar/remodelers-council-meeting-7/
LOCATION:Greater Iowa City Area HBA Conference Room\, 11 South Gilbert St\, Iowa City\, IA\, 52240\, United States
ORGANIZER;CN="Greater Iowa City Area Home Builders Association":MAILTO:eo@hbaofic.org
END:VEVENT
BEGIN:VEVENT
DTSTART;TZID=America/Chicago:20181206T180000
DTEND;TZID=America/Chicago:20181206T200000
DTSTAMP:20260420T213144
CREATED:20181018T185520Z
LAST-MODIFIED:20181112T193517Z
UID:10000970-1544119200-1544126400@hbaofic.org
SUMMARY:Holiday Party
DESCRIPTION:Join The Greater Iowa City Area Home Builders Association and the Iowa City Area Association of Realtors for the Holiday! \nThank you to our sponsors! \nBar Sponsor: The University of Iowa Community Credit Union \n \nAppetizer Sponsors: Insurance Associates of Iowa City\, Radon Elimination Professionals\, Alexander Lumber\, CBI Bank & Trust and Hawkeye Title & Settlement \n                              \nSocial Sponsors: AW Welt Ambrisco Insurance; Bachmeier Carpet One Floor & Home; Ferguson Bath\, Kitchen & Lighting Gallery; Greiner Buildings; Kitchens By Design; Knebel Windows\, Inc; LattaHarris\, LLP; Martin Construction; Pugh Hagan Prahm PLC; Residential Mortgage Network Inc; and Sobsaski Abbey Carpet & Floor   \n                                \n                                   \nPrinting Sponsor: PIP Printing \nEntertainment Sponsor: MidWestOne Bank \n \n 
URL:https://hbaofic.org/calendar/holiday-party-5/
LOCATION:The University Club\, 1360 Melrose Avenue\, Iowa City\, IA\, 52246
CATEGORIES:HBA Event
ORGANIZER;CN="Greater Iowa City Area Home Builders Association":MAILTO:eo@hbaofic.org
END:VEVENT
BEGIN:VEVENT
DTSTART;VALUE=DATE:20181122
DTEND;VALUE=DATE:20181125
DTSTAMP:20260420T213144
CREATED:20181003T181054Z
LAST-MODIFIED:20181003T181054Z
UID:10000966-1542848400-1543021199@hbaofic.org
SUMMARY:Office Closed for Thanksgiving
DESCRIPTION:
URL:https://hbaofic.org/calendar/office-closed-for-thanksgiving/
END:VEVENT
BEGIN:VEVENT
DTSTART;TZID=America/Chicago:20181120T073000
DTEND;TZID=America/Chicago:20181120T083000
DTSTAMP:20260420T213144
CREATED:20181031T204618Z
LAST-MODIFIED:20181031T204728Z
UID:10000724-1542699000-1542702600@hbaofic.org
SUMMARY:Coffee with MidAmerican Energy
DESCRIPTION:Kevin Whitty and Jason Warren with MidAmerican Energy will discuss new construction turnaround time as well as answer any questions you may have.
URL:https://hbaofic.org/calendar/coffee-with-midamerican-energy/
LOCATION:Greater Iowa City Area HBA Conference Room\, 11 South Gilbert St\, Iowa City\, IA\, 52240\, United States
CATEGORIES:HBA Event
ORGANIZER;CN="Greater Iowa City Area Home Builders Association":MAILTO:eo@hbaofic.org
END:VEVENT
BEGIN:VEVENT
DTSTART;TZID=America/Chicago:20181116T120000
DTEND;TZID=America/Chicago:20181116T160000
DTSTAMP:20260420T213144
CREATED:20181003T180955Z
LAST-MODIFIED:20181003T180955Z
UID:10000965-1542369600-1542384000@hbaofic.org
SUMMARY:HBAI Fall Board Meeting
DESCRIPTION:
URL:https://hbaofic.org/calendar/hbai-fall-board-meeting/
LOCATION:Sioux City\, IA
END:VEVENT
BEGIN:VEVENT
DTSTART;TZID=America/Chicago:20181115T120000
DTEND;TZID=America/Chicago:20181115T130000
DTSTAMP:20260420T213144
CREATED:20181003T180236Z
LAST-MODIFIED:20181003T182007Z
UID:10000964-1542283200-1542286800@hbaofic.org
SUMMARY:Board of Directors Meeting
DESCRIPTION:
URL:https://hbaofic.org/calendar/board-of-directors-meeting-21/
LOCATION:Greater Iowa City Area HBA Conference Room\, 11 South Gilbert St\, Iowa City\, IA\, 52240\, United States
ORGANIZER;CN="Greater Iowa City Area Home Builders Association":MAILTO:eo@hbaofic.org
END:VEVENT
BEGIN:VEVENT
DTSTART;TZID=America/Chicago:20181115T103000
DTEND;TZID=America/Chicago:20181115T113000
DTSTAMP:20260420T213144
CREATED:20181003T175610Z
LAST-MODIFIED:20181003T181911Z
UID:10000963-1542277800-1542281400@hbaofic.org
SUMMARY:Vocational Training Council Meeting
DESCRIPTION:
URL:https://hbaofic.org/calendar/vocational-training-council-meeting-2/
LOCATION:Greater Iowa City Area HBA Conference Room\, 11 South Gilbert St\, Iowa City\, IA\, 52240\, United States
ORGANIZER;CN="Greater Iowa City Area Home Builders Association":MAILTO:eo@hbaofic.org
END:VEVENT
BEGIN:VEVENT
DTSTART;TZID=America/Chicago:20181106T160000
DTEND;TZID=America/Chicago:20181106T170000
DTSTAMP:20260420T213144
CREATED:20181031T204354Z
LAST-MODIFIED:20181031T204354Z
UID:10000722-1541520000-1541523600@hbaofic.org
SUMMARY:Women's Council - Holiday Party Planning Committee
DESCRIPTION:Help us plan this fabulous event!  \nOr\, contact Karyl or Michelle to donate an item for the Silent Auction or Wine/Whiskey trees.
URL:https://hbaofic.org/calendar/womens-council-holiday-party-planning-committee/
LOCATION:Brix Cheese Shop and Wine Bar\, 209 N. Linn St\, Iowa City\, IA\, 52240\, United States
CATEGORIES:HBA Event
ORGANIZER;CN="Greater Iowa City Area Home Builders Association":MAILTO:eo@hbaofic.org
END:VEVENT
BEGIN:VEVENT
DTSTART;TZID=America/Chicago:20181106T080000
DTEND;TZID=America/Chicago:20181106T090000
DTSTAMP:20260420T213144
CREATED:20181031T204031Z
LAST-MODIFIED:20181031T204031Z
UID:10000971-1541491200-1541494800@hbaofic.org
SUMMARY:Coffee with Neil Bombei\, CBO - Lead Building Inspector\, Johnson County Planning\, Development & Sustainability Department
DESCRIPTION:Discuss the Johnson County 2018 Building Code Adoption
URL:https://hbaofic.org/calendar/coffee-with-neil-bombei-cbo-lead-building-inspector-johnson-county-planning-development-sustainability-department/
LOCATION:Greater Iowa City Area HBA Conference Room\, 11 South Gilbert St\, Iowa City\, IA\, 52240\, United States
CATEGORIES:HBA Event
ORGANIZER;CN="Greater Iowa City Area Home Builders Association":MAILTO:eo@hbaofic.org
END:VEVENT
BEGIN:VEVENT
DTSTART;TZID=America/Chicago:20181101T180000
DTEND;TZID=America/Chicago:20181101T200000
DTSTAMP:20260420T213144
CREATED:20180829T154513Z
LAST-MODIFIED:20181011T151215Z
UID:10000958-1541095200-1541102400@hbaofic.org
SUMMARY:Annual Meeting
DESCRIPTION:Join us at Urban Acres to celebrate the accomplishments of 2018 and recognize the coming year. You’ll vote in your 2019 Board of Directors! \n \nThank you to our sponsors! \nEvent Sponsor: \n \nSocial Sponsors: \n       \n   
URL:https://hbaofic.org/calendar/annual-meeting-5/
LOCATION:Urban Acres\, 250 Holiday Road\, Coralville\, IA\, 52241
CATEGORIES:HBA Event
ORGANIZER;CN="Greater Iowa City Area Home Builders Association":MAILTO:eo@hbaofic.org
END:VEVENT
BEGIN:VEVENT
DTSTART;TZID=America/Chicago:20181025T080000
DTEND;TZID=America/Chicago:20181025T170000
DTSTAMP:20260420T213144
CREATED:20180802T211343Z
LAST-MODIFIED:20180802T211343Z
UID:10000951-1540454400-1540486800@hbaofic.org
SUMMARY:Iowa Valley Habitat for Humanity Remodelers Council Build Day
DESCRIPTION:The Women Build Committee has selected Katie Lammers as honoree for the 10th Women Build home located right in the heart of Iowa City at 924 North Governor Street. Parking is available across the one-way street at 911 North Governor Street. Men are welcome to build with us as “MENtors” while we focus on empowering women. We have all of the training\, tools and equipment you need and we will teach you everything you need to know to help us complete this affordable home alongside the qualified\, first-time homebuyer. Construction site age restrictions: All volunteers must be at least 16 years old. Those under 18 must have parent/guardian consent to participate on an active construction site. Sixteen and 17 year old youth cannot use power tools and cannot get more than 6 feet off the ground. If you are under 18\, it is best to contact the volunteer coordinator in advance to determine the tasks that will be completed during your shift. Clothing: Wear comfortable\, layered\, weather appropriate clothing. Closed-toe shoes are required. \nRSVP to Karyl@HBAofIC.org with your first and last name\, email address\, shift selected (8:00 – 12:00 or 1:00 – 5:00)\, t-shirt size and any dietary restrictions you may have.
URL:https://hbaofic.org/calendar/iowa-valley-habitat-for-humanity-remodelers-council-build-day/
LOCATION:Iowa Valley Habitat for Humanity Women Build\, 1605 Prairie Du Chien Rd\, Iowa City\, IA\, United States
CATEGORIES:HBA Event
ORGANIZER;CN="Greater Iowa City Area Home Builders Association":MAILTO:eo@hbaofic.org
END:VEVENT
BEGIN:VEVENT
DTSTART;TZID=America/Chicago:20181024T120000
DTEND;TZID=America/Chicago:20181024T130000
DTSTAMP:20260420T213144
CREATED:20181003T181545Z
LAST-MODIFIED:20181003T181751Z
UID:10000967-1540382400-1540386000@hbaofic.org
SUMMARY:Home Show Committee Meeting
DESCRIPTION:
URL:https://hbaofic.org/calendar/home-show-committee-meeting-3/
LOCATION:Greater Iowa City Area HBA Conference Room\, 11 South Gilbert St\, Iowa City\, IA\, 52240\, United States
ORGANIZER;CN="Greater Iowa City Area Home Builders Association":MAILTO:eo@hbaofic.org
END:VEVENT
BEGIN:VEVENT
DTSTART;TZID=America/Chicago:20181024T073000
DTEND;TZID=America/Chicago:20181024T083000
DTSTAMP:20260420T213144
CREATED:20181005T205335Z
LAST-MODIFIED:20181005T205335Z
UID:10000969-1540366200-1540369800@hbaofic.org
SUMMARY:Coffee and Conversation with Kirk Lehmann-City of Iowa City Community Development Planner
DESCRIPTION:Join us for a discussion about identifying public and private practices that may be barriers to fair housing choice and developing solutions to address them.
URL:https://hbaofic.org/calendar/coffee-and-conversation-with-kirk-lehmann-city-of-iowa-city-community-development-planner/
LOCATION:Greater Iowa City Area HBA Conference Room\, 11 South Gilbert St\, Iowa City\, IA\, 52240\, United States
ORGANIZER;CN="Greater Iowa City Area Home Builders Association":MAILTO:eo@hbaofic.org
END:VEVENT
BEGIN:VEVENT
DTSTART;TZID=America/Chicago:20181023T160000
DTEND;TZID=America/Chicago:20181023T180000
DTSTAMP:20260420T213144
CREATED:20180829T154202Z
LAST-MODIFIED:20180910T140216Z
UID:10000956-1540310400-1540317600@hbaofic.org
SUMMARY:Women's Council Lighten Up
DESCRIPTION:Learn how to lighten up at illuminate’s new showroom in North Liberty. \nRelax with a glass of wine\, learn about oils and make bath salts to take home while you tour illuminate’s new showroom! \nHosted by  \nThe cost is $15/person with proceeds going to the Women’s Council Scholarship Fund. \nRSVP to Karyl@HBAofIC.org or call (319) 351-5333 by Friday Oct. 19
URL:https://hbaofic.org/calendar/womens-council-seminar-social/
LOCATION:Illuminate Lighting\, 565 Cameron Way\, Suite 101\, North Liberty\, IA\, 52317\, United States
CATEGORIES:HBA Event
ORGANIZER;CN="Greater Iowa City Area Home Builders Association":MAILTO:eo@hbaofic.org
END:VEVENT
BEGIN:VEVENT
DTSTART;TZID=America/Chicago:20181018T120000
DTEND;TZID=America/Chicago:20181018T130000
DTSTAMP:20260420T213144
CREATED:20180214T190315Z
LAST-MODIFIED:20180214T190315Z
UID:10000694-1539864000-1539867600@hbaofic.org
SUMMARY:Board of Directors Meeting
DESCRIPTION:
URL:https://hbaofic.org/calendar/board-of-directors-meeting-25/
LOCATION:Greater Iowa City Area HBA Conference Room\, 11 South Gilbert St\, Iowa City\, IA\, 52240\, United States
ORGANIZER;CN="Greater Iowa City Area Home Builders Association":MAILTO:eo@hbaofic.org
END:VEVENT
BEGIN:VEVENT
DTSTART;TZID=America/Chicago:20181017T120000
DTEND;TZID=America/Chicago:20181017T130000
DTSTAMP:20260420T213144
CREATED:20181005T202136Z
LAST-MODIFIED:20181005T202136Z
UID:10000968-1539777600-1539781200@hbaofic.org
SUMMARY:VTC 2019 Student Built House Planning Meeting
DESCRIPTION:
URL:https://hbaofic.org/calendar/vtc-2019-student-built-house-planning-meeting/
LOCATION:Greater Iowa City Area HBA Conference Room\, 11 South Gilbert St\, Iowa City\, IA\, 52240\, United States
CATEGORIES:HBA Event
ORGANIZER;CN="Greater Iowa City Area Home Builders Association":MAILTO:eo@hbaofic.org
END:VEVENT
BEGIN:VEVENT
DTSTART;TZID=America/Chicago:20181016T073000
DTEND;TZID=America/Chicago:20181016T083000
DTSTAMP:20260420T213144
CREATED:20180214T192005Z
LAST-MODIFIED:20180214T192005Z
UID:10000921-1539675000-1539678600@hbaofic.org
SUMMARY:Legislative Committee Meeting
DESCRIPTION:
URL:https://hbaofic.org/calendar/legislative-committee-meeting-5/
LOCATION:Greater Iowa City Area HBA Conference Room\, 11 South Gilbert St\, Iowa City\, IA\, 52240\, United States
ORGANIZER;CN="Greater Iowa City Area Home Builders Association":MAILTO:eo@hbaofic.org
END:VEVENT
BEGIN:VEVENT
DTSTART;TZID=America/Chicago:20181012T080000
DTEND;TZID=America/Chicago:20181012T170000
DTSTAMP:20260420T213144
CREATED:20180802T211241Z
LAST-MODIFIED:20180911T163740Z
UID:10000949-1539331200-1539363600@hbaofic.org
SUMMARY:Iowa Valley Habitat for Humanity IC Area HBA Member Build Day - Rain Date
DESCRIPTION:The September 7 Build Day has been re-scheduled for October 12! \nThe Women Build Committee has selected Katie Lammers as honoree for the 10th Women Build home located right in the heart of Iowa City at 924 North Governor Street. Parking is available across the one-way street at 911 North Governor Street. Men are welcome to build with us as “MENtors” while we focus on empowering women. We have all of the training\, tools and equipment you need and we will teach you everything you need to know to help us complete this affordable home alongside the qualified\, first-time homebuyer. Construction site age restrictions: All volunteers must be at least 16 years old. Those under 18 must have parent/guardian consent to participate on an active construction site. Sixteen and 17 year old youth cannot use power tools and cannot get more than 6 feet off the ground. If you are under 18\, it is best to contact the volunteer coordinator in advance to determine the tasks that will be completed during your shift. Clothing: Wear comfortable\, layered\, weather appropriate clothing. Closed-toe shoes are required. \nRSVP to Karyl@HBAofIC.org with your first and last name\, email address\, shift selected (8:00 – 12:00 or 1:00 – 5:00)\, t-shirt size and any dietary restrictions you may have.
URL:https://hbaofic.org/calendar/iowa-valley-habitat-for-humanity-ic-area-hba-member-build-day/
LOCATION:Iowa Valley Habitat for Humanity Women Build\, 1605 Prairie Du Chien Rd\, Iowa City\, IA\, United States
CATEGORIES:HBA Event
ORGANIZER;CN="Greater Iowa City Area Home Builders Association":MAILTO:eo@hbaofic.org
END:VEVENT
BEGIN:VEVENT
DTSTART;TZID=America/Chicago:20181011T180000
DTEND;TZID=America/Chicago:20181011T200000
DTSTAMP:20260420T213144
CREATED:20180829T153355Z
LAST-MODIFIED:20180924T192412Z
UID:10000954-1539280800-1539288000@hbaofic.org
SUMMARY:October Meeting at Kinnick Stadium
DESCRIPTION:Network with HBA members in the Kinnick Mediacom Club! \nCoach Terry Brands\, Associate Head Wrestling Coach of the Iowa Hawkeyes and two-time World Champion\, will be our speaker for the evening. \nSpeaker Sponsor: CBI Bank & Trust \n \nThank you to our Social Sponsors! \n    \n   \n                            \nRaffle Sponsor: \n    \nWith Proceeds Going to The Red Shamrock Foundation
URL:https://hbaofic.org/calendar/october-general-membership-meeting-3/
LOCATION:Kinnick Stadium Skyboxes/Mediacom Outdoor Club\, 825 Stadium Dr\, Iowa City\, IA\, 52240\, United States
CATEGORIES:HBA Event
ORGANIZER;CN="Greater Iowa City Area Home Builders Association":MAILTO:eo@hbaofic.org
END:VEVENT
BEGIN:VEVENT
DTSTART;TZID=America/Chicago:20181009T113000
DTEND;TZID=America/Chicago:20181009T123000
DTSTAMP:20260420T213144
CREATED:20180214T191052Z
LAST-MODIFIED:20181003T204155Z
UID:10000909-1539084600-1539088200@hbaofic.org
SUMMARY:Remodelers Council Meeting
DESCRIPTION:What? \nYou can make an impact on the future of the ACE workforce. Join us to further the ACE industry \nthrough this Education and Industry collaboration event. \nWhen? \nOctober 9th from 8am – 3pm \n8:00am-11:00 Conference (The Hotel- Kirkwood) \n Learn about ACE resources to address workforce issues. \n Collaborate to develop a spring event for students. \n Network with K-12 Educators and ACE Industry employers. \n11:30am-12:30pm Lunch and Career Fair (Jones Hall) \n Table provided for industry employers wishing to participate in the career fair. \n12:30p-3:00 Visit to local HS programs (TBD by proximity of your company) \nWhere? \nThe event will kick off at 8 am at the The Hotel- Kirkwood located at: 7725 Kirkwood Blvd\, SW Cedar Rapids. \nLunch and the career fair will be at Jones Hall on the Kirkwood Campus.
URL:https://hbaofic.org/calendar/remodelers-council-meeting-6/
LOCATION:Kirkwood Community College\, Jones Hall\, Cedar Rapids\, IA\, United States
CATEGORIES:Exhibitor,HBA Event
ORGANIZER;CN="Greater Iowa City Area Home Builders Association":MAILTO:eo@hbaofic.org
END:VEVENT
BEGIN:VEVENT
DTSTART;TZID=America/Chicago:20181001T150000
DTEND;TZID=America/Chicago:20181001T170000
DTSTAMP:20260420T213144
CREATED:20180910T141157Z
LAST-MODIFIED:20180910T141157Z
UID:10000960-1538406000-1538413200@hbaofic.org
SUMMARY:Student Built House Dedication
DESCRIPTION:Come celebrate a job well done by the local students and members of The Greater Iowa City Area Home Builders Association! \nJoin us at 1881 Dickenson Lane\, Iowa City for refreshments while we hand the keys to Reach for Your Potential and recognize the students’ hard work.
URL:https://hbaofic.org/calendar/student-built-house-dedication/
LOCATION:Student Built House Site\, 1881 Dickenson Lane\, Iowa City\, IA\, 52240\, United States
CATEGORIES:HBA Event
ORGANIZER;CN="Greater Iowa City Area Home Builders Association":MAILTO:eo@hbaofic.org
END:VEVENT
BEGIN:VEVENT
DTSTART;TZID=America/Chicago:20180920T120000
DTEND;TZID=America/Chicago:20180920T130000
DTSTAMP:20260420T213144
CREATED:20180214T190235Z
LAST-MODIFIED:20180214T190235Z
UID:10000692-1537444800-1537448400@hbaofic.org
SUMMARY:Board of Directors Meeting
DESCRIPTION:
URL:https://hbaofic.org/calendar/board-of-directors-meeting-24/
LOCATION:Greater Iowa City Area HBA Conference Room\, 11 South Gilbert St\, Iowa City\, IA\, 52240\, United States
ORGANIZER;CN="Greater Iowa City Area Home Builders Association":MAILTO:eo@hbaofic.org
END:VEVENT
END:VCALENDAR