BEGIN:VCALENDAR
VERSION:2.0
PRODID:-//The Greater Iowa City Home Builders Association  - ECPv6.11.2//NONSGML v1.0//EN
CALSCALE:GREGORIAN
METHOD:PUBLISH
X-WR-CALNAME:The Greater Iowa City Home Builders Association 
X-ORIGINAL-URL:https://hbaofic.org
X-WR-CALDESC:Events for The Greater Iowa City Home Builders Association 
REFRESH-INTERVAL;VALUE=DURATION:PT1H
X-Robots-Tag:noindex
X-PUBLISHED-TTL:PT1H
BEGIN:VTIMEZONE
TZID:America/Chicago
BEGIN:DAYLIGHT
TZOFFSETFROM:-0600
TZOFFSETTO:-0500
TZNAME:CDT
DTSTART:20170312T080000
END:DAYLIGHT
BEGIN:STANDARD
TZOFFSETFROM:-0500
TZOFFSETTO:-0600
TZNAME:CST
DTSTART:20171105T070000
END:STANDARD
BEGIN:DAYLIGHT
TZOFFSETFROM:-0600
TZOFFSETTO:-0500
TZNAME:CDT
DTSTART:20180311T080000
END:DAYLIGHT
BEGIN:STANDARD
TZOFFSETFROM:-0500
TZOFFSETTO:-0600
TZNAME:CST
DTSTART:20181104T070000
END:STANDARD
END:VTIMEZONE
BEGIN:VEVENT
DTSTART;TZID=America/Chicago:20180410T120000
DTEND;TZID=America/Chicago:20180410T130000
DTSTAMP:20260421T185826
CREATED:20180214T190829Z
LAST-MODIFIED:20180214T190829Z
UID:10000903-1523361600-1523365200@hbaofic.org
SUMMARY:Remodelers Council Meeting
DESCRIPTION:
URL:https://hbaofic.org/calendar/remodelers-council-meeting-3/
LOCATION:Greater Iowa City Area HBA Conference Room\, 11 South Gilbert St\, Iowa City\, IA\, 52240\, United States
ORGANIZER;CN="Greater Iowa City Area Home Builders Association":MAILTO:eo@hbaofic.org
END:VEVENT
BEGIN:VEVENT
DTSTART;TZID=America/Chicago:20180329T160000
DTEND;TZID=America/Chicago:20180329T183000
DTSTAMP:20260421T185826
CREATED:20180308T153738Z
LAST-MODIFIED:20180308T153738Z
UID:10000701-1522339200-1522348200@hbaofic.org
SUMMARY:Remodelers Council Social
DESCRIPTION:Join your Remodelers Council Chair GT Karr at Answers by Alexander to network with other Remodelers! \nThis event is hosted and sponsored by Answers by Alexander so stop in\, enjoy some food and a beverage and tour their new showroom. \n \nRSVP to Karyl@HBAofIC.org or call (319) 351-5333
URL:https://hbaofic.org/calendar/remodelers-council-social/
LOCATION:Answers by Alexander\, 1534 S Gilbert St\, Iowa City\, United States
CATEGORIES:HBA Event
ORGANIZER;CN="Greater Iowa City Area Home Builders Association":MAILTO:eo@hbaofic.org
END:VEVENT
BEGIN:VEVENT
DTSTART;TZID=America/Chicago:20180321T080000
DTEND;TZID=America/Chicago:20180321T170000
DTSTAMP:20260421T185826
CREATED:20180213T201416Z
LAST-MODIFIED:20180308T153056Z
UID:10000900-1521619200-1521651600@hbaofic.org
SUMMARY:Design Concepts for Livable Homes and Aging In Place (CAPS II)
DESCRIPTION:There is an increasing desire among today’s home owners to live in one’s home as long as possible which has created a strong demand for products and services serving this audience. \nTo help home owners make their home a safe and comfortable living environment for the long term\, many responsive and innovative products are emerging. Likewise\, service providers are answering this demand by focusing their businesses on creating new homes and renovations that provide design flexibility\, pleasing aesthetics\, high function and usability for all people\, without regard to age\, income or ability level\, and regardless of life’s changes and challenges. The goal of this course is to enable participants to identify common challenges within the home and understand attractive design concepts that create a safe and comfortable environment for clients who want to age in place as well as identify with one or more of these groups: Individuals who are not experiencing health issues related to aging\, individuals who have a progressive or other condition that requires home modifications or equipment\, and individuals who are dealing with an abrupt or traumatic health-related change. \nBy completing this course\, participants will be able to: \n•Identify special considerations for estimating\, scheduling and executing the job while the client is in residence. \n•Identify legal and contractual considerations for building professionals providing AIP design solutions for residential clients. \n•Describe the categories of design and how they relate and apply to the three AIP market segments. \n•Describe specific design concepts for the AIP client. The course presents various methods and techniques for modifying home design\, from the perspective of new construction and retrofitting. \nThis course qualifies for: •6 NAHB CE for: CAPS\, CGA\, CGB\, CGR\, GMB\, CSP\, Master CSP\, CMP\, MIRM \nRegister with Kary@HBAofIC.org or call (319) 351-5333 today!
URL:https://hbaofic.org/calendar/design-concepts-for-livable-homes-and-aging-in-place-caps-ii/
LOCATION:Iowa City Area Association of Realtors\, 847 Quarry Road\, Suite #110\, Coralville\, IA\, United States
CATEGORIES:HBA Event
ORGANIZER;CN="Greater Iowa City Area Home Builders Association":MAILTO:eo@hbaofic.org
END:VEVENT
BEGIN:VEVENT
DTSTART;TZID=America/Chicago:20180320T080000
DTEND;TZID=America/Chicago:20180320T170000
DTSTAMP:20260421T185826
CREATED:20180213T201242Z
LAST-MODIFIED:20180308T153032Z
UID:10000899-1521532800-1521565200@hbaofic.org
SUMMARY:Marketing & Communicating with the Aging In Place Client (CAPS I)
DESCRIPTION:Millions of Americans are living longer and more active lives. \nBecause they are embracing newly found and changing lifestyles\, they need to revitalize their home environment. Identifying this burgeoning opportunity and then developing the skills to interact with this market can help you grow your business dramatically. The goal of the course is to equip course participants with the knowledge and tools to effectively market and sell services to the aging in place (AIP) market. \nBy completing this course\, participants will be able to: \n•Describe three segments within the AIP market that present business opportunities for building professionals. \n•Identify access points and marketing opportunities within targeted AIP market segments. \n•Explain how allied professionals can collaborate effectively to serve a targeted AIP market. \n•Identify common challenges of functioning in a real world environment for the AIP population. \n•Enhance the AIP client consulting process with effective needs assessment and communication techniques. \nThis course qualifies for: •6 NAHB CE for: CAPS\, CGA\, CGB\, CGR\, GMB\, CSP\, Master CSP\, CMP\, MIRM \nRegister with Kary@HBAofIC.org or call (319) 351-5333 today!
URL:https://hbaofic.org/calendar/marketing-communicating-with-the-aging-in-place-client-caps-i/
LOCATION:Iowa City Area Association of Realtors\, 847 Quarry Road\, Suite #110\, Coralville\, IA\, United States
CATEGORIES:HBA Event
ORGANIZER;CN="Greater Iowa City Area Home Builders Association":MAILTO:eo@hbaofic.org
END:VEVENT
BEGIN:VEVENT
DTSTART;TZID=America/Chicago:20180315T120000
DTEND;TZID=America/Chicago:20180315T130000
DTSTAMP:20260421T185826
CREATED:20180214T185857Z
LAST-MODIFIED:20180214T185857Z
UID:10000686-1521115200-1521118800@hbaofic.org
SUMMARY:Board of Directors Meeting
DESCRIPTION:
URL:https://hbaofic.org/calendar/board-of-directors-meeting-18/
LOCATION:Greater Iowa City Area HBA Conference Room\, 11 South Gilbert St\, Iowa City\, IA\, 52240\, United States
ORGANIZER;CN="Greater Iowa City Area Home Builders Association":MAILTO:eo@hbaofic.org
END:VEVENT
BEGIN:VEVENT
DTSTART;TZID=America/Chicago:20180308T180000
DTEND;TZID=America/Chicago:20180308T200000
DTSTAMP:20260421T185826
CREATED:20180213T201745Z
LAST-MODIFIED:20180214T165259Z
UID:10000901-1520532000-1520539200@hbaofic.org
SUMMARY:March IC Area HBA Membership Meeting
DESCRIPTION:Find out what’s going on in the Corridor with updates from our local City and County administrators. \nSponsored by A+ Painters  –  Venue Sponsor South Slope Cooperative \n     
URL:https://hbaofic.org/calendar/march-ic-area-hba-membership-meeting/
CATEGORIES:HBA Event
ORGANIZER;CN="Greater Iowa City Area Home Builders Association":MAILTO:eo@hbaofic.org
END:VEVENT
BEGIN:VEVENT
DTSTART;TZID=America/Chicago:20180222T090000
DTEND;TZID=America/Chicago:20180222T170000
DTSTAMP:20260421T185826
CREATED:20171003T160831Z
LAST-MODIFIED:20180219T202940Z
UID:10000889-1519290000-1519318800@hbaofic.org
SUMMARY:Construction Contract Seminar
DESCRIPTION:Protect your business against legal problems with well-written contracts. Many construction or remodeling companies are too small to hire full-time legal staff\, so it’s important to understand basic contract law. This course provides a step-by-step explanation of how contracts sustain positive customer and supplier relations\, provide for resolution of disputes and minimize the risk of litigation. You will learn about mandatory and optional provisions\, warranties and arbitration procedures. Special emphasis is given to troubleshooting contracts for detrimental provisions. \nThis class approved for 8 hours of REALTOR Elective Continuing Education credit. To obtain your credit and certificate of completion create an account and register for this class under the calendar of the ICAAR website www.icaar.org.  REALTORS that are not ICAAR members will be assessed a $15 processing fee due the day of the Summit (payable to ICAAR). \nPresented by Pugh Hagan Prahm PLC
URL:https://hbaofic.org/calendar/construction-contract-seminar/
LOCATION:Iowa City Area Association of Realtors\, 847 Quarry Road\, Suite #110\, Coralville\, IA\, United States
CATEGORIES:HBA Event
END:VEVENT
BEGIN:VEVENT
DTSTART;TZID=America/Chicago:20180220T073000
DTEND;TZID=America/Chicago:20180220T083000
DTSTAMP:20260421T185826
CREATED:20180214T191553Z
LAST-MODIFIED:20180214T191553Z
UID:10000913-1519111800-1519115400@hbaofic.org
SUMMARY:Legislative Committee Meeting
DESCRIPTION:
URL:https://hbaofic.org/calendar/legislative-committee-meeting/
LOCATION:Greater Iowa City Area HBA Conference Room\, 11 South Gilbert St\, Iowa City\, IA\, 52240\, United States
ORGANIZER;CN="Greater Iowa City Area Home Builders Association":MAILTO:eo@hbaofic.org
END:VEVENT
BEGIN:VEVENT
DTSTART;TZID=America/Chicago:20180215T120000
DTEND;TZID=America/Chicago:20180215T130000
DTSTAMP:20260421T185826
CREATED:20180214T185730Z
LAST-MODIFIED:20180214T185730Z
UID:10000684-1518696000-1518699600@hbaofic.org
SUMMARY:Board of Directors Meeting
DESCRIPTION:
URL:https://hbaofic.org/calendar/board-of-directors-meeting-17/
LOCATION:Greater Iowa City Area HBA Conference Room\, 11 South Gilbert St\, Iowa City\, IA\, 52240\, United States
ORGANIZER;CN="Greater Iowa City Area Home Builders Association":MAILTO:eo@hbaofic.org
END:VEVENT
BEGIN:VEVENT
DTSTART;TZID=America/Chicago:20180213T120000
DTEND;TZID=America/Chicago:20180213T130000
DTSTAMP:20260421T185826
CREATED:20180214T190751Z
LAST-MODIFIED:20180214T190751Z
UID:10000698-1518523200-1518526800@hbaofic.org
SUMMARY:Remodelers Council Meeting
DESCRIPTION:
URL:https://hbaofic.org/calendar/remodelers-council-meeting-2/
LOCATION:Greater Iowa City Area HBA Conference Room\, 11 South Gilbert St\, Iowa City\, IA\, 52240\, United States
ORGANIZER;CN="Greater Iowa City Area Home Builders Association":MAILTO:eo@hbaofic.org
END:VEVENT
BEGIN:VEVENT
DTSTART;TZID=America/Chicago:20180211T100000
DTEND;TZID=America/Chicago:20180211T160000
DTSTAMP:20260421T185826
CREATED:20170830T170329Z
LAST-MODIFIED:20171102T205259Z
UID:10000880-1518343200-1518364800@hbaofic.org
SUMMARY:The Home Show
DESCRIPTION:See you at The Home Show presented by Lepic-Kroeger\, REALTORS and Collins Community Credit Union!
URL:https://hbaofic.org/calendar/the-home-show-3/
LOCATION:Coralville Marriott
CATEGORIES:Exhibitor,HBA Event
ORGANIZER;CN="Greater Iowa City Area Home Builders Association":MAILTO:eo@hbaofic.org
END:VEVENT
BEGIN:VEVENT
DTSTART;TZID=America/Chicago:20180210T100000
DTEND;TZID=America/Chicago:20180210T170000
DTSTAMP:20260421T185826
CREATED:20170830T170212Z
LAST-MODIFIED:20171102T205235Z
UID:10000878-1518256800-1518282000@hbaofic.org
SUMMARY:The Home Show
DESCRIPTION:See you at The Home Show presented by Lepic-Kroeger\, REALTORS and Collins Community Credit Union!
URL:https://hbaofic.org/calendar/the-home-show-2/
LOCATION:Coralville Marriott
CATEGORIES:Exhibitor,HBA Event
ORGANIZER;CN="Greater Iowa City Area Home Builders Association":MAILTO:eo@hbaofic.org
END:VEVENT
BEGIN:VEVENT
DTSTART;TZID=America/Chicago:20180209T170000
DTEND;TZID=America/Chicago:20180209T200000
DTSTAMP:20260421T185826
CREATED:20170830T170041Z
LAST-MODIFIED:20180209T033854Z
UID:10000869-1518195600-1518206400@hbaofic.org
SUMMARY:The Home Show
DESCRIPTION:See you at The Home Show presented by Lepic-Kroeger\, REALTORS and Collins Community Credit Union \nYes\, The Home Show is still delightful even though the weather may be frightful.  See you at The Home Show!
URL:https://hbaofic.org/calendar/the-home-show/
LOCATION:Coralville Marriott
CATEGORIES:Exhibitor,HBA Event
ORGANIZER;CN="Greater Iowa City Area Home Builders Association":MAILTO:eo@hbaofic.org
END:VEVENT
BEGIN:VEVENT
DTSTART;TZID=America/Chicago:20180111T080000
DTEND;TZID=America/Chicago:20180111T170000
DTSTAMP:20260421T185826
CREATED:20171218T161118Z
LAST-MODIFIED:20171218T161118Z
UID:10000897-1515657600-1515690000@hbaofic.org
SUMMARY:NAHB International Builders' Show
DESCRIPTION:The NAHB International Builders’ Show® (IBS) is the largest annual light construction show in the world\, every year attracting 60\,000 visitors from 100 countries.
URL:https://hbaofic.org/calendar/nahb-international-builders-show-3/
LOCATION:Orlando\, FL
CATEGORIES:HBA Event
END:VEVENT
BEGIN:VEVENT
DTSTART;TZID=America/Chicago:20180110T080000
DTEND;TZID=America/Chicago:20180110T170000
DTSTAMP:20260421T185826
CREATED:20171218T161038Z
LAST-MODIFIED:20171218T161038Z
UID:10000895-1515571200-1515603600@hbaofic.org
SUMMARY:NAHB International Builders' Show
DESCRIPTION:The NAHB International Builders’ Show® (IBS) is the largest annual light construction show in the world\, every year attracting 60\,000 visitors from 100 countries.
URL:https://hbaofic.org/calendar/nahb-international-builders-show-2/
LOCATION:Orlando\, FL
CATEGORIES:HBA Event
END:VEVENT
BEGIN:VEVENT
DTSTART;TZID=America/Chicago:20180109T080000
DTEND;TZID=America/Chicago:20180109T170000
DTSTAMP:20260421T185826
CREATED:20171218T161002Z
LAST-MODIFIED:20171218T161002Z
UID:10000893-1515484800-1515517200@hbaofic.org
SUMMARY:NAHB International Builders' Show
DESCRIPTION:The NAHB International Builders’ Show® (IBS) is the largest annual light construction show in the world\, every year attracting 60\,000 visitors from 100 countries.
URL:https://hbaofic.org/calendar/nahb-international-builders-show/
LOCATION:Orlando\, FL
CATEGORIES:HBA Event
END:VEVENT
BEGIN:VEVENT
DTSTART;TZID=America/Chicago:20171214T120000
DTEND;TZID=America/Chicago:20171214T130000
DTSTAMP:20260421T185826
CREATED:20161019T144810Z
LAST-MODIFIED:20171116T225140Z
UID:10000797-1513252800-1513256400@hbaofic.org
SUMMARY:Board of Directors Meeting
DESCRIPTION:
URL:https://hbaofic.org/calendar/board-of-directors-meeting-16/
LOCATION:Greater Iowa City Area HBA Conference Room\, 11 South Gilbert St\, Iowa City\, IA\, 52240\, United States
ORGANIZER;CN="Greater Iowa City Area Home Builders Association":MAILTO:eo@hbaofic.org
END:VEVENT
BEGIN:VEVENT
DTSTART;TZID=America/Chicago:20171212T120000
DTEND;TZID=America/Chicago:20171212T170000
DTSTAMP:20260421T185826
CREATED:20161019T151150Z
LAST-MODIFIED:20161019T151150Z
UID:10000647-1513080000-1513098000@hbaofic.org
SUMMARY:Remodelers Council
DESCRIPTION:
URL:https://hbaofic.org/calendar/remodelers-council-8/
LOCATION:Greater Iowa City Area HBA Conference Room\, 11 South Gilbert St\, Iowa City\, IA\, 52240\, United States
END:VEVENT
BEGIN:VEVENT
DTSTART;TZID=America/Chicago:20171116T120000
DTEND;TZID=America/Chicago:20171116T130000
DTSTAMP:20260421T185826
CREATED:20161019T144729Z
LAST-MODIFIED:20161019T144729Z
UID:10000795-1510833600-1510837200@hbaofic.org
SUMMARY:Board of Directors Meeting
DESCRIPTION:
URL:https://hbaofic.org/calendar/board-of-directors-meeting-15/
LOCATION:Greater Iowa City Area HBA Conference Room\, 11 South Gilbert St\, Iowa City\, IA\, 52240\, United States
ORGANIZER;CN="Greater Iowa City Area Home Builders Association":MAILTO:eo@hbaofic.org
END:VEVENT
BEGIN:VEVENT
DTSTART;TZID=America/Chicago:20171030T160000
DTEND;TZID=America/Chicago:20171030T180000
DTSTAMP:20260421T185826
CREATED:20171010T201925Z
LAST-MODIFIED:20171010T204118Z
UID:10000891-1509379200-1509386400@hbaofic.org
SUMMARY:Women's Council Fall Meeting
DESCRIPTION:Join Co-Chairs Kelly Manning with Sobaski Abbey Carpet & Floor and Phoebe Martin with Skogman Realty for the \nFall Women’s Council Meeting at Answers by Alexander. \nLearn how to make good quality from scratch food with Becky Schmooke of Becky’s Mindful Kitchen \n \nwhile you check out Answers by Alexander’s new showroom! \n \nSocial Sponsored by Phoebe Martin\, REALTOR \n \nCost is $15/person.  Please RSVP to Karyl@HBAofIC.org by October 26\, 2017 or call (319) 351-5333
URL:https://hbaofic.org/calendar/womens-council-fall-meeting/
LOCATION:Answers by Alexander\, 1534 S Gilbert St\, Iowa City\, United States
CATEGORIES:HBA Event
ORGANIZER;CN="Greater Iowa City Area Home Builders Association":MAILTO:eo@hbaofic.org
END:VEVENT
BEGIN:VEVENT
DTSTART;TZID=America/Chicago:20171019T120000
DTEND;TZID=America/Chicago:20171019T130000
DTSTAMP:20260421T185826
CREATED:20161019T144649Z
LAST-MODIFIED:20161019T144649Z
UID:10000793-1508414400-1508418000@hbaofic.org
SUMMARY:Board of Directors Meeting
DESCRIPTION:
URL:https://hbaofic.org/calendar/board-of-directors-meeting-14/
LOCATION:Greater Iowa City Area HBA Conference Room\, 11 South Gilbert St\, Iowa City\, IA\, 52240\, United States
ORGANIZER;CN="Greater Iowa City Area Home Builders Association":MAILTO:eo@hbaofic.org
END:VEVENT
BEGIN:VEVENT
DTSTART;TZID=America/Chicago:20171010T120000
DTEND;TZID=America/Chicago:20171010T170000
DTSTAMP:20260421T185826
CREATED:20161019T151113Z
LAST-MODIFIED:20161019T151113Z
UID:10000645-1507636800-1507654800@hbaofic.org
SUMMARY:Remodelers Council
DESCRIPTION:
URL:https://hbaofic.org/calendar/remodelers-council-7/
LOCATION:Greater Iowa City Area HBA Conference Room\, 11 South Gilbert St\, Iowa City\, IA\, 52240\, United States
END:VEVENT
BEGIN:VEVENT
DTSTART;TZID=America/Chicago:20170928T160000
DTEND;TZID=America/Chicago:20170928T200000
DTSTAMP:20260421T185826
CREATED:20170911T182808Z
LAST-MODIFIED:20170911T182808Z
UID:10000887-1506614400-1506628800@hbaofic.org
SUMMARY:Mike Rowe Skilled Trades Event!
DESCRIPTION:Bring “SIGNIFICANCE” back to the Iowa Trades!\nThe Home Builders Association of Iowa and their partners are proud to present an evening with\nMike Rowe on Thursday\, September 28th 2017 at the Iowa Events Center. Mike Rowe\, executive\nproducer and host of Dirty Jobs\, has long been an advocate for promoting skilled trades in the\nworkforce. The evening will focus on skilled trades as a strong and viable career choice and promote\ntheir importance in the world when it comes to infrastructure\, services\, and utilities. Mr. Rowe has\nalso touted the positives of entering the skilled trades workforce without significant student loan debt\,\nas well. Highlights of the evening will include a networking social\, dinner and program featuring\nopening remarks from Governor Kim Reynolds and Mike Rowe’s skilled trades program and\ncommentary. The Home Builders Association of Iowa has added that all profits from this event will be returned\nto partners’ scholarship programs to help fund students seeking skilled trades and vocational scholarships. \n$1200/Table (10 seats- 2 donated to a student/educator)\n$150/single seat\nGuest Speaker: Mike Rowe & Governor Reynolds\nIowa Events Center\n730 3rd Street\, Des Moines\, IA\nFor more information please contact Dan Knoup or Melisa Cox at 515-270-8500
URL:https://hbaofic.org/calendar/mike-rowe-skilled-trades-event/
LOCATION:Iowa Events Center\, 730 3rd St\, Des Moines\, IA\, 50309\, United States
CATEGORIES:HBA Event
END:VEVENT
BEGIN:VEVENT
DTSTART;TZID=America/Chicago:20170926T163000
DTEND;TZID=America/Chicago:20170926T193000
DTSTAMP:20260421T185826
CREATED:20170907T142218Z
LAST-MODIFIED:20170912T204446Z
UID:10000884-1506443400-1506454200@hbaofic.org
SUMMARY:Remodelers Council Fall Social
DESCRIPTION:Remodelers Council Chair\, GT Karr with Sueppel’s Siding & Remodeling\, invites you to the Fall Social \nTuesday\, September 26th at Big Grove Brewery and Tap Room at 1225 S Gilbert St. in Iowa City from 4:30 pm – 7:30 pm. \nCost is $15/person and includes 2 drinks and heavy appetizers. \nRSVP to Karyl@HBAofIC.org by Friday\, September 22\, 2017.\nThank you to our Sponsors\, Sueppel’s Siding & Remodeling and Gilcrest Jewett!\n   
URL:https://hbaofic.org/calendar/remodelers-council-fall-social/
LOCATION:Big Grove Brewery and Tap Room\, 1225 S. Gilbert St.\, Iowa City\, Iowa
CATEGORIES:HBA Event
ORGANIZER;CN="Greater Iowa City Area Home Builders Association":MAILTO:eo@hbaofic.org
END:VEVENT
BEGIN:VEVENT
DTSTART;TZID=America/Chicago:20170921T120000
DTEND;TZID=America/Chicago:20170921T130000
DTSTAMP:20260421T185826
CREATED:20161019T144612Z
LAST-MODIFIED:20161019T144612Z
UID:10000791-1505995200-1505998800@hbaofic.org
SUMMARY:Board of Directors Meeting
DESCRIPTION:
URL:https://hbaofic.org/calendar/board-of-directors-meeting-13/
LOCATION:Greater Iowa City Area HBA Conference Room\, 11 South Gilbert St\, Iowa City\, IA\, 52240\, United States
ORGANIZER;CN="Greater Iowa City Area Home Builders Association":MAILTO:eo@hbaofic.org
END:VEVENT
BEGIN:VEVENT
DTSTART;TZID=America/Chicago:20170914T180000
DTEND;TZID=America/Chicago:20170914T200000
DTSTAMP:20260421T185826
CREATED:20170405T150710Z
LAST-MODIFIED:20170726T163345Z
UID:10000851-1505412000-1505419200@hbaofic.org
SUMMARY:September Membership Meeting at McGrath Hawkeye Harley-Davidson
DESCRIPTION:Welcome back to the IC Area HBA Membership Meetings! \nEnjoy networking and socializing courtesy of McGrath Fleet and Commercial at McGrath Hawkeye Harley-Davidson in Coralville. \nRSVP to Karyl@HBAofIC.org or call (319) 351-5333 by September 11\, 2017.
URL:https://hbaofic.org/calendar/september-general-membership-meeting-3/
LOCATION:McGrath Hawkeye Harley Davidson\, 120 Westcor Dr\, Coralville\, IA\, United States
CATEGORIES:HBA Event
ORGANIZER;CN="Greater Iowa City Area Home Builders Association":MAILTO:eo@hbaofic.org
END:VEVENT
BEGIN:VEVENT
DTSTART;TZID=America/Chicago:20170909T090000
DTEND;TZID=America/Chicago:20170909T110000
DTSTAMP:20260421T185826
CREATED:20170901T210312Z
LAST-MODIFIED:20170901T210312Z
UID:10000882-1504947600-1504954800@hbaofic.org
SUMMARY:Iowa vs. Iowa State BUILD-PAC Fundraiser
DESCRIPTION:Hey Cyclone & Hawkeye Fans!  \nWe will be tailgating Saturday\, September 9th  \nJack Trice Stadium\, Lot D4 \nFrom 9:00am – 11:00am \nThis is a BUILD-PAC Fundraiser and there will be a drawing for 2 sets of 2 tickets to sit in the Jack Trice Club for BUILD-PAC Members \nDrop Rich an email if you plan on attending RichFitch@FurmanRealty.com \n 
URL:https://hbaofic.org/calendar/iowa-vs-iowa-state-build-pac-fundraiser/
LOCATION:Jack Trice Stadium\, Ames\, IA\, United States
CATEGORIES:HBA Event
ORGANIZER;CN="Greater Iowa City Area Home Builders Association":MAILTO:eo@hbaofic.org
END:VEVENT
BEGIN:VEVENT
DTSTART;TZID=America/Chicago:20170824T120000
DTEND;TZID=America/Chicago:20170824T130000
DTSTAMP:20260421T185826
CREATED:20161019T144446Z
LAST-MODIFIED:20170711T202310Z
UID:10000787-1503576000-1503579600@hbaofic.org
SUMMARY:Board of Directors Meeting
DESCRIPTION:The August Board Meeting has been moved back one week from it’s normal time.
URL:https://hbaofic.org/calendar/board-of-directors-meeting-11/
LOCATION:Greater Iowa City Area HBA Conference Room\, 11 South Gilbert St\, Iowa City\, IA\, 52240\, United States
CATEGORIES:HBA Event
ORGANIZER;CN="Greater Iowa City Area Home Builders Association":MAILTO:eo@hbaofic.org
END:VEVENT
BEGIN:VEVENT
DTSTART;TZID=America/Chicago:20170809T120000
DTEND;TZID=America/Chicago:20170809T130000
DTSTAMP:20260421T185826
CREATED:20170726T161907Z
LAST-MODIFIED:20170726T162132Z
UID:10000860-1502280000-1502283600@hbaofic.org
SUMMARY:Home Show Committee Meeting
DESCRIPTION:The Home Show Committee will begin planning the 2018 Home Show
URL:https://hbaofic.org/calendar/home-show-committee-meeting-2/
LOCATION:Greater Iowa City HBA\, 11 S Gilbert Street\, Iowa City\, IA\, 52244\, United States
CATEGORIES:HBA Event
ORGANIZER;CN="Greater Iowa City Area Home Builders Association":MAILTO:eo@hbaofic.org
END:VEVENT
BEGIN:VEVENT
DTSTART;TZID=America/Chicago:20170808T120000
DTEND;TZID=America/Chicago:20170808T130000
DTSTAMP:20260421T185826
CREATED:20161019T151035Z
LAST-MODIFIED:20161221T204038Z
UID:10000643-1502193600-1502197200@hbaofic.org
SUMMARY:Remodelers Council
DESCRIPTION:
URL:https://hbaofic.org/calendar/remodelers-council-6/
LOCATION:Greater Iowa City Area HBA Conference Room\, 11 South Gilbert St\, Iowa City\, IA\, 52240\, United States
CATEGORIES:HBA Event
ORGANIZER;CN="Greater Iowa City Area Home Builders Association":MAILTO:eo@hbaofic.org
END:VEVENT
END:VCALENDAR