BEGIN:VCALENDAR
VERSION:2.0
PRODID:-//The Greater Iowa City Home Builders Association  - ECPv6.11.2//NONSGML v1.0//EN
CALSCALE:GREGORIAN
METHOD:PUBLISH
X-WR-CALNAME:The Greater Iowa City Home Builders Association 
X-ORIGINAL-URL:https://hbaofic.org
X-WR-CALDESC:Events for The Greater Iowa City Home Builders Association 
REFRESH-INTERVAL;VALUE=DURATION:PT1H
X-Robots-Tag:noindex
X-PUBLISHED-TTL:PT1H
BEGIN:VTIMEZONE
TZID:America/Chicago
BEGIN:DAYLIGHT
TZOFFSETFROM:-0600
TZOFFSETTO:-0500
TZNAME:CDT
DTSTART:20180311T080000
END:DAYLIGHT
BEGIN:STANDARD
TZOFFSETFROM:-0500
TZOFFSETTO:-0600
TZNAME:CST
DTSTART:20181104T070000
END:STANDARD
END:VTIMEZONE
BEGIN:VEVENT
DTSTART;TZID=America/Chicago:20181001T150000
DTEND;TZID=America/Chicago:20181001T170000
DTSTAMP:20260421T005806
CREATED:20180910T141157Z
LAST-MODIFIED:20180910T141157Z
UID:10000960-1538406000-1538413200@hbaofic.org
SUMMARY:Student Built House Dedication
DESCRIPTION:Come celebrate a job well done by the local students and members of The Greater Iowa City Area Home Builders Association! \nJoin us at 1881 Dickenson Lane\, Iowa City for refreshments while we hand the keys to Reach for Your Potential and recognize the students’ hard work.
URL:https://hbaofic.org/calendar/student-built-house-dedication/
LOCATION:Student Built House Site\, 1881 Dickenson Lane\, Iowa City\, IA\, 52240\, United States
CATEGORIES:HBA Event
ORGANIZER;CN="Greater Iowa City Area Home Builders Association":MAILTO:eo@hbaofic.org
END:VEVENT
BEGIN:VEVENT
DTSTART;TZID=America/Chicago:20180920T120000
DTEND;TZID=America/Chicago:20180920T130000
DTSTAMP:20260421T005806
CREATED:20180214T190235Z
LAST-MODIFIED:20180214T190235Z
UID:10000692-1537444800-1537448400@hbaofic.org
SUMMARY:Board of Directors Meeting
DESCRIPTION:
URL:https://hbaofic.org/calendar/board-of-directors-meeting-24/
LOCATION:Greater Iowa City Area HBA Conference Room\, 11 South Gilbert St\, Iowa City\, IA\, 52240\, United States
ORGANIZER;CN="Greater Iowa City Area Home Builders Association":MAILTO:eo@hbaofic.org
END:VEVENT
BEGIN:VEVENT
DTSTART;TZID=America/Chicago:20180918T170000
DTEND;TZID=America/Chicago:20180918T190000
DTSTAMP:20260421T005806
CREATED:20180802T153233Z
LAST-MODIFIED:20180802T153233Z
UID:10000945-1537290000-1537297200@hbaofic.org
SUMMARY:Remodelers Social
DESCRIPTION:Network with the Remodelers Council at Plumb Supply Company’s Showroom\, Water Concepts.
URL:https://hbaofic.org/calendar/remodelers-social/
LOCATION:Water Concepts\, 214 Southgate Ave.\, Iowa City\, IA\, 52240\, United States
CATEGORIES:HBA Event
ORGANIZER;CN="Greater Iowa City Area Home Builders Association":MAILTO:eo@hbaofic.org
END:VEVENT
BEGIN:VEVENT
DTSTART;TZID=America/Chicago:20180913T180000
DTEND;TZID=America/Chicago:20180913T200000
DTSTAMP:20260421T005806
CREATED:20180802T152819Z
LAST-MODIFIED:20180802T152819Z
UID:10000943-1536861600-1536868800@hbaofic.org
SUMMARY:September General Membership Meeting
DESCRIPTION:Join us for the September General Membership Meeting Sponsored and Hosted by Hawkeye Ready Mix! \nTour the new location while you network with IC Area HBA members.
URL:https://hbaofic.org/calendar/september-general-membership-meeting-4/
LOCATION:Hawkeye Ready Mix\, 3375 Klein Rd\, Iowa City\, IA\, 52240\, United States
CATEGORIES:HBA Event
ORGANIZER;CN="Greater Iowa City Area Home Builders Association":MAILTO:eo@hbaofic.org
END:VEVENT
BEGIN:VEVENT
DTSTART;TZID=America/Chicago:20180906T140000
DTEND;TZID=America/Chicago:20180906T153000
DTSTAMP:20260421T005806
CREATED:20180802T152442Z
LAST-MODIFIED:20180802T211428Z
UID:10000942-1536242400-1536247800@hbaofic.org
SUMMARY:Membership Committee Fall Membership Drive
DESCRIPTION:Interested in recruiting new members to the Greater Iowa City Area HBA?\nJoin us for the Fall Membership Drive!
URL:https://hbaofic.org/calendar/membership-committee-fall-membership-drive/
LOCATION:Greater Iowa City HBA\, 11 S Gilbert Street\, Iowa City\, IA\, 52244\, United States
CATEGORIES:HBA Event
ORGANIZER;CN="Greater Iowa City Area Home Builders Association":MAILTO:eo@hbaofic.org
END:VEVENT
BEGIN:VEVENT
DTSTART;TZID=America/Chicago:20180828T073000
DTEND;TZID=America/Chicago:20180828T083000
DTSTAMP:20260421T005806
CREATED:20180214T191923Z
LAST-MODIFIED:20180802T152013Z
UID:10000919-1535441400-1535445000@hbaofic.org
SUMMARY:Legislative Committee Meeting
DESCRIPTION:
URL:https://hbaofic.org/calendar/legislative-committee-meeting-4/
LOCATION:Greater Iowa City Area HBA Conference Room\, 11 South Gilbert St\, Iowa City\, IA\, 52240\, United States
ORGANIZER;CN="Greater Iowa City Area Home Builders Association":MAILTO:eo@hbaofic.org
END:VEVENT
BEGIN:VEVENT
DTSTART;TZID=America/Chicago:20180807T120000
DTEND;TZID=America/Chicago:20180807T130000
DTSTAMP:20260421T005806
CREATED:20180214T191013Z
LAST-MODIFIED:20180802T151925Z
UID:10000907-1533643200-1533646800@hbaofic.org
SUMMARY:Remodelers Council Meeting
DESCRIPTION:
URL:https://hbaofic.org/calendar/remodelers-council-meeting-5/
LOCATION:Greater Iowa City Area HBA Conference Room\, 11 South Gilbert St\, Iowa City\, IA\, 52240\, United States
ORGANIZER;CN="Greater Iowa City Area Home Builders Association":MAILTO:eo@hbaofic.org
END:VEVENT
BEGIN:VEVENT
DTSTART;TZID=America/Chicago:20180712T120000
DTEND;TZID=America/Chicago:20180712T130000
DTSTAMP:20260421T005806
CREATED:20180214T190124Z
LAST-MODIFIED:20180620T212605Z
UID:10000691-1531396800-1531400400@hbaofic.org
SUMMARY:Board of Directors Meeting
DESCRIPTION:This meeting has been moved up one week from the normal date.
URL:https://hbaofic.org/calendar/board-of-directors-meeting-22/
LOCATION:Greater Iowa City Area HBA Conference Room\, 11 South Gilbert St\, Iowa City\, IA\, 52240\, United States
CATEGORIES:HBA Event
ORGANIZER;CN="Greater Iowa City Area Home Builders Association":MAILTO:eo@hbaofic.org
END:VEVENT
BEGIN:VEVENT
DTSTART;TZID=America/Chicago:20180710T080000
DTEND;TZID=America/Chicago:20180710T170000
DTSTAMP:20260421T005806
CREATED:20180214T195943Z
LAST-MODIFIED:20180709T200412Z
UID:10000923-1531209600-1531242000@hbaofic.org
SUMMARY:Nail Driver's Open
DESCRIPTION:Join us Tuesday\, July 10th at Brown Deer Golf Course! \n \nComplete and return the registration form with your payment to confirm your spot.   2018 Nail Drivers Open \nThis outing sells out quickly so don’t delay! \nSponsored by ABC Supply Company
URL:https://hbaofic.org/calendar/nail-drivers-open-3/
LOCATION:Brown Deer Golf Club\, 1900 Country Club Dr.\, Coralville\, IA\, 52241\, United States
CATEGORIES:HBA Event
ORGANIZER;CN="Greater Iowa City Area Home Builders Association":MAILTO:eo@hbaofic.org
END:VEVENT
BEGIN:VEVENT
DTSTART;TZID=America/Chicago:20180628T150000
DTEND;TZID=America/Chicago:20180628T160000
DTSTAMP:20260421T005806
CREATED:20180620T212939Z
LAST-MODIFIED:20180620T213203Z
UID:10000718-1530198000-1530201600@hbaofic.org
SUMMARY:Student Built House Groundbreaking
DESCRIPTION:A ceremonial groundbreaking will be held Thursday\, June 28\, 2018 at 3:00 pm at the site of a future home of Reach for Your Potential clients. \nThe home is being built at 1881 Dickenson Lane in Iowa City by local students. \nThe groundbreaking is the beginning of a new project put on by our Vocational Training Council. The council organizes workforce development projects in the greater Iowa City area. Students participating in the program learn an important skill set\, earn college credit\, and help give back to the community.  \nWe are excited to have Governor Kim Reynolds at the groundbreaking and would love to show off this remarkable vocational training program to you as well. \nThe project includes 13 students of all different ages building a home for a local non-profit organization called Reach for Your Potential. RFYP supplies housing for adults with disabilities. This project also partners with Kirkwood Community College\, allowing each student working on the house to receive two hours of construction credits.  Members of the Homebuilders Assn. pay for the college credits\, and students will also complete their 10 hours of OSHA certification.  \nWe are inviting the Iowa City Area Chamber of Commerce\, members of the Greater Iowa City Area Home Builders Association\, members of the Vocational Training Council\, all of the students and their parents working on the project\, and local legislators. \nDetails can be found below: \nStudent Built House Project Groundbreaking\n1881 Dickenson Lane\nIowa City\, IA  \n**Turn East on Dickenson Lane and go to the end of the road**\nThursday\, June 28\n3:00 p.m. – 4:00 p.m.
URL:https://hbaofic.org/calendar/student-built-house-groundbreaking/
LOCATION:Student Built House Site\, 1881 Dickenson Lane\, Iowa City\, IA\, 52240\, United States
CATEGORIES:HBA Event
ORGANIZER;CN="Greater Iowa City Area Home Builders Association":MAILTO:eo@hbaofic.org
END:VEVENT
BEGIN:VEVENT
DTSTART;TZID=America/Chicago:20180619T073000
DTEND;TZID=America/Chicago:20180619T083000
DTSTAMP:20260421T005806
CREATED:20180214T191837Z
LAST-MODIFIED:20180214T191837Z
UID:10000917-1529393400-1529397000@hbaofic.org
SUMMARY:Legislative Committee Meeting
DESCRIPTION:
URL:https://hbaofic.org/calendar/legislative-committee-meeting-3/
LOCATION:Greater Iowa City Area HBA Conference Room\, 11 South Gilbert St\, Iowa City\, IA\, 52240\, United States
ORGANIZER;CN="Greater Iowa City Area Home Builders Association":MAILTO:eo@hbaofic.org
END:VEVENT
BEGIN:VEVENT
DTSTART;TZID=America/Chicago:20180612T120000
DTEND;TZID=America/Chicago:20180612T130000
DTSTAMP:20260421T005806
CREATED:20180214T190934Z
LAST-MODIFIED:20180214T190934Z
UID:10000905-1528804800-1528808400@hbaofic.org
SUMMARY:Remodelers Council Meeting
DESCRIPTION:
URL:https://hbaofic.org/calendar/remodelers-council-meeting-4/
LOCATION:Greater Iowa City Area HBA Conference Room\, 11 South Gilbert St\, Iowa City\, IA\, 52240\, United States
ORGANIZER;CN="Greater Iowa City Area Home Builders Association":MAILTO:eo@hbaofic.org
END:VEVENT
BEGIN:VEVENT
DTSTART;TZID=America/Chicago:20180610T120000
DTEND;TZID=America/Chicago:20180610T170000
DTSTAMP:20260421T005806
CREATED:20180214T201902Z
LAST-MODIFIED:20180214T203911Z
UID:10000939-1528632000-1528650000@hbaofic.org
SUMMARY:51st Annual Parade of Homes
DESCRIPTION:Your $8 ticket will gain access to all of the New Homes for all dates of the Parade! \n \n  \nThe 51st Annual Parade of Homes is sponsored by:  \n \n  \nThe official Truck Sponsor for the Parade of Homes is 
URL:https://hbaofic.org/calendar/51st-annual-parade-of-homes-4/
LOCATION:Scattered Site Location
ORGANIZER;CN="Greater Iowa City Area Home Builders Association":MAILTO:eo@hbaofic.org
END:VEVENT
BEGIN:VEVENT
DTSTART;TZID=America/Chicago:20180609T100000
DTEND;TZID=America/Chicago:20180609T170000
DTSTAMP:20260421T005806
CREATED:20180214T201812Z
LAST-MODIFIED:20180214T203808Z
UID:10000937-1528538400-1528563600@hbaofic.org
SUMMARY:51st Annual Parade of Homes
DESCRIPTION:Your $8 ticket will gain access to all of the New Homes for all dates of the Parade! \n \n  \nThe 51st Annual Parade of Homes is sponsored by:  \n \n  \nThe official Truck Sponsor for the Parade of Homes is 
URL:https://hbaofic.org/calendar/51st-annual-parade-of-homes-3/
LOCATION:Scattered Site Location
ORGANIZER;CN="Greater Iowa City Area Home Builders Association":MAILTO:eo@hbaofic.org
END:VEVENT
BEGIN:VEVENT
DTSTART;TZID=America/Chicago:20180607T180000
DTEND;TZID=America/Chicago:20180607T210000
DTSTAMP:20260421T005806
CREATED:20180214T201712Z
LAST-MODIFIED:20180214T203655Z
UID:10000934-1528394400-1528405200@hbaofic.org
SUMMARY:51st Annual Parade of Homes
DESCRIPTION:Your $8 ticket will gain access to all of the New Homes for all dates of the Parade! \n \n  \nThe 51st Annual Parade of Homes is sponsored by:  \n \n  \nThe official Truck Sponsor for the Parade of Home is 
URL:https://hbaofic.org/calendar/51st-annual-parade-of-homes-2/
LOCATION:Scattered Site Location
ORGANIZER;CN="Greater Iowa City Area Home Builders Association":MAILTO:eo@hbaofic.org
END:VEVENT
BEGIN:VEVENT
DTSTART;TZID=America/Chicago:20180605T180000
DTEND;TZID=America/Chicago:20180605T210000
DTSTAMP:20260421T005806
CREATED:20180214T201557Z
LAST-MODIFIED:20180214T203548Z
UID:10000932-1528221600-1528232400@hbaofic.org
SUMMARY:51st Annual Parade of Homes
DESCRIPTION:Your $8 ticket will gain access to all of the New Homes for all dates of the Parade! \n \n  \nThe 51st Annual Parade of Homes is sponsored by:  \n \n  \nThe official Truck Sponsor for the Parade of Homes is 
URL:https://hbaofic.org/calendar/51st-annual-parade-of-homes/
LOCATION:Scattered Site Location
ORGANIZER;CN="Greater Iowa City Area Home Builders Association":MAILTO:eo@hbaofic.org
END:VEVENT
BEGIN:VEVENT
DTSTART;TZID=America/Chicago:20180603T120000
DTEND;TZID=America/Chicago:20180603T170000
DTSTAMP:20260421T005806
CREATED:20180214T201324Z
LAST-MODIFIED:20180214T203233Z
UID:10000930-1528027200-1528045200@hbaofic.org
SUMMARY:51st Annual Parade of Homes & 21st Annual Remodelers Showcase
DESCRIPTION:Your $8 ticket will gain access to all of the New and Remodeled Homes for all dates of the Parade! \nThe Remodelers Showcase is June 2nd and 3rd only! \n \n  \nThe 51st Annual Parade of Homes is sponsored by:  \n \n  \nThe official Truck Sponsor for the Parade of Homes is 
URL:https://hbaofic.org/calendar/parade-of-homes-remodelers-parade-showcase-2/
LOCATION:Scattered Site Location
ORGANIZER;CN="Greater Iowa City Area Home Builders Association":MAILTO:eo@hbaofic.org
END:VEVENT
BEGIN:VEVENT
DTSTART;TZID=America/Chicago:20180602T100000
DTEND;TZID=America/Chicago:20180602T170000
DTSTAMP:20260421T005806
CREATED:20180214T201210Z
LAST-MODIFIED:20180214T203302Z
UID:10000928-1527933600-1527958800@hbaofic.org
SUMMARY:51st Annual Parade of Homes & 21st Annual Remodelers Showcase
DESCRIPTION:Your $8 ticket will gain access to all of the New and Remodeled Homes for all dates of the Parade! \nThe Remodelers Showcase is June 2nd and 3rd only! \n \n  \nThe 51st Annual Parade of Homes is sponsored by: \n \n  \nThe official Truck Sponsor for the Parade of Homes is
URL:https://hbaofic.org/calendar/parade-of-homes-remodelers-parade-showcase/
LOCATION:Scattered Site Location
ORGANIZER;CN="Greater Iowa City Area Home Builders Association":MAILTO:eo@hbaofic.org
END:VEVENT
BEGIN:VEVENT
DTSTART;TZID=America/Chicago:20180601T110000
DTEND;TZID=America/Chicago:20180601T133000
DTSTAMP:20260421T005806
CREATED:20180404T164232Z
LAST-MODIFIED:20180404T164232Z
UID:10000711-1527850800-1527859800@hbaofic.org
SUMMARY:Parade of Homes Member Tour Lunch
DESCRIPTION:Members\, take a break from touring the Parade homes with lunch at Hills Bank and Trust Company!
URL:https://hbaofic.org/calendar/parade-of-homes-member-tour-lunch/
LOCATION:Hills Bank\, 590 W Forevergreen Rd\, North Liberty\, IA\, United States
CATEGORIES:HBA Event
ORGANIZER;CN="Greater Iowa City Area Home Builders Association":MAILTO:eo@hbaofic.org
END:VEVENT
BEGIN:VEVENT
DTSTART;TZID=America/Chicago:20180601T080000
DTEND;TZID=America/Chicago:20180601T170000
DTSTAMP:20260421T005806
CREATED:20180404T163727Z
LAST-MODIFIED:20180404T164319Z
UID:10000709-1527840000-1527872400@hbaofic.org
SUMMARY:Parade of Homes Member Tour
DESCRIPTION:Members\, tour the Parade Homes before they open to the public! \n \nThe 51st Annual Parade of Homes is Sponsored by: \n             \n     \nThe Official Truck Sponsor for the Parade of Homes
URL:https://hbaofic.org/calendar/parade-of-homes-member-tour/
CATEGORIES:HBA Event
ORGANIZER;CN="Greater Iowa City Area Home Builders Association":MAILTO:eo@hbaofic.org
END:VEVENT
BEGIN:VEVENT
DTSTART;TZID=America/Chicago:20180601T070000
DTEND;TZID=America/Chicago:20180601T080000
DTSTAMP:20260421T005806
CREATED:20180404T162625Z
LAST-MODIFIED:20180404T163028Z
UID:10000707-1527836400-1527840000@hbaofic.org
SUMMARY:Parade of Homes Award Breakfast
DESCRIPTION:Congratulate the 2018 Parade of Homes Builders and Remodelers on their incredible homes! \nSponsored by:
URL:https://hbaofic.org/calendar/parade-of-homes-award-breakfast-and-member-tour/
LOCATION:The Celebration Farm\, 4696 Robin Woods Ln NE\, Iowa City\, IA\, United States
CATEGORIES:HBA Event
ORGANIZER;CN="Greater Iowa City Area Home Builders Association":MAILTO:eo@hbaofic.org
END:VEVENT
BEGIN:VEVENT
DTSTART;TZID=America/Chicago:20180517T120000
DTEND;TZID=America/Chicago:20180517T130000
DTSTAMP:20260421T005806
CREATED:20180214T190011Z
LAST-MODIFIED:20180214T190011Z
UID:10000689-1526558400-1526562000@hbaofic.org
SUMMARY:Board of Directors Meeting
DESCRIPTION:
URL:https://hbaofic.org/calendar/board-of-directors-meeting-20/
LOCATION:Greater Iowa City Area HBA Conference Room\, 11 South Gilbert St\, Iowa City\, IA\, 52240\, United States
ORGANIZER;CN="Greater Iowa City Area Home Builders Association":MAILTO:eo@hbaofic.org
END:VEVENT
BEGIN:VEVENT
DTSTART;TZID=America/Chicago:20180515T170000
DTEND;TZID=America/Chicago:20180515T190000
DTSTAMP:20260421T005806
CREATED:20180327T162333Z
LAST-MODIFIED:20180504T170212Z
UID:10000705-1526403600-1526410800@hbaofic.org
SUMMARY:Remodelers Parade 21st Birthday Party
DESCRIPTION:Join the Remodelers Council for their 21st Remodelers Parade Party! \nSponsored by Plumb Supply – Water Concepts and Kitchens by Design \n           \nThis event is free for members of the Remodelers Council
URL:https://hbaofic.org/calendar/remodelers-parade-21st-birthday-party/
LOCATION:Joe’s Place Rooftop\, 115 Iowa Ave\, Iowa City\, IA\, 52240\, United States
CATEGORIES:HBA Event
ORGANIZER;CN="Greater Iowa City Area Home Builders Association":MAILTO:eo@hbaofic.org
END:VEVENT
BEGIN:VEVENT
DTSTART;TZID=America/Chicago:20180510T180000
DTEND;TZID=America/Chicago:20180510T200000
DTSTAMP:20260421T005806
CREATED:20180214T200610Z
LAST-MODIFIED:20180504T170144Z
UID:10000926-1525975200-1525982400@hbaofic.org
SUMMARY:May General Membership Meeting
DESCRIPTION:The May General Membership Meeting is hosted and sponsored by Alexander Lumber Co.  \nTour their new showroom while you enjoy food\, beverages and networking with your fellow HBA members. \n \nRSVP to Karyl@HBAofIC.org or call (319) 351-5333
URL:https://hbaofic.org/calendar/may-general-membership-meeting-2/
LOCATION:Answers by Alexander\, 1534 S Gilbert St\, Iowa City\, United States
CATEGORIES:HBA Event
ORGANIZER;CN="Greater Iowa City Area Home Builders Association":MAILTO:eo@hbaofic.org
END:VEVENT
BEGIN:VEVENT
DTSTART;TZID=America/Chicago:20180503T150000
DTEND;TZID=America/Chicago:20180503T190000
DTSTAMP:20260421T005806
CREATED:20180405T150925Z
LAST-MODIFIED:20180430T202803Z
UID:10000713-1525359600-1525374000@hbaofic.org
SUMMARY:CPR/1st Aid Training - Cancelled
DESCRIPTION:This class will be re-scheduled for later in the year.
URL:https://hbaofic.org/calendar/cpr1st-aid-training/
LOCATION:Hills Bank and Trust Company – Coralville\, 1009 2nd St\, Coralville\, IA\, 52241\, United States
CATEGORIES:HBA Event
ORGANIZER;CN="Greater Iowa City Area Home Builders Association":MAILTO:eo@hbaofic.org
END:VEVENT
BEGIN:VEVENT
DTSTART;TZID=America/Chicago:20180427T113000
DTEND;TZID=America/Chicago:20180427T130000
DTSTAMP:20260421T005806
CREATED:20180427T155003Z
LAST-MODIFIED:20180427T155003Z
UID:10000714-1524828600-1524834000@hbaofic.org
SUMMARY:Aging in Place Checklist Lunch and Learn
DESCRIPTION:Starting in May\, a series of community forum sessions will be held monthly to bring attention to the Aging in Place Initiative. As a part of the Aging in Place Initiative\, a new form will be implemented when buying/selling/remodeling a home that is ‘livable’ for the Aging in Place community. \nTo go over this form\, a Lunch n Learn is being held in partnership with the Greater Iowa City Area Home Builders Association and the Johnson County Livable Community’s Housing Action Team. The class will be held at Studio H2O\, who will be sponsoring the lunch\, provided by Kalona Katering Company.
URL:https://hbaofic.org/calendar/aging-in-place-checklist-lunch-and-learn/
LOCATION:Studio H2O Kitchen & Bath Showroom\, 2020 S Riverside Drive\, Iowa City\, IA\, 52240\, United States
CATEGORIES:HBA Event
ORGANIZER;CN="Greater Iowa City Area Home Builders Association":MAILTO:eo@hbaofic.org
END:VEVENT
BEGIN:VEVENT
DTSTART;TZID=America/Chicago:20180424T160000
DTEND;TZID=America/Chicago:20180424T180000
DTSTAMP:20260421T005806
CREATED:20180213T200804Z
LAST-MODIFIED:20180308T153856Z
UID:10000898-1524585600-1524592800@hbaofic.org
SUMMARY:Women's Council - Interior Design Trends
DESCRIPTION:Join Jan Finlayson and Breanna Jensen from Luxe Interiors for our first Women’s Council meeting of 2018! \n           \nJan and Breanna will update you on 2018 Interior Design Trends while you enjoy some wine and tour their showroom. \nThis event is sponsored and hosted by Luxe Interiors.  \nYour $15 donation will go towards the Women’s Council’s Scholarship Funds. \nPlease note the change in date! \nRSVP to Karyl@HBAofIC.org or call (319) 351-5333 \n 
URL:https://hbaofic.org/calendar/womens-council-interior-design-trends/
LOCATION:Luxe Interiors\, 920 E 2nd Ave\, Coralville\, IA\, 52241\, United States
CATEGORIES:HBA Event
ORGANIZER;CN="Greater Iowa City Area Home Builders Association":MAILTO:eo@hbaofic.org
END:VEVENT
BEGIN:VEVENT
DTSTART;TZID=America/Chicago:20180419T120000
DTEND;TZID=America/Chicago:20180419T130000
DTSTAMP:20260421T005806
CREATED:20180214T185933Z
LAST-MODIFIED:20180214T185933Z
UID:10000687-1524139200-1524142800@hbaofic.org
SUMMARY:Board of Directors Meeting
DESCRIPTION:
URL:https://hbaofic.org/calendar/board-of-directors-meeting-19/
LOCATION:Greater Iowa City Area HBA Conference Room\, 11 South Gilbert St\, Iowa City\, IA\, 52240\, United States
ORGANIZER;CN="Greater Iowa City Area Home Builders Association":MAILTO:eo@hbaofic.org
END:VEVENT
BEGIN:VEVENT
DTSTART;TZID=America/Chicago:20180417T073000
DTEND;TZID=America/Chicago:20180417T083000
DTSTAMP:20260421T005806
CREATED:20180214T191652Z
LAST-MODIFIED:20180214T191652Z
UID:10000915-1523950200-1523953800@hbaofic.org
SUMMARY:Legislative Committee Meeting
DESCRIPTION:
URL:https://hbaofic.org/calendar/legislative-committee-meeting-2/
LOCATION:Greater Iowa City Area HBA Conference Room\, 11 South Gilbert St\, Iowa City\, IA\, 52240\, United States
ORGANIZER;CN="Greater Iowa City Area Home Builders Association":MAILTO:eo@hbaofic.org
END:VEVENT
BEGIN:VEVENT
DTSTART;TZID=America/Chicago:20180416T080000
DTEND;TZID=America/Chicago:20180416T170000
DTSTAMP:20260421T005806
CREATED:20180316T163935Z
LAST-MODIFIED:20180316T163935Z
UID:10000703-1523865600-1523898000@hbaofic.org
SUMMARY:Women's Council Scholarship Applications Due
DESCRIPTION:The Greater Iowa City Area Home Builders Association Women’s Council provides scholarships to students wishing to pursue a career in the building industry.     \nComplete the application and return to the Greater Iowa City Area Home Builders Association by April 16th! \n2018 Women’s Council Scholarship Application \n 
URL:https://hbaofic.org/calendar/womens-council-scholarship-applications-due/
CATEGORIES:HBA Event
END:VEVENT
END:VCALENDAR