BEGIN:VCALENDAR
VERSION:2.0
PRODID:-//The Greater Iowa City Home Builders Association  - ECPv6.11.2//NONSGML v1.0//EN
CALSCALE:GREGORIAN
METHOD:PUBLISH
X-WR-CALNAME:The Greater Iowa City Home Builders Association 
X-ORIGINAL-URL:https://hbaofic.org
X-WR-CALDESC:Events for The Greater Iowa City Home Builders Association 
REFRESH-INTERVAL;VALUE=DURATION:PT1H
X-Robots-Tag:noindex
X-PUBLISHED-TTL:PT1H
BEGIN:VTIMEZONE
TZID:America/Chicago
BEGIN:DAYLIGHT
TZOFFSETFROM:-0600
TZOFFSETTO:-0500
TZNAME:CDT
DTSTART:20160313T080000
END:DAYLIGHT
BEGIN:STANDARD
TZOFFSETFROM:-0500
TZOFFSETTO:-0600
TZNAME:CST
DTSTART:20161106T070000
END:STANDARD
BEGIN:DAYLIGHT
TZOFFSETFROM:-0600
TZOFFSETTO:-0500
TZNAME:CDT
DTSTART:20170312T080000
END:DAYLIGHT
BEGIN:STANDARD
TZOFFSETFROM:-0500
TZOFFSETTO:-0600
TZNAME:CST
DTSTART:20171105T070000
END:STANDARD
END:VTIMEZONE
BEGIN:VEVENT
DTSTART;TZID=America/Chicago:20170221T090000
DTEND;TZID=America/Chicago:20170221T170000
DTSTAMP:20260421T160617
CREATED:20161215T170327Z
LAST-MODIFIED:20170126T153114Z
UID:10000815-1487667600-1487696400@hbaofic.org
SUMMARY:Certified New Home Sales Professional (CSP)
DESCRIPTION:Master the craft of successful selling. This professional-level course is designed for specialists in new home sales. You will gain a broad understanding of the home building business\, discuss consumer psychology and learn the advanced techniques used by real estate veterans for greeting\, closing and overcoming objections. \nContinuing Education Hours: 18.0 \n Instructor Henry Thomas\, MIRM\, MCSP
URL:https://hbaofic.org/calendar/certified-new-home-sales-professional-csp/
LOCATION:Iowa City Area Association of Realtors\, 847 Quarry Road\, Suite #110\, Coralville\, IA\, United States
CATEGORIES:HBA Event
ORGANIZER;CN="Greater Iowa City Area Home Builders Association":MAILTO:eo@hbaofic.org
END:VEVENT
BEGIN:VEVENT
DTSTART;TZID=America/Chicago:20170217T160000
DTEND;TZID=America/Chicago:20170217T180000
DTSTAMP:20260421T160617
CREATED:20170131T150150Z
LAST-MODIFIED:20170131T225732Z
UID:10000843-1487347200-1487354400@hbaofic.org
SUMMARY:February Mobile Membership Meeting
DESCRIPTION:Hop on the bus and take a tour of homes with the Johnson County Affordable Housing Coalition \nThe Johnson County Affordable Housing Coalition is hosting a bus tour for members of the Greater Iowa City Area Home Builders Association on Friday\, February 17th from 4:00 to 5:00pm\, with a reception following the tour from 5:00 to 6:00pm.  \nThe tour will focus on houses developed\, rehabbed or managed by the Housing Authority of Iowa City\, the Housing Fellowship\, Iowa Valley Habitat for Humanity\, and Shelter House.  Participants will learn about the challenges of creating affordable housing\, and about the families who live in these houses — where they work\, and how affordable housing contributes to their lives.  \nPlease meet for the tour in the parking lot of the Eastside Recycling Center at 2401 Scott Blvd SE in Iowa City.  The bus will leave from that location at 4:00pm sharp\, and bring everyone back to the Recycling Center for a reception in the Education Room\, starting at 5:00pm.   \nReception sponsored by Urban Acres Real Estate
URL:https://hbaofic.org/calendar/february-mobile-membership-meeting/
LOCATION:Eastside Recycling Center\, 2401 Scott Blvd SE\, Iowa City\, IA\, United States
CATEGORIES:HBA Event
ORGANIZER;CN="Greater Iowa City Area Home Builders Association":MAILTO:eo@hbaofic.org
END:VEVENT
BEGIN:VEVENT
DTSTART;TZID=America/Chicago:20170216T120000
DTEND;TZID=America/Chicago:20170216T130000
DTSTAMP:20260421T160617
CREATED:20161019T144138Z
LAST-MODIFIED:20161103T211107Z
UID:10000781-1487246400-1487250000@hbaofic.org
SUMMARY:Board of Directors Meeting
DESCRIPTION:
URL:https://hbaofic.org/calendar/board-of-directors-meeting-7/
LOCATION:Greater Iowa City Area HBA Conference Room\, 11 South Gilbert St\, Iowa City\, IA\, 52240\, United States
ORGANIZER;CN="Greater Iowa City Area Home Builders Association":MAILTO:eo@hbaofic.org
END:VEVENT
BEGIN:VEVENT
DTSTART;TZID=America/Chicago:20170215T080000
DTEND;TZID=America/Chicago:20170215T170000
DTSTAMP:20260421T160617
CREATED:20161215T173057Z
LAST-MODIFIED:20161215T202504Z
UID:10000827-1487145600-1487178000@hbaofic.org
SUMMARY:50th Annual Parade of Homes - Last Chance Application Due
DESCRIPTION:2017 Parade of Homes Application \nThe Parade of Homes is YOUR consumer brand. New construction and remodeling projects set the stage to market the best homes our builders and remodelers have to offer. \nWhere else can you hit your target market more successfully and directly and have the opportunity to interact with prospects and demonstrate the actual product? Other advertising mediums won’t render the same marketing results as the face to face\, hands-on experience. \n2017 Parade of Homes Dates: \nJune 3\, 4\, 6\, 8\, 10 and 11 \nSaturdays: 10:00 am – 5:00 pm \nSundays: 12:00 Noon – 5:00 pm \nTuesday and Thursday: 6:00 pm – 9:00 pm
URL:https://hbaofic.org/calendar/50th-annual-parade-of-homes-last-chance-application-due/
LOCATION:Greater Iowa City HBA\, 11 S Gilbert Street\, Iowa City\, IA\, 52244\, United States
CATEGORIES:HBA Event
ORGANIZER;CN="Greater Iowa City Area Home Builders Association":MAILTO:eo@hbaofic.org
END:VEVENT
BEGIN:VEVENT
DTSTART;TZID=America/Chicago:20170214T120000
DTEND;TZID=America/Chicago:20170214T170000
DTSTAMP:20260421T160617
CREATED:20161019T150919Z
LAST-MODIFIED:20161019T150919Z
UID:10000813-1487073600-1487091600@hbaofic.org
SUMMARY:Remodelers Council
DESCRIPTION:
URL:https://hbaofic.org/calendar/remodelers-council-4/
LOCATION:Greater Iowa City Area HBA Conference Room\, 11 South Gilbert St\, Iowa City\, IA\, 52240\, United States
END:VEVENT
BEGIN:VEVENT
DTSTART;TZID=America/Chicago:20170214T080000
DTEND;TZID=America/Chicago:20170214T170000
DTSTAMP:20260421T160617
CREATED:20170126T153515Z
LAST-MODIFIED:20170126T153515Z
UID:10000674-1487059200-1487091600@hbaofic.org
SUMMARY:Remodelers Showcase Applications Due
DESCRIPTION:2017-complete-remodelers-parade-packet \nRemodelers Council of the Greater Iowa City Area Home Builders Association  \n20th Annual Remodelers Parade  \nJune 3 and 4\, 2017 \nSaturday 10:00 am – 5:00 pm \nSunday 12:00 pm – 5:00 pm \nFor 20 years the Iowa City Area HBA Remodelers Council has proudly presented the Remodelers Parade to help area homeowners meet remodelers and see their work. The Parade of Homes is the brand area families recognize and trust to provide the information they need to make smart decisions about their home. For 6 years we have added the strength of the new home Parade of Homes to our Remodelers Parade. This allowed us to reach more families\, with our message to visit your home.
URL:https://hbaofic.org/calendar/remodelers-showcase-applications-due/
LOCATION:Greater Iowa City HBA\, 11 S Gilbert Street\, Iowa City\, IA\, 52244\, United States
CATEGORIES:HBA Event
ORGANIZER;CN="Greater Iowa City Area Home Builders Association":MAILTO:eo@hbaofic.org
END:VEVENT
BEGIN:VEVENT
DTSTART;TZID=America/Chicago:20170212T100000
DTEND;TZID=America/Chicago:20170212T160000
DTSTAMP:20260421T160617
CREATED:20160826T214900Z
LAST-MODIFIED:20161221T210135Z
UID:10000627-1486893600-1486915200@hbaofic.org
SUMMARY:2017 Home Show
DESCRIPTION:The biggest home design\, decorating and remodeling event of the year is coming! \nThe Greater Iowa City Area Home Builders Association\, Lepic Kroeger Realtors and UICCU present The Home Show\, February 10th\, 11th and 12th at the Coralville Marriott and Convention Center. \nSee the latest trends in new construction\, remodeling\, landscaping\, kitchen and bath design\, interior decorating\, new appliances\, energy technologies and great ideas for any home. \nGet inspiration\, solutions and dreams at the Iowa City Area Home Show! \n     \nClick on the 2017 Home Show Coupon below for $2 off Admission! \n2017-home-show-coupon
URL:https://hbaofic.org/calendar/2017-home-show-2/
LOCATION:Coralville Marriott Hotel & Conference Center & Virtual\, 300 E. 9th St.\, Coralville\, IA\, 52241\, United States
CATEGORIES:HBA Event
ORGANIZER;CN="Greater Iowa City Area Home Builders Association":MAILTO:eo@hbaofic.org
END:VEVENT
BEGIN:VEVENT
DTSTART;TZID=America/Chicago:20170211T100000
DTEND;TZID=America/Chicago:20170211T170000
DTSTAMP:20260421T160617
CREATED:20160826T214714Z
LAST-MODIFIED:20161221T210007Z
UID:10000626-1486807200-1486832400@hbaofic.org
SUMMARY:2017 Home Show
DESCRIPTION:The biggest home design\, decorating and remodeling event of the year is coming. \nThe Greater Iowa City Area Home Builders Association\, Lepic Kroeger Realtors and UICCU present The Home Show\, February 10th\, 11th and 12th at the Coralville Marriott and Convention Center. \nSee the latest trends in new construction\, remodeling\, landscaping\, kitchen and bath design\, interior decorating\, new appliances\, energy technologies and great ideas for any home. \nGet inspiration\, solutions and dreams at the Iowa City Area Home Show. \n     \nClick on the 2017 Home Show Coupon below for $2 off admission! \n2017-home-show-coupon
URL:https://hbaofic.org/calendar/12265/
LOCATION:Coralville Marriott Hotel & Conference Center & Virtual\, 300 E. 9th St.\, Coralville\, IA\, 52241\, United States
CATEGORIES:HBA Event
ORGANIZER;CN="Greater Iowa City Area Home Builders Association":MAILTO:eo@hbaofic.org
END:VEVENT
BEGIN:VEVENT
DTSTART;TZID=America/Chicago:20170210T170000
DTEND;TZID=America/Chicago:20170210T200000
DTSTAMP:20260421T160617
CREATED:20160826T214532Z
LAST-MODIFIED:20161221T205836Z
UID:10000625-1486746000-1486756800@hbaofic.org
SUMMARY:2017 Home Show
DESCRIPTION:The biggest home design\, decorating and remodeling event of the year is coming. \nThe Greater Iowa City Area Home Builders Association\, Lepic Kroeger Realtors and UICCU present The Home Show\, February 10th\, 11th and 12th at the Coralville Marriott and Convention Center. \nSee the latest trends in new construction\, remodeling\, landscaping\, kitchen and bath design\, interior decorating\, new appliances\, energy technologies and great ideas for any home. \nGet inspiration\, solutions and dreams at the Iowa City Area Home Show. \n     \nClick on the 2017 Home Show Coupon below for $2 off admission! \n2017-home-show-coupon
URL:https://hbaofic.org/calendar/2017-home-show/
LOCATION:Coralville Marriott Hotel & Conference Center & Virtual\, 300 E. 9th St.\, Coralville\, IA\, 52241\, United States
CATEGORIES:HBA Event
ORGANIZER;CN="Greater Iowa City Area Home Builders Association":MAILTO:eo@hbaofic.org
END:VEVENT
BEGIN:VEVENT
DTSTART;TZID=America/Chicago:20170131T080000
DTEND;TZID=America/Chicago:20170131T170000
DTSTAMP:20260421T160617
CREATED:20161215T173006Z
LAST-MODIFIED:20161215T173006Z
UID:10000826-1485849600-1485882000@hbaofic.org
SUMMARY:50th Annual Parade of Homes - Late Bird Applications Due
DESCRIPTION:2017 Parade of Homes Application \nThe Parade of Homes is YOUR consumer brand. New construction and remodeling projects set the stage to market the best homes our builders and remodelers have to offer. \nWhere else can you hit your target market more successfully and directly and have the opportunity to interact with prospects and demonstrate the actual product? Other advertising mediums won’t render the same marketing results as the face to face\, hands-on experience. \n2017 Parade of Homes Dates: \nJune 3\, 4\, 6\, 8\, 10 and 11 \nSaturdays: 10:00 am – 5:00 pm \nSundays: 12:00 Noon – 5:00 pm \nTuesday and Thursday: 6:00 pm – 9:00 pm
URL:https://hbaofic.org/calendar/50th-annual-parade-of-homes-late-bird-applications-due/
LOCATION:Greater Iowa City HBA\, 11 S Gilbert Street\, Iowa City\, IA\, 52244\, United States
CATEGORIES:HBA Event
ORGANIZER;CN="Greater Iowa City Area Home Builders Association":MAILTO:eo@hbaofic.org
END:VEVENT
BEGIN:VEVENT
DTSTART;TZID=America/Chicago:20170119T120000
DTEND;TZID=America/Chicago:20170119T130000
DTSTAMP:20260421T160617
CREATED:20161019T144020Z
LAST-MODIFIED:20161019T144020Z
UID:10000778-1484827200-1484830800@hbaofic.org
SUMMARY:Board of Directors Meeting
DESCRIPTION:
URL:https://hbaofic.org/calendar/board-of-directors-meeting-6/
LOCATION:Greater Iowa City Area HBA Conference Room\, 11 South Gilbert St\, Iowa City\, IA\, 52240\, United States
ORGANIZER;CN="Greater Iowa City Area Home Builders Association":MAILTO:eo@hbaofic.org
END:VEVENT
BEGIN:VEVENT
DTSTART;TZID=America/Chicago:20170117T120000
DTEND;TZID=America/Chicago:20170117T133000
DTSTAMP:20260421T160617
CREATED:20161028T150641Z
LAST-MODIFIED:20161221T205607Z
UID:10000652-1484654400-1484659800@hbaofic.org
SUMMARY:Respirator Training Lunch N Learn
DESCRIPTION:Overview of OSHA respirator standard 1910.134\nReview of employer responsibilities under the standard\nDiscuss the requirements for employee medical evaluation and fit testing\nReview employer requirements for a written program\, employee training and record keeping
URL:https://hbaofic.org/calendar/respirator-training-with-vicki-nelson/
LOCATION:PSC Distribution – 2nd Floor Training Room\, 72 Commercial Dr\, Iowa City\, IA\, 52246\, United States
CATEGORIES:HBA Event
ORGANIZER;CN="Greater Iowa City Area Home Builders Association":MAILTO:eo@hbaofic.org
END:VEVENT
BEGIN:VEVENT
DTSTART;TZID=America/Chicago:20170116T080000
DTEND;TZID=America/Chicago:20170116T170000
DTSTAMP:20260421T160617
CREATED:20161215T172545Z
LAST-MODIFIED:20161215T172759Z
UID:10000824-1484553600-1484586000@hbaofic.org
SUMMARY:50th Annual Parade of Homes - Applications Due
DESCRIPTION:2017 Parade of Homes Application \nThe Parade of Homes is YOUR consumer brand. New construction and remodeling projects set the stage to market the best homes our builders and remodelers have to offer. \nWhere else can you hit your target market more successfully and directly and have the opportunity to interact with prospects and demonstrate the actual product? Other advertising mediums won’t render the same marketing results as the face to face\, hands-on experience. \n2017 Parade of Homes Dates: \nJune 3\, 4\, 6\, 8\, 10 and 11 \nSaturdays: 10:00 am – 5:00 pm \nSundays: 12:00 Noon – 5:00 pm \nTuesday and Thursday: 6:00 pm – 9:00 pm
URL:https://hbaofic.org/calendar/50th-annual-parade-of-homes-applications-due/
LOCATION:Greater Iowa City HBA\, 11 S Gilbert Street\, Iowa City\, IA\, 52244\, United States
CATEGORIES:HBA Event
ORGANIZER;CN="Greater Iowa City Area Home Builders Association":MAILTO:eo@hbaofic.org
END:VEVENT
BEGIN:VEVENT
DTSTART;TZID=America/Chicago:20161230T080000
DTEND;TZID=America/Chicago:20161230T170000
DTSTAMP:20260421T160617
CREATED:20161215T172357Z
LAST-MODIFIED:20161215T172858Z
UID:10000822-1483084800-1483117200@hbaofic.org
SUMMARY:50th Annual Parade of Homes - Early Bird Application Deadline
DESCRIPTION:2017 Parade of Homes Application \nThe Parade of Homes is YOUR consumer brand. New construction and remodeling projects set the stage to market the best homes our builders and remodelers have to offer. \nWhere else can you hit your target market more successfully and directly and have the opportunity to interact with prospects and demonstrate the actual product? Other advertising mediums won’t render the same marketing results as the face to face\, hands-on experience. \n2017 Parade of Homes Dates: \nJune 3\, 4\, 6\, 8\, 10 and 11 \nSaturdays: 10:00 am – 5:00 pm \nSundays: 12:00 Noon – 5:00 pm \nTuesday and Thursday: 6:00 pm – 9:00 pm
URL:https://hbaofic.org/calendar/50th-annual-parade-of-homes-1st-entry-deadline/
LOCATION:Greater Iowa City HBA\, 11 S Gilbert Street\, Iowa City\, IA\, 52244\, United States
CATEGORIES:HBA Event
ORGANIZER;CN="Greater Iowa City Area Home Builders Association":MAILTO:eo@hbaofic.org
END:VEVENT
BEGIN:VEVENT
DTSTART;TZID=America/Chicago:20161222T113000
DTEND;TZID=America/Chicago:20161222T123000
DTSTAMP:20260421T160617
CREATED:20161221T204342Z
LAST-MODIFIED:20161221T204342Z
UID:10000665-1482406200-1482409800@hbaofic.org
SUMMARY:Home Show Committee Meeting
DESCRIPTION:
URL:https://hbaofic.org/calendar/home-show-committee-meeting/
LOCATION:Greater Iowa City Area HBA Conference Room\, 11 South Gilbert St\, Iowa City\, IA\, 52240\, United States
CATEGORIES:HBA Event
ORGANIZER;CN="Greater Iowa City Area Home Builders Association":MAILTO:eo@hbaofic.org
END:VEVENT
BEGIN:VEVENT
DTSTART;TZID=America/Chicago:20161220T073000
DTEND;TZID=America/Chicago:20161220T083000
DTSTAMP:20260421T160617
CREATED:20161019T145641Z
LAST-MODIFIED:20161019T145641Z
UID:10000802-1482219000-1482222600@hbaofic.org
SUMMARY:Legislative Committee
DESCRIPTION:
URL:https://hbaofic.org/calendar/legislative-committee-3/
LOCATION:Greater Iowa City Area HBA Conference Room\, 11 South Gilbert St\, Iowa City\, IA\, 52240\, United States
ORGANIZER;CN="Greater Iowa City Area Home Builders Association":MAILTO:eo@hbaofic.org
END:VEVENT
BEGIN:VEVENT
DTSTART;TZID=America/Chicago:20161215T120000
DTEND;TZID=America/Chicago:20161215T130000
DTSTAMP:20260421T160617
CREATED:20160825T182455Z
LAST-MODIFIED:20160825T182455Z
UID:10000623-1481803200-1481806800@hbaofic.org
SUMMARY:Board of Directors Meeting
DESCRIPTION:
URL:https://hbaofic.org/calendar/board-of-directors-meeting-5/
LOCATION:Greater Iowa City Area HBA Conference Room\, 11 South Gilbert St\, Iowa City\, IA\, 52240\, United States
ORGANIZER;CN="Greater Iowa City Area Home Builders Association":MAILTO:eo@hbaofic.org
END:VEVENT
BEGIN:VEVENT
DTSTART;TZID=America/Chicago:20161213T120000
DTEND;TZID=America/Chicago:20161213T170000
DTSTAMP:20260421T160617
CREATED:20161019T150745Z
LAST-MODIFIED:20161019T150745Z
UID:10000811-1481630400-1481648400@hbaofic.org
SUMMARY:Remodelers Council
DESCRIPTION:
URL:https://hbaofic.org/calendar/remodelers-council-3/
LOCATION:Greater Iowa City Area HBA Conference Room\, 11 South Gilbert St\, Iowa City\, IA\, 52240\, United States
END:VEVENT
BEGIN:VEVENT
DTSTART;TZID=America/Chicago:20161207T080000
DTEND;TZID=America/Chicago:20161207T120000
DTSTAMP:20260421T160617
CREATED:20161028T150239Z
LAST-MODIFIED:20161130T152259Z
UID:10000651-1481097600-1481112000@hbaofic.org
SUMMARY:10 Hour OSHA Construction Course
DESCRIPTION:Fee: $100 includes lunch and snacks \nRegistration: Contact Karyl at 319-351-5333 or Karyl@hbaofic.org with your attendance. Please have your Iowa state license number ready (if applicable). All payments should be made prior to the course: \nIowa City Area Home Builders Association \nPO Box 3396\, Iowa City\, IA 52244 \nSponsored by: PSC Distribution & Insurance Associates \n 
URL:https://hbaofic.org/calendar/10-hour-osha-construction-course/
LOCATION:PSC Distribution – 2nd Floor Training Room\, 72 Commercial Dr\, Iowa City\, IA\, 52246\, United States
ORGANIZER;CN="Greater Iowa City Area Home Builders Association":MAILTO:eo@hbaofic.org
END:VEVENT
BEGIN:VEVENT
DTSTART;TZID=America/Chicago:20161206T080000
DTEND;TZID=America/Chicago:20161206T160000
DTSTAMP:20260421T160617
CREATED:20161028T145551Z
LAST-MODIFIED:20161130T152235Z
UID:10000649-1481011200-1481040000@hbaofic.org
SUMMARY:10 Hour OSHA Construction Course
DESCRIPTION:Fee: $100.00 includes lunch and snacks \nRegistration: Contact Karyl at 319-351-5333 or Karyl@hbaofic.org with your attendance. Please have your Iowa state license number ready (if applicable). All payments should be made prior to the course: \nIowa City Area Home Builders Association \nPO Box 3396\, Iowa City\, IA 52244 \nSponsored by: PSC Distribution & Insurance Associates \n 
URL:https://hbaofic.org/calendar/10-hour-osha/
LOCATION:PSC Distribution – 2nd Floor Training Room\, 72 Commercial Dr\, Iowa City\, IA\, 52246\, United States
ORGANIZER;CN="Greater Iowa City Area Home Builders Association":MAILTO:eo@hbaofic.org
END:VEVENT
BEGIN:VEVENT
DTSTART;TZID=America/Chicago:20161201T180000
DTEND;TZID=America/Chicago:20161201T220000
DTSTAMP:20260421T160617
CREATED:20160825T181752Z
LAST-MODIFIED:20161117T185430Z
UID:10000774-1480615200-1480629600@hbaofic.org
SUMMARY:Holiday Party
DESCRIPTION:  Dueling Pianos and Scholarship Fundraising await you at the Cedar Ridge Winery!   \n  \nEvent Sponsor CBI Bank & Trust \n \nFelix and Fingers Dueling Pianos are sponsored by: BLANK & McCUNE\, Bachmeier Carpet One\, Beisser Lumber Company\, Randy’s Carpets & Interiors and McCreedy Ruth Construction\, LLC.  \n      \n   \n  \nThank you to our Social Sponsors: Insurance Associates\, King’s Material\, Knebel Windows\, Sobaski Abbey Carpet & Floor\, Kitchens By Design\, Hills Bank & Trust Company and Colony Heating and Air Conditioning \n       \n   
URL:https://hbaofic.org/calendar/holiday-party-3/
LOCATION:Cedar Ridge Winery\, 1441 Marak Rd NW\, Swisher\, IA\, 52338\, United States
CATEGORIES:HBA Event
ORGANIZER;CN="Greater Iowa City Area Home Builders Association":MAILTO:eo@hbaofic.org
END:VEVENT
BEGIN:VEVENT
DTSTART;TZID=America/Chicago:20161117T120000
DTEND;TZID=America/Chicago:20161117T130000
DTSTAMP:20260421T160617
CREATED:20160825T182407Z
LAST-MODIFIED:20160825T182415Z
UID:10000622-1479384000-1479387600@hbaofic.org
SUMMARY:Board of Directors Meeting
DESCRIPTION:
URL:https://hbaofic.org/calendar/board-of-directors-meeting-4/
LOCATION:Greater Iowa City Area HBA Conference Room\, 11 South Gilbert St\, Iowa City\, IA\, 52240\, United States
ORGANIZER;CN="Greater Iowa City Area Home Builders Association":MAILTO:eo@hbaofic.org
END:VEVENT
BEGIN:VEVENT
DTSTART;TZID=America/Chicago:20161117T103000
DTEND;TZID=America/Chicago:20161117T233000
DTSTAMP:20260421T160617
CREATED:20161111T154114Z
LAST-MODIFIED:20161111T154249Z
UID:10000658-1479378600-1479425400@hbaofic.org
SUMMARY:Vocational Training Council
DESCRIPTION:The NAHB Student Chapter will show us the presentation for IBS.
URL:https://hbaofic.org/calendar/vocational-training-council/
LOCATION:Greater Iowa City Area HBA Conference Room\, 11 South Gilbert St\, Iowa City\, IA\, 52240\, United States
ORGANIZER;CN="Greater Iowa City Area Home Builders Association":MAILTO:eo@hbaofic.org
END:VEVENT
BEGIN:VEVENT
DTSTART;TZID=America/Chicago:20161110T180000
DTEND;TZID=America/Chicago:20161110T200000
DTSTAMP:20260421T160617
CREATED:20160825T181444Z
LAST-MODIFIED:20161104T205416Z
UID:10000772-1478800800-1478808000@hbaofic.org
SUMMARY:Annual Meeting
DESCRIPTION:Join us for the Annual Meeting to celebrate 2016 and vote in your 2017 Leadership. \nSponsored by CBI Bank & Trust \n \nThank you to our Social Sponsors: Insurance Associates\, King’s Material\, Bachmeier Carpet One\, Watt’s Group\, Sueppel’s Siding & Remodeling\, Pugh Hagan Prahm PLC \n         \nGold Cards Apply.
URL:https://hbaofic.org/calendar/annual-meeting-3/
LOCATION:Coralville Marriott Hotel & Conference Center & Virtual\, 300 E. 9th St.\, Coralville\, IA\, 52241\, United States
CATEGORIES:HBA Event
ORGANIZER;CN="Greater Iowa City Area Home Builders Association":MAILTO:eo@hbaofic.org
END:VEVENT
BEGIN:VEVENT
DTSTART;TZID=America/Chicago:20161110T033000
DTEND;TZID=America/Chicago:20161110T173000
DTSTAMP:20260421T160617
CREATED:20161104T203815Z
LAST-MODIFIED:20161104T205257Z
UID:10000656-1478748600-1478799000@hbaofic.org
SUMMARY:HBAI President's Social
DESCRIPTION:Join us at the Coralville Marriott in congratulating Tim Ruth of McCreedy-Ruth Construction on being named the State President for the Home Builders Association of Iowa in 2017. \nSponsored by Engineered Building Design\, L.C. \n \nSocial Sponsors: BCI Lumber\, Home Builders Association of Iowa\, LattaHarris\, LLP \n     \nStay for the Annual Meeting at 6:00. \n 
URL:https://hbaofic.org/calendar/hbai-presidents-social-2/
LOCATION:Coralville Marriott Hotel & Conference Center & Virtual\, 300 E. 9th St.\, Coralville\, IA\, 52241\, United States
CATEGORIES:HBA Event
ORGANIZER;CN="Greater Iowa City Area Home Builders Association":MAILTO:eo@hbaofic.org
END:VEVENT
BEGIN:VEVENT
DTSTART;TZID=America/Chicago:20161028T130000
DTEND;TZID=America/Chicago:20161028T170000
DTSTAMP:20260421T160617
CREATED:20160927T161801Z
LAST-MODIFIED:20160927T163151Z
UID:10000629-1477659600-1477674000@hbaofic.org
SUMMARY:Women's Council IVHFH Women Build Day
DESCRIPTION:Join the Women’s Council at the Iowa Valley Habitat for Humanity Pat Heiden Women Build 8 \nEach year\, Iowa Valley Habitat for Humanity seeks out an influential woman in the community to honor with the Women Build. Our 2016 Women Build honoree is Pat Heiden\, a long-time Johnson County volunteer and executive director of the Oaknoll Retirement Residence. \nThe Women Build gathers women in the community to raise funds and build a home for a low-income family in the area. IVHFH will partner with Sophia Diaz and her family to assist them into ownership of this home. The goal of the Women Build is to empower and encourage women to participate in construction projects; however\, we welcome ANYONE\, regardless of gender\, to come out and volunteer on this project! \n1605 Prairie Du Chien Rd\, Iowa City\, IA \nClick here to reserve your 1:00 – 5:00 Shift Pat Heiden Women Build 8 \n 
URL:https://hbaofic.org/calendar/womens-council-ivhfh-women-build-day/
LOCATION:Iowa Valley Habitat for Humanity Women Build\, 1605 Prairie Du Chien Rd\, Iowa City\, IA\, United States
CATEGORIES:HBA Event
ORGANIZER;CN="Greater Iowa City Area Home Builders Association":MAILTO:eo@hbaofic.org
END:VEVENT
BEGIN:VEVENT
DTSTART;TZID=America/Chicago:20161020T120000
DTEND;TZID=America/Chicago:20161020T130000
DTSTAMP:20260421T160617
CREATED:20160825T182319Z
LAST-MODIFIED:20161019T143758Z
UID:10000621-1476964800-1476968400@hbaofic.org
SUMMARY:Board of Directors Meeting
DESCRIPTION:
URL:https://hbaofic.org/calendar/board-of-directors-meeting-3/
LOCATION:Greater Iowa City Area HBA Conference Room\, 11 South Gilbert St\, Iowa City\, IA\, 52240\, United States
ORGANIZER;CN="Greater Iowa City Area Home Builders Association":MAILTO:eo@hbaofic.org
END:VEVENT
BEGIN:VEVENT
DTSTART;TZID=America/Chicago:20161018T073000
DTEND;TZID=America/Chicago:20161018T083000
DTSTAMP:20260421T160617
CREATED:20161019T145544Z
LAST-MODIFIED:20161019T145544Z
UID:10000799-1476775800-1476779400@hbaofic.org
SUMMARY:Legislative Committee
DESCRIPTION:
URL:https://hbaofic.org/calendar/legislative-committee-2/
LOCATION:Greater Iowa City Area HBA Conference Room\, 11 South Gilbert St\, Iowa City\, IA\, 52240\, United States
ORGANIZER;CN="Greater Iowa City Area Home Builders Association":MAILTO:eo@hbaofic.org
END:VEVENT
BEGIN:VEVENT
DTSTART;TZID=America/Chicago:20161014T080000
DTEND;TZID=America/Chicago:20161014T170000
DTSTAMP:20260421T160617
CREATED:20160927T163120Z
LAST-MODIFIED:20160927T163217Z
UID:10000776-1476432000-1476464400@hbaofic.org
SUMMARY:Women's Council IVHFH Women Build Day
DESCRIPTION:Join the Women’s Council at the Iowa Valley Habitat for Humanity Pat Heiden Women Build 8 \nEach year\, Iowa Valley Habitat for Humanity seeks out an influential woman in the community to honor with the Women Build. Our 2016 Women Build honoree is Pat Heiden\, a long-time Johnson County volunteer and executive director of the Oaknoll Retirement Residence. \nThe Women Build gathers women in the community to raise funds and build a home for a low-income family in the area. IVHFH will partner with Sophia Diaz and her family to assist them into ownership of this home. The goal of the Women Build is to empower and encourage women to participate in construction projects; however\, we welcome ANYONE\, regardless of gender\, to come out and volunteer on this project! \n1605 Prairie Du Chien Rd\, Iowa City\, IA \nPat Heiden Women Build 8 8:00 – Noon Shift Registration \nPat Heiden Women Build 8 1:00 – 5:00 Shift Registration
URL:https://hbaofic.org/calendar/womens-council-ivhfh-women-build-day-2/
LOCATION:Iowa Valley Habitat for Humanity Women Build\, 1605 Prairie Du Chien Rd\, Iowa City\, IA\, United States
CATEGORIES:HBA Event
ORGANIZER;CN="Greater Iowa City Area Home Builders Association":MAILTO:eo@hbaofic.org
END:VEVENT
BEGIN:VEVENT
DTSTART;TZID=America/Chicago:20161013T180000
DTEND;TZID=America/Chicago:20161013T210000
DTSTAMP:20260421T160617
CREATED:20160816T163303Z
LAST-MODIFIED:20160928T145426Z
UID:10000770-1476381600-1476392400@hbaofic.org
SUMMARY:October General Membership Meeting
DESCRIPTION:Network with other members at Kinnick Stadium!  Scott Chandler\, former Hawkeye and San Diego Charger\, will be our speaker. He also played for the Dallas Cowboys\, New York Giants\, Buffalo Bills and New England Patriots.  Mr. Chandler is sponsored by Klosterman Construction. \nGold Sponsors: CBI Bank & Trust\, McGrath Auto\, Sueppel’s Siding & Remodeling\, Beisser Lumber Company\, Sobaski Abbey Carpet & Floor\, CLB Home Planning & Design \nBlack Sponsor: RSM US \nRaffle Sponsor: PSC Distribution/Studio H2O with Proceeds going to the Shelter House \nGold Cards Apply
URL:https://hbaofic.org/calendar/october-general-membership-meeting-2/
LOCATION:Kinnick Stadium Skyboxes/Mediacom Outdoor Club\, 825 Stadium Dr\, Iowa City\, IA\, 52240\, United States
CATEGORIES:HBA Event
ORGANIZER;CN="Greater Iowa City Area Home Builders Association":MAILTO:eo@hbaofic.org
END:VEVENT
END:VCALENDAR