BEGIN:VCALENDAR
VERSION:2.0
PRODID:-//The Greater Iowa City Home Builders Association  - ECPv6.11.2//NONSGML v1.0//EN
CALSCALE:GREGORIAN
METHOD:PUBLISH
X-WR-CALNAME:The Greater Iowa City Home Builders Association 
X-ORIGINAL-URL:https://hbaofic.org
X-WR-CALDESC:Events for The Greater Iowa City Home Builders Association 
REFRESH-INTERVAL;VALUE=DURATION:PT1H
X-Robots-Tag:noindex
X-PUBLISHED-TTL:PT1H
BEGIN:VTIMEZONE
TZID:America/Chicago
BEGIN:DAYLIGHT
TZOFFSETFROM:-0600
TZOFFSETTO:-0500
TZNAME:CDT
DTSTART:20150308T080000
END:DAYLIGHT
BEGIN:STANDARD
TZOFFSETFROM:-0500
TZOFFSETTO:-0600
TZNAME:CST
DTSTART:20151101T070000
END:STANDARD
BEGIN:DAYLIGHT
TZOFFSETFROM:-0600
TZOFFSETTO:-0500
TZNAME:CDT
DTSTART:20160313T080000
END:DAYLIGHT
BEGIN:STANDARD
TZOFFSETFROM:-0500
TZOFFSETTO:-0600
TZNAME:CST
DTSTART:20161106T070000
END:STANDARD
END:VTIMEZONE
BEGIN:VEVENT
DTSTART;TZID=America/Chicago:20160229T080000
DTEND;TZID=America/Chicago:20160229T170000
DTSTAMP:20260422T175618
CREATED:20151217T211406Z
LAST-MODIFIED:20151217T211406Z
UID:10000715-1456732800-1456765200@hbaofic.org
SUMMARY:Certified Green Professional (CGP)
DESCRIPTION:The Certified Green Professional™ designation recognizes builders\, remodelers and other industry professionals who incorporate green and sustainable building principles into homes— without driving up the cost of construction. The required courses provide a solid background in green building methods\, as well as the tools to reach consumers\, from the organization leading the charge to provide market-driven green building solutions to the home building industry. \nCGP coursework is closely aligned with the ICC 700 National Green Building Standard\, which includes chapters on energy\, water and resource efficiency\, indoor environmental quality\, lot and site development and home owner education and is the core curriculum for the required CGP classes. \nThere are nearly 3\,000 active CGPs in the United States working in all aspects of the high-performance home building and remodeling industry\, from contractors and their subs to real estate agents and appraisal experts. Join them today. \n\nGreen Building for Building Professionals—Implementing cost-effective green building into your construction practices begins with up-front planning that examines the whole house and the building science behind it. In this two-day course\, you will learn how to apply green building practices in the construction of a new home\, remodel\, site development or multifamily project. With a focus on flexibility\, a sound knowledge base and cost-effective solutions\, the course provides the tools for a successful green project\, including a review of the newly revised ICC 700-2012 National Green Building Standard ®.\nBusiness Management for Building Professionals—Learn the management skills that give industry leaders the edge. This course will give you a solid foundation for managing small to medium size building/remodeling and service companies.This 3 Day Course Is Available February 29\, March 1 and March 2\, 2016 ~ 8:00am-5:00pm\n\nCost:              $350 Members     $450 Non-Members   Lunch is Provided \nREGISTER FOR CLASS TODAY! \nCall (319) 351-5333 or email Karyl@HBAofIC.org \nSPACE IS LIMITED AND PRE-REGISTRATION IS REQUIRED \nREGISTRATION CLOSES FEBRUARY 12\, 2016 \n 
URL:https://hbaofic.org/calendar/certified-green-professional-cgp/
LOCATION:Iowa City Area Association of Realtors\, 847 Quarry Road\, Suite #110\, Coralville\, IA\, United States
ORGANIZER;CN="Greater Iowa City Area Home Builders Association":MAILTO:eo@hbaofic.org
END:VEVENT
BEGIN:VEVENT
DTSTART;TZID=America/Chicago:20160214T100000
DTEND;TZID=America/Chicago:20160214T160000
DTSTAMP:20260422T175618
CREATED:20150930T234833Z
LAST-MODIFIED:20160129T190918Z
UID:10000708-1455444000-1455465600@hbaofic.org
SUMMARY:2016 Home Show
DESCRIPTION:The biggest home design\, decorating and remodeling event of the year is coming. \nThe Greater Iowa City Area Home Builders Association\, Lepic Kroeger Realtors and UICCU present The Home Show\, February 12th\, 13th and 14th at the Coralville Marriott and Convention Center. \nSee the latest trends in new construction\, remodeling\, landscaping\, kitchen and bath design\, interior decorating\, new appliances\, energy technologies and great ideas for any home. \nRegister and play to win great prizes during this one-of-a-kind event! \nGet inspiration\, solutions and dreams at the Iowa City Area Home Show. \nHome Show Coupon  Click on the Home Show Coupon for $2 off one regular priced admission.  Kids 14 and under are FREE!
URL:https://hbaofic.org/calendar/2016-home-show-3/
LOCATION:Coralville Marriott Hotel & Conference Center & Virtual\, 300 E. 9th St.\, Coralville\, IA\, 52241\, United States
ORGANIZER;CN="Greater Iowa City Area Home Builders Association":MAILTO:eo@hbaofic.org
END:VEVENT
BEGIN:VEVENT
DTSTART;TZID=America/Chicago:20160213T100000
DTEND;TZID=America/Chicago:20160213T170000
DTSTAMP:20260422T175618
CREATED:20150930T234749Z
LAST-MODIFIED:20160128T171320Z
UID:10000706-1455357600-1455382800@hbaofic.org
SUMMARY:2016 Home Show
DESCRIPTION:The biggest home design\, decorating and remodeling event of the year is coming. \nThe Greater Iowa City Area Home Builders Association\, Lepic Kroeger Realtors and UICCU present The Home Show\, February 12th\, 13th and 14th at the Coralville Marriott and Convention Center. \nSee the latest trends in new construction\, remodeling\, landscaping\, kitchen and bath design\, interior decorating\, new appliances\, energy technologies and great ideas for any home. \nRegister and play to win great prizes during this one-of-a-kind event! \nGet inspiration\, solutions and dreams at the Iowa City Area Home Show.
URL:https://hbaofic.org/calendar/2016-home-show-2/
LOCATION:Coralville Marriott Hotel & Conference Center & Virtual\, 300 E. 9th St.\, Coralville\, IA\, 52241\, United States
ORGANIZER;CN="Greater Iowa City Area Home Builders Association":MAILTO:eo@hbaofic.org
END:VEVENT
BEGIN:VEVENT
DTSTART;TZID=America/Chicago:20160212T170000
DTEND;TZID=America/Chicago:20160212T200000
DTSTAMP:20260422T175618
CREATED:20150930T234710Z
LAST-MODIFIED:20160128T171342Z
UID:10000704-1455296400-1455307200@hbaofic.org
SUMMARY:2016 Home Show
DESCRIPTION:The biggest home design\, decorating and remodeling event of the year is coming. \nThe Greater Iowa City Area Home Builders Association\, Lepic Kroeger Realtors and UICCU present The Home Show\, February 12th\, 13th and 14th at the Coralville Marriott and Convention Center. \nSee the latest trends in new construction\, remodeling\, landscaping\, kitchen and bath design\, interior decorating\, new appliances\, energy technologies and great ideas for any home. \nRegister and play to win great prizes during this one-of-a-kind event! \nGet inspiration\, solutions and dreams at the Iowa City Area Home Show.
URL:https://hbaofic.org/calendar/2016-home-show/
LOCATION:Coralville Marriott Hotel & Conference Center & Virtual\, 300 E. 9th St.\, Coralville\, IA\, 52241\, United States
ORGANIZER;CN="Greater Iowa City Area Home Builders Association":MAILTO:eo@hbaofic.org
END:VEVENT
BEGIN:VEVENT
DTSTART;TZID=America/Chicago:20160120T200000
DTEND;TZID=America/Chicago:20160120T220000
DTSTAMP:20260422T175618
CREATED:20151215T142053Z
LAST-MODIFIED:20151215T142053Z
UID:10000710-1453320000-1453327200@hbaofic.org
SUMMARY:Iowa Night at IBS
DESCRIPTION:Socialize with your fellow Iowans on Iowa Night during the International Builders Show
URL:https://hbaofic.org/calendar/iowa-night-at-ibs/
LOCATION:Rhumbar\, Las Vegas\, NV\, United States
ORGANIZER;CN="HBAI":MAILTO:jayiverson@hbaiowa.org
END:VEVENT
BEGIN:VEVENT
DTSTART;VALUE=DATE:20160119
DTEND;VALUE=DATE:20160124
DTSTAMP:20260422T175618
CREATED:20150930T234349Z
LAST-MODIFIED:20151215T142113Z
UID:10000702-1453165200-1453510799@hbaofic.org
SUMMARY:International Builders Show
DESCRIPTION:Join us in Las Vegas for the building industry’s biggest event\, The International Builder Show!
URL:https://hbaofic.org/calendar/ibs/
LOCATION:Unnamed Venue\, Las Vegas \, NV
END:VEVENT
BEGIN:VEVENT
DTSTART;TZID=America/Chicago:20160113T080000
DTEND;TZID=America/Chicago:20160113T163000
DTSTAMP:20260422T175618
CREATED:20151217T212228Z
LAST-MODIFIED:20151217T212228Z
UID:10000600-1452672000-1452702600@hbaofic.org
SUMMARY:Lead Safe Renovator Training
DESCRIPTION:IOWA LAW REQUIRES anyone performing work in or on housing or child-occupied facilities built before 1978 be certified as a Lead Safe Renovator. This includes: Painting\, Siding\, Windows\, Gutters\, Roofing\, Flooring\, Cabinets\, Countertops\, Garage Doors\, Plumbing\, Electrical\, HVAC\, General Contractors\, Handyman Services\, Maintenance Workers\, Rental Property Owners/ Managers… \nTHINGS YOU SHOULD KNOW: \n\nContinuing Education Credit toward your safety discipline is available for Plumbing\, Mechanical\, HVAC license holders for no additional charge.       \nClasses are taught by instructors that are experienced\, professional contractors AND are also licensed lead inspectors.   Industry knowledge\, hands-on experience and a thorough understanding of the lead laws in Iowa enable our instructors to   clearly explain how to make compliance with the lead regulations work within YOUR specific field.\n\nCost:              $165 Members     $195 Non-Members   Lunch is Provided \nREGISTER FOR CLASS TODAY! \nCall (319) 351-5333 or email Karyl@HBAofIC.org \nSPACE IS LIMITED AND PRE-REGISTRATION IS REQUIRED \nSponsored by PSC Distribution and The Greater Iowa City Area Home Builders Association
URL:https://hbaofic.org/calendar/lead-safe-renovator-training/
LOCATION:PSC Distribution – 2nd Floor Training Room\, 72 Commercial Dr\, Iowa City\, IA\, 52246\, United States
ORGANIZER;CN="Greater Iowa City Area Home Builders Association":MAILTO:eo@hbaofic.org
END:VEVENT
BEGIN:VEVENT
DTSTART;TZID=America/Chicago:20160108T080000
DTEND;TZID=America/Chicago:20160108T170000
DTSTAMP:20260422T175618
CREATED:20160104T153917Z
LAST-MODIFIED:20160104T154443Z
UID:10000601-1452240000-1452272400@hbaofic.org
SUMMARY:Parade of Homes Application Deadline
DESCRIPTION:Applications for the 2016 Parade of Homes are due January\, 8\, 2016. \nParade Form 2016 \nParade of Homes Application 2016
URL:https://hbaofic.org/calendar/parade-of-homes-application-deadline/
LOCATION:Greater Iowa City HBA\, 11 S Gilbert Street\, Iowa City\, IA\, 52244\, United States
ORGANIZER;CN="Greater Iowa City Area Home Builders Association":MAILTO:eo@hbaofic.org
END:VEVENT
BEGIN:VEVENT
DTSTART;TZID=America/Chicago:20151217T120000
DTEND;TZID=America/Chicago:20151217T120000
DTSTAMP:20260422T175618
CREATED:20150930T232640Z
LAST-MODIFIED:20150930T232640Z
UID:10000697-1450353600-1450353600@hbaofic.org
SUMMARY:Board Meeting
DESCRIPTION:
URL:https://hbaofic.org/calendar/board-meeting-3/
LOCATION:Greater Iowa City HBA\, 11 S Gilbert Street\, Iowa City\, IA\, 52244\, United States
END:VEVENT
BEGIN:VEVENT
DTSTART;TZID=America/Chicago:20151203T180000
DTEND;TZID=America/Chicago:20151203T180000
DTSTAMP:20260422T175618
CREATED:20150930T232035Z
LAST-MODIFIED:20151202T211702Z
UID:10000688-1449165600-1449165600@hbaofic.org
SUMMARY:Holiday Party
DESCRIPTION:Join us December 3\, 2015 at the Riverside Casino and Golf Resort to celebrate another great year. \nRSVP by Monday\, November 30\, 2015.
URL:https://hbaofic.org/calendar/holiday-party-2/
LOCATION:Riverside Casino\, 3184 Highway 22\, Riverside \, IA\, 52327\, United States
END:VEVENT
BEGIN:VEVENT
DTSTART;TZID=America/Chicago:20151119T120000
DTEND;TZID=America/Chicago:20151119T120000
DTSTAMP:20260422T175618
CREATED:20150930T232556Z
LAST-MODIFIED:20150930T232556Z
UID:10000695-1447934400-1447934400@hbaofic.org
SUMMARY:Board Meeting
DESCRIPTION:
URL:https://hbaofic.org/calendar/board-meeting-2/
LOCATION:Greater Iowa City HBA\, 11 S Gilbert Street\, Iowa City\, IA\, 52244\, United States
END:VEVENT
BEGIN:VEVENT
DTSTART;TZID=America/Chicago:20151112T180000
DTEND;TZID=America/Chicago:20151112T180000
DTSTAMP:20260422T175618
CREATED:20150930T231808Z
LAST-MODIFIED:20151109T225209Z
UID:10000685-1447351200-1447351200@hbaofic.org
SUMMARY:Annual Meeting
DESCRIPTION:The link to register for the Annual Meeting is not working at this time.  Please call Karyl at (319) 351-5333 or email your RSVP to Karyl@HBAofIC.org  I apologize for any inconvenience. \nJoin us in celebrating our 2015 Leadership and vote in the 2016 President and Board of Directors
URL:https://hbaofic.org/calendar/annual-meeting-2/
LOCATION:Terry Trueblood Lodge\, 579 McCollister Blvd\, Iowa City\, IA\, 52240\, United States
END:VEVENT
BEGIN:VEVENT
DTSTART;VALUE=DATE:20151105
DTEND;VALUE=DATE:20151107
DTSTAMP:20260422T175618
CREATED:20150930T232934Z
LAST-MODIFIED:20151103T195022Z
UID:10000699-1446685200-1446771599@hbaofic.org
SUMMARY:Women's Council Mary Palmberg Build Day
DESCRIPTION:Join Iowa Valley Habitat for Humanity’s WomenBuild Day.
URL:https://hbaofic.org/calendar/womens-council-mary-palmberg-build-day/
LOCATION:IA
END:VEVENT
BEGIN:VEVENT
DTSTART;VALUE=DATE:20151102
DTEND;VALUE=DATE:20151104
DTSTAMP:20260422T175618
CREATED:20150930T233637Z
LAST-MODIFIED:20150930T235035Z
UID:10000700-1446426000-1446512399@hbaofic.org
SUMMARY:2016 Home Show Early Registration Discount Deadline
DESCRIPTION:
URL:https://hbaofic.org/calendar/2016-home-show-early-registration-discount-deadline/
LOCATION:IA
END:VEVENT
BEGIN:VEVENT
DTSTART;TZID=America/Chicago:20151015T120000
DTEND;TZID=America/Chicago:20151015T120000
DTSTAMP:20260422T175618
CREATED:20150930T232432Z
LAST-MODIFIED:20150930T232432Z
UID:10000693-1444910400-1444910400@hbaofic.org
SUMMARY:Board Meeting
DESCRIPTION:
URL:https://hbaofic.org/calendar/board-meeting/
LOCATION:Greater Iowa City HBA\, 11 S Gilbert Street\, Iowa City\, IA\, 52244\, United States
END:VEVENT
BEGIN:VEVENT
DTSTART;TZID=America/Chicago:20151013T120000
DTEND;TZID=America/Chicago:20151013T120000
DTSTAMP:20260422T175618
CREATED:20150930T232140Z
LAST-MODIFIED:20150930T232140Z
UID:10000690-1444737600-1444737600@hbaofic.org
SUMMARY:Remodelers Council
DESCRIPTION:
URL:https://hbaofic.org/calendar/remodelers-council/
LOCATION:Greater Iowa City HBA\, 11 S Gilbert Street\, Iowa City\, IA\, 52244\, United States
END:VEVENT
BEGIN:VEVENT
DTSTART;TZID=America/Chicago:20151008T180000
DTEND;TZID=America/Chicago:20151008T200000
DTSTAMP:20260422T175618
CREATED:20150804T203732Z
LAST-MODIFIED:20150901T195847Z
UID:10000680-1444327200-1444334400@hbaofic.org
SUMMARY:October General Membership Meeting
DESCRIPTION:Join us Thursday\, October 8\, 2015 at the Kinnick Stadium Press Box on Level 2 (Outdoor Club-Mediacom)
URL:https://hbaofic.org/calendar/october-general-membership-meeting/
LOCATION:Kinnick Stadium Skyboxes/Mediacom Outdoor Club\, 825 Stadium Dr\, Iowa City\, IA\, 52240\, United States
ORGANIZER;CN="Greater Iowa City Area Home Builders Association":MAILTO:eo@hbaofic.org
END:VEVENT
BEGIN:VEVENT
DTSTART;TZID=America/Chicago:20150910T180000
DTEND;TZID=America/Chicago:20150910T200000
DTSTAMP:20260422T175618
CREATED:20150804T203259Z
LAST-MODIFIED:20150901T195803Z
UID:10000679-1441908000-1441915200@hbaofic.org
SUMMARY:September General Membership Meeting
DESCRIPTION:Join us Thursday\, September 10\, 2015 at the new Kirkwood Regional Learning Center. \nMeet Council Candidates from our area. \nTour the new Regional Center. \nMaggie’s Farm Wood-Fired Pizza\, beer from Big Grove Brewery and wine from WineStyles. \nSocial sponsored by CBI Bank & Trust – Formerly Freedom Security Bank.
URL:https://hbaofic.org/calendar/september-general-membership-meeting/
LOCATION:Kirkwood Regional Center\, 2301 Oakdale Blvd \, Coralville\, IA\, United States
ORGANIZER;CN="Greater Iowa City Area Home Builders Association":MAILTO:eo@hbaofic.org
END:VEVENT
BEGIN:VEVENT
DTSTART;TZID=America/Chicago:20150902T120000
DTEND;TZID=America/Chicago:20150902T130000
DTSTAMP:20260422T175618
CREATED:20150824T202835Z
LAST-MODIFIED:20150901T195709Z
UID:10000683-1441195200-1441198800@hbaofic.org
SUMMARY:LEARN AT LUNCH
DESCRIPTION:Learn about Fall Protection and Power Tool Safety at Lunch\nWednesday\, September 2\, 2015 from noon to 1:00 pm\nAt HD Supply/White Cap\n2003 South Gilbert St.\nIowa City\n \nTraining provided by OSHA Outreach instructor Sandra J Jordan MBA\, CSP\n \nSandra is the Safety Program Manager for HD Supply/White Cap in the Iowa\nDistrict. \nLunch will be provided by your President\nTim Ruth of McCreedy-Ruth Construction will grill hotdogs and hamburgers for you and your employees. \nRSVP with your and all attendees shirt sizes by Friday\, August 28\, 2015 to Karyl@HBAofIC.org\nShirt sizes cannot be guaranteed after that date.
URL:https://hbaofic.org/calendar/learn-at-lunch/
LOCATION:HD Supply/WhiteCap\, 2003 South Gilbert Street\, Iowa City\, IA\, 52240\, United States
ORGANIZER;CN="Greater Iowa City Area Home Builders Association":MAILTO:eo@hbaofic.org
END:VEVENT
BEGIN:VEVENT
DTSTART;TZID=America/Chicago:20150818T160000
DTEND;TZID=America/Chicago:20150818T180000
DTSTAMP:20260422T175618
CREATED:20150806T025721Z
LAST-MODIFIED:20150806T025721Z
UID:10000681-1439913600-1439920800@hbaofic.org
SUMMARY:Women's Council
DESCRIPTION:YOU’RE INVITED! \nPlease join us for networking at a ONE-OF-A-KIND TASTING PARTY \nTuesday\, August 18\, 2015\n4:00 – 6:00 \nat Harvest Oil & Vinegar\n1150 Fifth Street\, Suite 150\nCoralville\, IA\n\n\n\n\n\n\n\n\n\n\n\n\n\n\n \n\n\n\n\n\n\n\n\n\nPlease RSVP to Karyl by August 13\, 2015\n319-351-5333\nkaryl@hbaofic.org
URL:https://hbaofic.org/calendar/womens-council/
LOCATION:Harvest Oil & Vinegar\, 1150 Fifth Street\, Suite #150\, Coralville\, IA\, United States
END:VEVENT
BEGIN:VEVENT
DTSTART;TZID=America/Chicago:20150707T100000
DTEND;TZID=America/Chicago:20150707T170000
DTSTAMP:20260422T175618
CREATED:20150622T235133Z
LAST-MODIFIED:20150623T023931Z
UID:10000678-1436263200-1436288400@hbaofic.org
SUMMARY:HBA Nail Driver's Open Golf Tournament
DESCRIPTION:Registration 10:00-11:00 am with a light breakfast \nShotgun start at 11:00 am \nThe annual HBA Nail Driver’s Open is a four-person best shot. \nAwards and Reception immediately after outing \nPrizes: five flights: first\, second\, and third place in each flight will be awarded \nReserve your team by Monday\, June 29th at: \nkaryl@hbaofic.org \n 
URL:https://hbaofic.org/calendar/hba-nail-drivers-open-golf-tournament/
LOCATION:IA
ORGANIZER;CN="Greater Iowa City Area Home Builders Association":MAILTO:eo@hbaofic.org
END:VEVENT
BEGIN:VEVENT
DTSTART;TZID=America/Chicago:20150614T120000
DTEND;TZID=America/Chicago:20150614T170000
DTSTAMP:20260422T175618
CREATED:20141118T221950Z
LAST-MODIFIED:20150603T015957Z
UID:10000650-1434283200-1434301200@hbaofic.org
SUMMARY:Parade of Homes
DESCRIPTION:The Iowa City Area Parade of Homes can’t be beat. As the area’s foremost new home showcase\, it will spotlight 24 of the finest new homes in Johnson County and surrounding areas. \nTo Learn More About the Event Click Here
URL:https://hbaofic.org/calendar/parade-of-homes-7/
LOCATION:Scattered Site Location
CATEGORIES:HBA Event
ORGANIZER;CN="Greater Iowa City Area Home Builders Association":MAILTO:eo@hbaofic.org
END:VEVENT
BEGIN:VEVENT
DTSTART;TZID=America/Chicago:20150613T100000
DTEND;TZID=America/Chicago:20150613T170000
DTSTAMP:20260422T175618
CREATED:20141118T221904Z
LAST-MODIFIED:20150603T015916Z
UID:10000648-1434189600-1434214800@hbaofic.org
SUMMARY:Parade of Homes
DESCRIPTION:The Iowa City Area Parade of Homes can’t be beat. As the area’s foremost new home showcase\, it will spotlight 24 of the finest new homes in Johnson County and surrounding areas. \nTo Learn More About the Event Click Here
URL:https://hbaofic.org/calendar/parade-of-homes-6/
LOCATION:Scattered Site Location
CATEGORIES:HBA Event
ORGANIZER;CN="Greater Iowa City Area Home Builders Association":MAILTO:eo@hbaofic.org
END:VEVENT
BEGIN:VEVENT
DTSTART;TZID=America/Chicago:20150611T180000
DTEND;TZID=America/Chicago:20150611T210000
DTSTAMP:20260422T175618
CREATED:20141118T221808Z
LAST-MODIFIED:20150603T015148Z
UID:10000646-1434045600-1434056400@hbaofic.org
SUMMARY:Parade of Homes
DESCRIPTION:Learn More About the Event here
URL:https://hbaofic.org/calendar/parade-of-homes-5/
LOCATION:Scattered Site Location
CATEGORIES:HBA Event
ORGANIZER;CN="Greater Iowa City Area Home Builders Association":MAILTO:eo@hbaofic.org
END:VEVENT
BEGIN:VEVENT
DTSTART;TZID=America/Chicago:20150609T180000
DTEND;TZID=America/Chicago:20150609T210000
DTSTAMP:20260422T175618
CREATED:20141118T221715Z
LAST-MODIFIED:20150603T015816Z
UID:10000644-1433872800-1433883600@hbaofic.org
SUMMARY:Parade of Homes
DESCRIPTION:The Iowa City Area Parade of Homes can’t be beat. As the area’s foremost new home showcase\, it will spotlight 24 of the finest new homes in Johnson County and surrounding areas. \nTo Learn More About the Event Click Here
URL:https://hbaofic.org/calendar/parade-of-homes-4/
LOCATION:Scattered Site Location
CATEGORIES:HBA Event
ORGANIZER;CN="Greater Iowa City Area Home Builders Association":MAILTO:eo@hbaofic.org
END:VEVENT
BEGIN:VEVENT
DTSTART;TZID=America/Chicago:20150607T120000
DTEND;TZID=America/Chicago:20150607T170000
DTSTAMP:20260422T175618
CREATED:20141118T222220Z
LAST-MODIFIED:20150603T020753Z
UID:10000653-1433678400-1433696400@hbaofic.org
SUMMARY:Remodelers Parade
DESCRIPTION:Ten projects will be featured during the Remodelers Parade for homeowners and/or future remodelers to tour the first weekend of the Parade. \nTo Learn More About the Event Click Here
URL:https://hbaofic.org/calendar/remodelers-parade-2/
LOCATION:Scattered Site Location
CATEGORIES:HBA Event
ORGANIZER;CN="Greater Iowa City Area Home Builders Association":MAILTO:eo@hbaofic.org
END:VEVENT
BEGIN:VEVENT
DTSTART;TZID=America/Chicago:20150607T120000
DTEND;TZID=America/Chicago:20150607T170000
DTSTAMP:20260422T175618
CREATED:20141118T221419Z
LAST-MODIFIED:20150603T015723Z
UID:10000641-1433678400-1433696400@hbaofic.org
SUMMARY:Parade of Homes
DESCRIPTION:The Iowa City Area Parade of Homes can’t be beat. As the area’s foremost new home showcase\, it will spotlight 24 of the finest new homes in Johnson County and surrounding areas. \nTo Learn More About the Event Click Here
URL:https://hbaofic.org/calendar/parade-of-homes-3/
LOCATION:Scattered Site Location
CATEGORIES:HBA Event
ORGANIZER;CN="Greater Iowa City Area Home Builders Association":MAILTO:eo@hbaofic.org
END:VEVENT
BEGIN:VEVENT
DTSTART;TZID=America/Chicago:20150606T100000
DTEND;TZID=America/Chicago:20150606T170000
DTSTAMP:20260422T175618
CREATED:20150602T212114Z
LAST-MODIFIED:20150603T020629Z
UID:10000677-1433584800-1433610000@hbaofic.org
SUMMARY:Remodelers Parade
DESCRIPTION:Ten projects will be featured during the Remodelers Parade for homeowners and/or future remodelers to tour the first weekend of the Parade. \nTo Learn More About the Event Click Here
URL:https://hbaofic.org/calendar/remodelers-parade/
LOCATION:Scattered Site Location
CATEGORIES:HBA Event
ORGANIZER;CN="Greater Iowa City Area Home Builders Association":MAILTO:eo@hbaofic.org
END:VEVENT
BEGIN:VEVENT
DTSTART;TZID=America/Chicago:20150606T100000
DTEND;TZID=America/Chicago:20150606T170000
DTSTAMP:20260422T175618
CREATED:20150602T013651Z
LAST-MODIFIED:20150603T015628Z
UID:10000676-1433584800-1433610000@hbaofic.org
SUMMARY:Parade of Homes
DESCRIPTION:The Iowa City Area Parade of Homes can’t be beat. As the area’s foremost new home showcase\, it will spotlight 24 of the finest new homes in Johnson County and surrounding areas. \nTo Learn More About the Event Click Here\n \n 
URL:https://hbaofic.org/calendar/parade-of-homes/
LOCATION:Unnamed Venue\, IA\, United States
CATEGORIES:HBA Event
ORGANIZER;CN="Greater Iowa City Area Home Builders Association":MAILTO:eo@hbaofic.org
END:VEVENT
BEGIN:VEVENT
DTSTART;TZID=America/Chicago:20150514T180000
DTEND;TZID=America/Chicago:20150514T203000
DTSTAMP:20260422T175618
CREATED:20150224T035354Z
LAST-MODIFIED:20150224T041212Z
UID:10000668-1431626400-1431635400@hbaofic.org
SUMMARY:General Membership Meeting
DESCRIPTION:
URL:https://hbaofic.org/calendar/general-membership-meeting-2/
LOCATION:Zero Energy Systems\, 428 Westcor Drive\, Coralville\, IA\, 52241\, United States
END:VEVENT
END:VCALENDAR