BEGIN:VCALENDAR
VERSION:2.0
PRODID:-//The Greater Iowa City Home Builders Association  - ECPv6.11.2//NONSGML v1.0//EN
CALSCALE:GREGORIAN
METHOD:PUBLISH
X-WR-CALNAME:The Greater Iowa City Home Builders Association 
X-ORIGINAL-URL:https://hbaofic.org
X-WR-CALDESC:Events for The Greater Iowa City Home Builders Association 
REFRESH-INTERVAL;VALUE=DURATION:PT1H
X-Robots-Tag:noindex
X-PUBLISHED-TTL:PT1H
BEGIN:VTIMEZONE
TZID:America/Chicago
BEGIN:DAYLIGHT
TZOFFSETFROM:-0600
TZOFFSETTO:-0500
TZNAME:CDT
DTSTART:20160313T080000
END:DAYLIGHT
BEGIN:STANDARD
TZOFFSETFROM:-0500
TZOFFSETTO:-0600
TZNAME:CST
DTSTART:20161106T070000
END:STANDARD
END:VTIMEZONE
BEGIN:VEVENT
DTSTART;TZID=America/Chicago:20160625T080000
DTEND;TZID=America/Chicago:20160625T170000
DTSTAMP:20260421T232047
CREATED:20160616T212817Z
LAST-MODIFIED:20160616T212817Z
UID:10000741-1466841600-1466874000@hbaofic.org
SUMMARY:Memorial Build Blitz
DESCRIPTION:Volunteer Shifts: \nMorning (8am – 12pm) and Afternoon (1pm – 5pm) \n*Each volunteer shift can accommodate up to 20 individuals. Some groups have signed up to come out\, but no shift is full yet. \nSigning up to volunteer: \nVisit construction.ivhfh.volunteerhub.com to see all the available shifts\, and click the “sign up” button next the shift (or shifts) of your choice. You may also click the event title to see more details about the event.
URL:https://hbaofic.org/calendar/memorial-build-blitz-6/
LOCATION:Hills Blitz Build\, 404 Brady St\, Hills\, 52235\, United States
END:VEVENT
BEGIN:VEVENT
DTSTART;TZID=America/Chicago:20160624T080000
DTEND;TZID=America/Chicago:20160624T170000
DTSTAMP:20260421T232047
CREATED:20160616T212730Z
LAST-MODIFIED:20160616T212730Z
UID:10000740-1466755200-1466787600@hbaofic.org
SUMMARY:Memorial Build Blitz
DESCRIPTION:Volunteer Shifts: \nMorning (8am – 12pm) and Afternoon (1pm – 5pm) \n*Each volunteer shift can accommodate up to 20 individuals. Some groups have signed up to come out\, but no shift is full yet. \nSigning up to volunteer: \nVisit construction.ivhfh.volunteerhub.com to see all the available shifts\, and click the “sign up” button next the shift (or shifts) of your choice. You may also click the event title to see more details about the event.
URL:https://hbaofic.org/calendar/memorial-build-blitz-5/
LOCATION:Hills Blitz Build\, 404 Brady St\, Hills\, 52235\, United States
END:VEVENT
BEGIN:VEVENT
DTSTART;TZID=America/Chicago:20160623T080000
DTEND;TZID=America/Chicago:20160623T170000
DTSTAMP:20260421T232047
CREATED:20160616T212605Z
LAST-MODIFIED:20160616T212605Z
UID:10000619-1466668800-1466701200@hbaofic.org
SUMMARY:Memorial Build Blitz
DESCRIPTION:Volunteer Shifts: \nMorning (8am – 12pm) and Afternoon (1pm – 5pm) \n*Each volunteer shift can accommodate up to 20 individuals. Some groups have signed up to come out\, but no shift is full yet. \nSigning up to volunteer: \nVisit construction.ivhfh.volunteerhub.com to see all the available shifts\, and click the “sign up” button next the shift (or shifts) of your choice. You may also click the event title to see more details about the event.
URL:https://hbaofic.org/calendar/memorial-build-blitz-4/
LOCATION:Hills Blitz Build\, 404 Brady St\, Hills\, 52235\, United States
END:VEVENT
BEGIN:VEVENT
DTSTART;TZID=America/Chicago:20160622T080000
DTEND;TZID=America/Chicago:20160622T170000
DTSTAMP:20260421T232047
CREATED:20160616T212436Z
LAST-MODIFIED:20160616T212436Z
UID:10000618-1466582400-1466614800@hbaofic.org
SUMMARY:Memorial Build Blitz
DESCRIPTION:Volunteer Shifts: \nMorning (8am – 12pm) and Afternoon (1pm – 5pm) \n*Each volunteer shift can accommodate up to 20 individuals. Some groups have signed up to come out\, but no shift is full yet. \nSigning up to volunteer: \nVisit construction.ivhfh.volunteerhub.com to see all the available shifts\, and click the “sign up” button next the shift (or shifts) of your choice. You may also click the event title to see more details about the event.
URL:https://hbaofic.org/calendar/memorial-build-blitz-3/
LOCATION:Hills Blitz Build\, 404 Brady St\, Hills\, 52235\, United States
END:VEVENT
BEGIN:VEVENT
DTSTART;TZID=America/Chicago:20160621T080000
DTEND;TZID=America/Chicago:20160621T170000
DTSTAMP:20260421T232047
CREATED:20160616T212349Z
LAST-MODIFIED:20160616T212349Z
UID:10000617-1466496000-1466528400@hbaofic.org
SUMMARY:Memorial Build Blitz
DESCRIPTION:Volunteer Shifts: \nMorning (8am – 12pm) and Afternoon (1pm – 5pm) \n*Each volunteer shift can accommodate up to 20 individuals. Some groups have signed up to come out\, but no shift is full yet. \nSigning up to volunteer: \nVisit construction.ivhfh.volunteerhub.com to see all the available shifts\, and click the “sign up” button next the shift (or shifts) of your choice. You may also click the event title to see more details about the event.
URL:https://hbaofic.org/calendar/memorial-build-blitz-2/
LOCATION:Hills Blitz Build\, 404 Brady St\, Hills\, 52235\, United States
END:VEVENT
BEGIN:VEVENT
DTSTART;TZID=America/Chicago:20160620T080000
DTEND;TZID=America/Chicago:20160620T170000
DTSTAMP:20260421T232047
CREATED:20160616T212126Z
LAST-MODIFIED:20160616T212126Z
UID:10000616-1466409600-1466442000@hbaofic.org
SUMMARY:Memorial Build Blitz
DESCRIPTION:Volunteer Shifts: \nMorning (8am – 12pm) and Afternoon (1pm – 5pm) \n*Each volunteer shift can accommodate up to 20 individuals. Some groups have signed up to come out\, but no shift is full yet. \nSigning up to volunteer: \nVisit construction.ivhfh.volunteerhub.com to see all the available shifts\, and click the “sign up” button next the shift (or shifts) of your choice. You may also click the event title to see more details about the event.
URL:https://hbaofic.org/calendar/memorial-build-blitz/
LOCATION:Hills Blitz Build\, 404 Brady St\, Hills\, 52235\, United States
END:VEVENT
BEGIN:VEVENT
DTSTART;TZID=America/Chicago:20160616T120000
DTEND;TZID=America/Chicago:20160616T170000
DTSTAMP:20260421T232047
CREATED:20160406T192958Z
LAST-MODIFIED:20160406T192958Z
UID:10000613-1466078400-1466096400@hbaofic.org
SUMMARY:Board Meeting
DESCRIPTION:
URL:https://hbaofic.org/calendar/board-meeting-5/
LOCATION:Greater Iowa City HBA\, 11 S Gilbert Street\, Iowa City\, IA\, 52244\, United States
END:VEVENT
BEGIN:VEVENT
DTSTART;TZID=America/Chicago:20160614T120000
DTEND;TZID=America/Chicago:20160614T170000
DTSTAMP:20260421T232047
CREATED:20160406T192909Z
LAST-MODIFIED:20160406T192909Z
UID:10000612-1465905600-1465923600@hbaofic.org
SUMMARY:Remodelers Council
DESCRIPTION:
URL:https://hbaofic.org/calendar/remodelers-council-2/
LOCATION:Greater Iowa City HBA\, 11 S Gilbert Street\, Iowa City\, IA\, 52244\, United States
END:VEVENT
BEGIN:VEVENT
DTSTART;TZID=America/Chicago:20160612T120000
DTEND;TZID=America/Chicago:20160612T170000
DTSTAMP:20260421T232047
CREATED:20160406T192732Z
LAST-MODIFIED:20160524T162006Z
UID:10000610-1465732800-1465750800@hbaofic.org
SUMMARY:Parade of Homes
DESCRIPTION:Tour 27 new construction homes in this one-of-a-kind showcase of open space floor plans\, the latest kitchen and bath design\, cutting-edge ideas and technology for today’s modern lifestyles. \nVisit 2016 Parade of Homes for more information or download the free Parade Craze app on your phone.
URL:https://hbaofic.org/calendar/parade-of-homes-12/
LOCATION:IA
ORGANIZER;CN="Greater Iowa City Area Home Builders Association":MAILTO:eo@hbaofic.org
END:VEVENT
BEGIN:VEVENT
DTSTART;TZID=America/Chicago:20160611T100000
DTEND;TZID=America/Chicago:20160611T170000
DTSTAMP:20260421T232047
CREATED:20160406T192803Z
LAST-MODIFIED:20160601T191944Z
UID:10000611-1465639200-1465664400@hbaofic.org
SUMMARY:Parade of Homes Bike Tour
DESCRIPTION:1st Annual Bike Tour \n \nPedal Your Way to the Area’s Parade Homes\nJoin us for the 1st Annual Urban Acres Parade of Homes Bike Ride on June 11!\nGrab your friends and family and enjoy the beauty of our communities as you bike from home to home. \nMeet us at 30Hop and pick your route\nCyclists can pedal any or all of the four bike routes. All routes will begin at 30Hop where the doors open at 9 a.m. and you can grab breakfast starting at 10 a.m. before heading out on your ride. 30Hop will have 1/2 price bloody Mary’s and riders will have the opportunity to win water bottles\, t-shirts and plenty of other awesome giveaways! Geoff’s Bikes will have a tent set up to offer mechanical support to make sure that riders get off to a great start! The four bike routes are mapped on bikemap.net\, click on the route you want to ride to view the map and start pedaling! \n\nThe Urban Acres Loop takes bikers on a loop through Iowa City\nThe Urban Acres NL Express goes from Coralville to North Liberty\nThe Urban Acres Acres-to-Acres ride has some off-road aspects as it winds through Hills and Riverside\nThe Urban Acres Dam Loop wraps its way past the Coralville dam on the way to Solon.\n\nRiders are welcome to complete as many routes as they’d like at their leisure\, pedal your way through one route or tackle all four\, it’s up to you! Don’t forget to bring your helmet and to take pictures along the way. We want to see them! Use #UAparadepedalers to post.
URL:https://hbaofic.org/calendar/parade-of-homes-bike-tour/
LOCATION:IA
END:VEVENT
BEGIN:VEVENT
DTSTART;TZID=America/Chicago:20160611T100000
DTEND;TZID=America/Chicago:20160611T170000
DTSTAMP:20260421T232047
CREATED:20160406T192652Z
LAST-MODIFIED:20160524T162114Z
UID:10000738-1465639200-1465664400@hbaofic.org
SUMMARY:Parade of Homes
DESCRIPTION:Tour 27 new construction homes in this one-of-a-kind showcase of open space floor plans\, the latest kitchen and bath design\, cutting-edge ideas and technology for today’s modern lifestyles. \nVisit 2016 Parade of Homes for more information or download the free Parade Craze app on your phone.
URL:https://hbaofic.org/calendar/parade-of-homes-11/
LOCATION:IA
ORGANIZER;CN="Greater Iowa City Area Home Builders Association":MAILTO:eo@hbaofic.org
END:VEVENT
BEGIN:VEVENT
DTSTART;TZID=America/Chicago:20160609T060000
DTEND;TZID=America/Chicago:20160609T210000
DTSTAMP:20260421T232047
CREATED:20160406T192624Z
LAST-MODIFIED:20160524T162140Z
UID:10000736-1465452000-1465506000@hbaofic.org
SUMMARY:Parade of Homes
DESCRIPTION:Tour 27 new construction homes in this one-of-a-kind showcase of open space floor plans\, the latest kitchen and bath design\, cutting-edge ideas and technology for today’s modern lifestyles. \nVisit 2016 Parade of Homes for more information or download the free Parade Craze app on your phone. \n \n 
URL:https://hbaofic.org/calendar/parade-of-homes-10/
LOCATION:IA
ORGANIZER;CN="Greater Iowa City Area Home Builders Association":MAILTO:eo@hbaofic.org
END:VEVENT
BEGIN:VEVENT
DTSTART;TZID=America/Chicago:20160607T180000
DTEND;TZID=America/Chicago:20160607T210000
DTSTAMP:20260421T232047
CREATED:20160406T192600Z
LAST-MODIFIED:20160524T162209Z
UID:10000733-1465322400-1465333200@hbaofic.org
SUMMARY:Parade of Homes
DESCRIPTION:Tour 27 new construction homes in this one-of-a-kind showcase of open space floor plans\, the latest kitchen and bath design\, cutting-edge ideas and technology for today’s modern lifestyles. \nVisit 2016 Parade of Homes for more information or download the free Parade Craze app on your phone. \n \n 
URL:https://hbaofic.org/calendar/parade-of-homes-9/
LOCATION:IA
ORGANIZER;CN="Greater Iowa City Area Home Builders Association":MAILTO:eo@hbaofic.org
END:VEVENT
BEGIN:VEVENT
DTSTART;TZID=America/Chicago:20160605T120000
DTEND;TZID=America/Chicago:20160605T170000
DTSTAMP:20260421T232047
CREATED:20160406T192535Z
LAST-MODIFIED:20160524T162311Z
UID:10000731-1465128000-1465146000@hbaofic.org
SUMMARY:Parade of Homes and Remodelers Showcase
DESCRIPTION:Tour 27 new construction homes in this one-of-a-kind showcase of open space floor plans\, the latest kitchen and bath design\, cutting-edge ideas and technology for today’s modern lifestyles. \nAnd this weekend only\, see six exquisite home makeovers during our Remodelers Parade. \nVisit 2016 Parade of Homes for more information or download the free Parade Craze app on your phone.
URL:https://hbaofic.org/calendar/parade-of-homes-8/
LOCATION:IA
ORGANIZER;CN="Greater Iowa City Area Home Builders Association":MAILTO:eo@hbaofic.org
END:VEVENT
BEGIN:VEVENT
DTSTART;TZID=America/Chicago:20160604T100000
DTEND;TZID=America/Chicago:20160604T170000
DTSTAMP:20260421T232047
CREATED:20160406T192510Z
LAST-MODIFIED:20160524T162433Z
UID:10000729-1465034400-1465059600@hbaofic.org
SUMMARY:Parade of Homes and Remodelers Showcase
DESCRIPTION:Tour 27 new construction homes in this one-of-a-kind showcase of open space floor plans\, the latest kitchen and bath design\, cutting-edge ideas and technology for today’s modern lifestyles. \nAnd this weekend only\, see six exquisite home makeovers during our Remodelers Parade. \nVisit 2016 Parade of Homes for more information or download the free Parade Craze app on your phone. \n \n  \n 
URL:https://hbaofic.org/calendar/parade-of-homes-2/
LOCATION:IA
ORGANIZER;CN="Greater Iowa City Area Home Builders Association":MAILTO:eo@hbaofic.org
END:VEVENT
BEGIN:VEVENT
DTSTART;TZID=America/Chicago:20160603T070000
DTEND;TZID=America/Chicago:20160603T170000
DTSTAMP:20260421T232047
CREATED:20160406T192425Z
LAST-MODIFIED:20160428T210231Z
UID:10000727-1464937200-1464973200@hbaofic.org
SUMMARY:Parade of Homes Member Only Tour
DESCRIPTION:Join us on Friday\, June 3rd for the annual  \nGreater Iowa City Area Home Builders Association  \nParade of Homes Member Only Tour \nBreakfast and Builders Excellence Award Ceremony • 7 – 8 am  \nEnjoy a great breakfast and network with your fellow Greater Iowa City Area Home Builders Association members. Please RSVP.  \nLocation: University of Iowa Community Credit Union\, 2355 Landon Road\, Cafeteria\, North Liberty. \nBreakfast sponsored by: UofI Community Credit Union Awards sponsored by: PSC Distribution/Studio H2O and Jeff Dill Lepic-Kroeger Realtors \nParade of Homes Tour • 8 am – 5 pm  \nTour 27 homes featured on the Parade of Homes \nLunch • 11 am – 1:30 pm  \nTake a break from the Parade of Homes Tour and enjoy a relaxing lunch. Please RSVP.  \nLocation: Hills Bank and Trust Company\, 590 W. Forevergreen Road\, Community Room\, North Liberty \nLunch sponsored by: Hills Bank and Trust Company \n2016 Parade of Homes sponsored by:  \nMidAmerican Energy and Hills Bank and Trust Company \nPlease RSVP for breakfast and lunch by contacting \nKaryl Bohnsack at 319-351-5333 or Karyl@HBAofIC.org by May 27th.
URL:https://hbaofic.org/calendar/parade-of-homes-member-only-tour/
LOCATION:IA
ORGANIZER;CN="Greater Iowa City Area Home Builders Association":MAILTO:eo@hbaofic.org
END:VEVENT
BEGIN:VEVENT
DTSTART;TZID=America/Chicago:20160519T120000
DTEND;TZID=America/Chicago:20160519T120000
DTSTAMP:20260421T232047
CREATED:20160406T192124Z
LAST-MODIFIED:20160406T192124Z
UID:10000725-1463659200-1463659200@hbaofic.org
SUMMARY:Board Meeting
DESCRIPTION:
URL:https://hbaofic.org/calendar/board-meeting-4/
LOCATION:Greater Iowa City HBA\, 11 S Gilbert Street\, Iowa City\, IA\, 52244\, United States
END:VEVENT
BEGIN:VEVENT
DTSTART;TZID=America/Chicago:20160505T180000
DTEND;TZID=America/Chicago:20160505T210000
DTSTAMP:20260421T232047
CREATED:20160406T184109Z
LAST-MODIFIED:20160406T192031Z
UID:10000723-1462471200-1462482000@hbaofic.org
SUMMARY:General Membership Meeting
DESCRIPTION:Thursday\, May 5\, 2016 \nClear Creek Amana Middle School STEM Center\, 311 W Marengo Rd\, Tiffin\, IA \nMeeting and tour of the STEM Center will begin at 6:00 \nSocial and dinner to follow at Bryant’s on 6\, 107 W Marengo Rd\, Tiffin\, IA \nRSVP to Karyl@HBAofIC.org or call (319) 351-5333 by April 29\, 2016. \nCost is $15/person \nSponsored by Beisser Lumber Company
URL:https://hbaofic.org/calendar/general-membership-meeting-4/
LOCATION:STEM Center\, 311 W Marengo Rd\, Tiffin\, IA\, United States
END:VEVENT
BEGIN:VEVENT
DTSTART;TZID=America/Chicago:20160426T053000
DTEND;TZID=America/Chicago:20160426T200000
DTSTAMP:20260421T232047
CREATED:20160404T163501Z
LAST-MODIFIED:20160404T163501Z
UID:10000720-1461648600-1461700800@hbaofic.org
SUMMARY:Remodelers Council Mixer
DESCRIPTION:Game On! \nRemodelers Council Chair\, Tom Balmer with PSC Distribution\, would like to invite you and your guest to a Remodelers Council Mixer at Forbidden Planet: Pizzeria and Video Arcade\, 111 S Dubuque St\, Iowa City\, IA 52240. \nPizza and drinks are included in the $15/person charge but you’re on your own for quarters. \nRSVP to Karyl@HBAofIC.org or call (319) 351-5333.  Reservations are limited to 50 so call today! \n 
URL:https://hbaofic.org/calendar/remodelers-council-mixer/
LOCATION:Forbidden Planet\, 111 S Dubuque St\, Iowa City\, IA\, 52240\, United States
ORGANIZER;CN="Greater Iowa City Area Home Builders Association":MAILTO:eo@hbaofic.org
END:VEVENT
BEGIN:VEVENT
DTSTART;TZID=America/Chicago:20160421T173000
DTEND;TZID=America/Chicago:20160421T200000
DTSTAMP:20260421T232047
CREATED:20160310T204452Z
LAST-MODIFIED:20160407T135311Z
UID:10000607-1461259800-1461268800@hbaofic.org
SUMMARY:Joint Iowa City & Cedar Rapids HBA Social
DESCRIPTION:8.5×5.5-Mixer_invite \nJoin us for Free wine\, beer\, heavy hors d’oeuvres and networking with the Iowa City and Cedar Rapids Area Home Builders Associations. \nCourtesy of The University of Iowa Community Credit Union\, 2355 Landon Road\, North Liberty.
URL:https://hbaofic.org/calendar/joint-iowa-city-cedar-rapids-hba-social/
LOCATION:GreenState Credit Union\, 2355 Landon Rd\, North Liberty\, IA\, 52317\, United States
ORGANIZER;CN="Greater Iowa City Area Home Builders Association":MAILTO:eo@hbaofic.org
END:VEVENT
BEGIN:VEVENT
DTSTART;TZID=America/Chicago:20160421T120000
DTEND;TZID=America/Chicago:20160421T120000
DTSTAMP:20260421T232047
CREATED:20160310T204540Z
LAST-MODIFIED:20160407T134949Z
UID:10000608-1461240000-1461240000@hbaofic.org
SUMMARY:Board of Directors Meeting
DESCRIPTION:The Board of Directors meets the 3rd Thursday every month in The Greater Iowa City Area Home Builders Association conference room at noon.
URL:https://hbaofic.org/calendar/board-of-directors-meeting/
LOCATION:Greater Iowa City HBA\, 11 S Gilbert Street\, Iowa City\, IA\, 52244\, United States
END:VEVENT
BEGIN:VEVENT
DTSTART;TZID=America/Chicago:20160421T110000
DTEND;TZID=America/Chicago:20160421T170000
DTSTAMP:20260421T232048
CREATED:20160406T183920Z
LAST-MODIFIED:20160407T134851Z
UID:10000721-1461236400-1461258000@hbaofic.org
SUMMARY:Vocational Training Council Meeting
DESCRIPTION:The Vocational Training Council meets quarterly in The Greater Iowa City Area Home Builders Association conference room at noon.
URL:https://hbaofic.org/calendar/vocational-training-council-meeting/
LOCATION:Greater Iowa City HBA\, 11 S Gilbert Street\, Iowa City\, IA\, 52244\, United States
END:VEVENT
BEGIN:VEVENT
DTSTART;VALUE=DATE:20160415
DTEND;VALUE=DATE:20160417
DTSTAMP:20260421T232048
CREATED:20160310T202850Z
LAST-MODIFIED:20160407T134428Z
UID:10000605-1460682000-1460768399@hbaofic.org
SUMMARY:Scholarship Application Due
DESCRIPTION:2016 Scholarship Application \nApplications for the 2016 Women’s Council Scholarship are due April 15\, 2016. \nClick on “2016 Scholarship Application” above for the form.
URL:https://hbaofic.org/calendar/scholarship-application-due/
LOCATION:IA
END:VEVENT
BEGIN:VEVENT
DTSTART;TZID=America/Chicago:20160412T120000
DTEND;TZID=America/Chicago:20160412T120000
DTSTAMP:20260421T232048
CREATED:20160310T204335Z
LAST-MODIFIED:20160407T134616Z
UID:10000606-1460462400-1460462400@hbaofic.org
SUMMARY:Remodelers Council Meeting
DESCRIPTION:The Remodelers Council meets the second Tuesday of every other month in The Greater Iowa City Area Home Builders Association Conference Room at noon. \nLunch is $5/person.
URL:https://hbaofic.org/calendar/remodelers-council-meeting/
LOCATION:Greater Iowa City HBA\, 11 S Gilbert Street\, Iowa City\, IA\, 52244\, United States
END:VEVENT
BEGIN:VEVENT
DTSTART;TZID=America/Chicago:20160331T080000
DTEND;TZID=America/Chicago:20160331T120000
DTSTAMP:20260421T232048
CREATED:20151217T210406Z
LAST-MODIFIED:20151217T210821Z
UID:10000712-1459411200-1459425600@hbaofic.org
SUMMARY:Lead Safe Renovator Refresher Training
DESCRIPTION:LEAD SAFE RENOVATORS…IT’S TIME FOR YOUR REFRESHER TRAINING!  \nIf you took your 8-hour initial training course in 2012\, or a 4 hour Refresher course in 2012\, it’s time to renew your training. \nTHINGS YOU SHOULD KNOW: \n\nThere is no penalty for taking your class early. If your training is due in June 2016 and you take your class in February 2016\, your training certification will renew through June\, 2019. \nIf your training has already expired\, you only need to take the Refresher training course to make your training current again.\nContinuing Education Credit toward your safety discipline is available for Plumbing\, Mechanical\, HVAC license holders for no additional charge \nClasses are taught by instructors that are experienced\, professional contractors AND are also licensed lead inspectors.   Industry knowledge\, hands-on experience and a thorough understanding of the lead laws in Iowa enable our instructors to   clearly explain how to make compliance with the lead regulations work within YOUR specific field.\n\nCost:              $100 Members     $130 Non-Members    \nREGISTER FOR CLASS TODAY! \nCall (319) 351-5333 or email Karyl@HBAofIC.org \nSPACE IS LIMITED AND PRE-REGISTRATION IS REQUIRED \nSponsored by PSC Distribution and The Greater Iowa City Area Home Builders Association
URL:https://hbaofic.org/calendar/lead-safe-renovator-refresher-training/
LOCATION:PSC Distribution – 2nd Floor Training Room\, 72 Commercial Dr\, Iowa City\, IA\, 52246\, United States
ORGANIZER;CN="Greater Iowa City Area Home Builders Association":MAILTO:eo@hbaofic.org
END:VEVENT
BEGIN:VEVENT
DTSTART;TZID=America/Chicago:20160330T080000
DTEND;TZID=America/Chicago:20160330T120000
DTSTAMP:20260421T232048
CREATED:20160304T225852Z
LAST-MODIFIED:20160304T225913Z
UID:10000604-1459324800-1459339200@hbaofic.org
SUMMARY:Lead Safe Renovator Refresher Training
DESCRIPTION:LEAD SAFE RENOVATORS…IT’S TIME FOR YOUR REFRESHER TRAINING!  \nIf you took your 8-hour initial training course in 2012\, or a 4 hour Refresher course in 2012\, it’s time to renew your training. \nTHINGS YOU SHOULD KNOW: \n\nThere is no penalty for taking your class early. If your training is due in June 2016 and you take your class in February 2016\, your training certification will renew through June\, 2019. \nIf your training has already expired\, you only need to take the Refresher training course to make your training current again.\nContinuing Education Credit toward your safety discipline is available for Plumbing\, Mechanical\, HVAC license holders for no additional charge \nClasses are taught by instructors that are experienced\, professional contractors AND are also licensed lead inspectors.   Industry knowledge\, hands-on experience and a thorough understanding of the lead laws in Iowa enable our instructors to   clearly explain how to make compliance with the lead regulations work within YOUR specific field.\n\nCost:              $100 Members     $130 Non-Members    \nREGISTER FOR CLASS TODAY! \nCall (319) 351-5333 or email Karyl@HBAofIC.org \nSPACE IS LIMITED AND PRE-REGISTRATION IS REQUIRED \nSponsored by PSC Distribution\, AW Welt Ambrisco and The Greater Iowa City Area Home Builders Association
URL:https://hbaofic.org/calendar/lead-safe-renovator-refresher/
LOCATION:PSC Distribution – 2nd Floor Training Room\, 72 Commercial Dr\, Iowa City\, IA\, 52246\, United States
ORGANIZER;CN="Greater Iowa City Area Home Builders Association":MAILTO:eo@hbaofic.org
END:VEVENT
BEGIN:VEVENT
DTSTART;TZID=America/Chicago:20160325T120000
DTEND;TZID=America/Chicago:20160325T130000
DTSTAMP:20260421T232048
CREATED:20160315T214813Z
LAST-MODIFIED:20160315T214813Z
UID:10000609-1458907200-1458910800@hbaofic.org
SUMMARY:Women's Council - The Do's and Don'ts of Foundation Planting
DESCRIPTION:The Greater Iowa City Area Home Builders Association Women’s Council Chairs Phoebe Martin with Skogman Realty and Kelly Sobaski of Sobaski Abbey Carpet & Floor invite you to the 1st Women’s Council event of 2016. \nChuck Porto with Iowa City Landscaping will share how to create curb appeal for your\, and your client’s\, home.
URL:https://hbaofic.org/calendar/womens-council-the-dos-and-donts-of-foundation-planting/
LOCATION:Iowa City Landscaping & Garden Center\, 520 Hwy 1 West\, Iowa City\, IA\, 52240\, United States
ORGANIZER;CN="Greater Iowa City Area Home Builders Association":MAILTO:eo@hbaofic.org
END:VEVENT
BEGIN:VEVENT
DTSTART;TZID=America/Chicago:20160316T120000
DTEND;TZID=America/Chicago:20160316T150000
DTSTAMP:20260421T232048
CREATED:20160104T154338Z
LAST-MODIFIED:20160315T221448Z
UID:10000602-1458129600-1458140400@hbaofic.org
SUMMARY:Battle of the Builders Blood Drive- CANCELLED
DESCRIPTION:The Battle of the Builders Blood Drive has been cancelled. \nYou can still donate at the UI DeGowin Blood Center.  Sign up today at www.uihealthcare.org/bloodcenter \n  \n 
URL:https://hbaofic.org/calendar/battle-of-the-builders-blood-drive/
LOCATION:Greater Iowa City HBA\, 11 S Gilbert Street\, Iowa City\, IA\, 52244\, United States
ORGANIZER;CN="Greater Iowa City Area Home Builders Association":MAILTO:eo@hbaofic.org
END:VEVENT
BEGIN:VEVENT
DTSTART;TZID=America/Chicago:20160310T180000
DTEND;TZID=America/Chicago:20160310T200000
DTSTAMP:20260421T232048
CREATED:20160226T235126Z
LAST-MODIFIED:20160304T230009Z
UID:10000603-1457632800-1457640000@hbaofic.org
SUMMARY:March General Membership Meeting
DESCRIPTION:City and County Managers\, Administrators and Inspectors have been invited to update us on development in our area. \nSponsored by CBI Bank & Trust.  ReUnion Brewery will be on tap.  Graze on a meal served by Graze. \nRaffle Sponsor – Hills Bank and Trust Company.  The 50/50 raffle is valued at $1\,337.50 and you must be present to win.  Tickets are $1 each or 6 for $5.  You can also buy a chance at a $100 Visa gift card! \nRSVP to Karyl@HBAofIC.org or call (319) 351-5333 by March 4\, 2016.
URL:https://hbaofic.org/calendar/march-general-membership-meeting/
LOCATION:Kirkwood Regional Center\, 2301 Oakdale Blvd \, Coralville\, IA\, United States
ORGANIZER;CN="Greater Iowa City Area Home Builders Association":MAILTO:eo@hbaofic.org
END:VEVENT
BEGIN:VEVENT
DTSTART;TZID=America/Chicago:20160302T080000
DTEND;TZID=America/Chicago:20160302T170000
DTSTAMP:20260421T232048
CREATED:20151217T211830Z
LAST-MODIFIED:20151217T211830Z
UID:10000719-1456905600-1456938000@hbaofic.org
SUMMARY:Certified Green Professional (CGP)
DESCRIPTION:The Certified Green Professional™ designation recognizes builders\, remodelers and other industry professionals who incorporate green and sustainable building principles into homes— without driving up the cost of construction. The required courses provide a solid background in green building methods\, as well as the tools to reach consumers\, from the organization leading the charge to provide market-driven green building solutions to the home building industry. \nCGP coursework is closely aligned with the ICC 700 National Green Building Standard\, which includes chapters on energy\, water and resource efficiency\, indoor environmental quality\, lot and site development and home owner education and is the core curriculum for the required CGP classes. \nThere are nearly 3\,000 active CGPs in the United States working in all aspects of the high-performance home building and remodeling industry\, from contractors and their subs to real estate agents and appraisal experts. Join them today. \n\nGreen Building for Building Professionals—Implementing cost-effective green building into your construction practices begins with up-front planning that examines the whole house and the building science behind it. In this two-day course\, you will learn how to apply green building practices in the construction of a new home\, remodel\, site development or multifamily project. With a focus on flexibility\, a sound knowledge base and cost-effective solutions\, the course provides the tools for a successful green project\, including a review of the newly revised ICC 700-2012 National Green Building Standard ®.\nBusiness Management for Building Professionals—Learn the management skills that give industry leaders the edge. This course will give you a solid foundation for managing small to medium size building/remodeling and service companies.\n\nThis 3 Day Course Is Available February 29\, March 1 and March 2\, 2016 ~ 8:00am-5:00pm \nCost:              $350 Members     $450 Non-Members   Lunch is Provided \nREGISTER FOR CLASS TODAY! \nCall (319) 351-5333 or email Karyl@HBAofIC.org \nSPACE IS LIMITED AND PRE-REGISTRATION IS REQUIRED \nREGISTRATION CLOSES FEBRUARY 12\, 2016
URL:https://hbaofic.org/calendar/certified-green-professional-cgp-3/
LOCATION:Iowa City Area Association of Realtors\, 847 Quarry Road\, Suite #110\, Coralville\, IA\, United States
ORGANIZER;CN="Greater Iowa City Area Home Builders Association":MAILTO:eo@hbaofic.org
END:VEVENT
END:VCALENDAR