BEGIN:VCALENDAR
VERSION:2.0
PRODID:-//The Greater Iowa City Home Builders Association  - ECPv6.11.2//NONSGML v1.0//EN
CALSCALE:GREGORIAN
METHOD:PUBLISH
X-ORIGINAL-URL:https://hbaofic.org
X-WR-CALDESC:Events for The Greater Iowa City Home Builders Association 
REFRESH-INTERVAL;VALUE=DURATION:PT1H
X-Robots-Tag:noindex
X-PUBLISHED-TTL:PT1H
BEGIN:VTIMEZONE
TZID:America/Chicago
BEGIN:DAYLIGHT
TZOFFSETFROM:-0600
TZOFFSETTO:-0500
TZNAME:CDT
DTSTART:20210314T080000
END:DAYLIGHT
BEGIN:STANDARD
TZOFFSETFROM:-0500
TZOFFSETTO:-0600
TZNAME:CST
DTSTART:20211107T070000
END:STANDARD
END:VTIMEZONE
BEGIN:VEVENT
DTSTART;VALUE=DATE:20210209
DTEND;VALUE=DATE:20210214
DTSTAMP:20260422T045118
CREATED:20201202T175217Z
LAST-MODIFIED:20201202T175217Z
UID:10001083-1612832400-1613177999@hbaofic.org
SUMMARY:NAHB International Builders Show Experience (IBSx)
DESCRIPTION:The 2021 NAHB International Builders Show is virtual. Find details and registration information at buildersshow.com. \n 
URL:https://hbaofic.org/calendar/nahb-international-builders-show-experience-ibsx/
LOCATION:IA
CATEGORIES:HBA Event
END:VEVENT
BEGIN:VEVENT
DTSTART;TZID=America/Chicago:20210209T120000
DTEND;TZID=America/Chicago:20210209T130000
DTSTAMP:20260422T045118
CREATED:20210112T202937Z
LAST-MODIFIED:20210118T161426Z
UID:10001098-1612872000-1612875600@hbaofic.org
SUMMARY:Remodelers Council Board Meeting
DESCRIPTION:The Remodelers Council Board of Directors meets the 2nd Tuesday of every other month – except August –  in the IC HBA’s Conference Room. Interested in joining our Remodelers Council? Email karyl@hbaofic.org. Learn more under our Remodelers Council tab.
URL:https://hbaofic.org/calendar/remodelers-council-board-meeting-10/
LOCATION:Virtual
CATEGORIES:HBA Event
ORGANIZER;CN="Greater Iowa City Area Home Builders Association":MAILTO:eo@hbaofic.org
END:VEVENT
BEGIN:VEVENT
DTSTART;VALUE=DATE:20210212
DTEND;VALUE=DATE:20210214
DTSTAMP:20260422T045118
CREATED:20201202T182215Z
LAST-MODIFIED:20201208T180810Z
UID:10001087-1613091600-1613177999@hbaofic.org
SUMMARY:Final Deadline for Iowa City Area HBA Parade of Homes & Remodelers Parade Applications
DESCRIPTION:Showcase your work and gain publicity and business by entering\nthe Iowa City Area HBA Parade of Homes or Remodelers Parade!  \nDates for the 2021 Parade of Homes are: \nJune 12 and 13\nJune 15 and 17\nJune 19 and 20 \nThe Remodelers Parade is the SECOND WEEKEND\, June 15 and 17.  \nTimes are:\nSaturdays: 10:00 am – 5:00 pm\nSundays: Noon – 5:00 pm\nTuesday and Thursday: 5:30 – 8:30 pm \nClick here to apply for the new-construction Parade of Homes.\nClick here to apply for the Remodelers Parade.\nThe Parade of Homes is sponsored by Hills Bank and Urban Acres Real Estate. \n                                                                                                      \n            
URL:https://hbaofic.org/calendar/final-deadline-for-iowa-city-area-hba-parade-of-homes-remodelers-parade-applications/
LOCATION:IA
CATEGORIES:HBA Event
END:VEVENT
BEGIN:VEVENT
DTSTART;TZID=America/Chicago:20210216T073000
DTEND;TZID=America/Chicago:20210216T083000
DTSTAMP:20260422T045118
CREATED:20210110T203944Z
LAST-MODIFIED:20210202T171325Z
UID:10001093-1613460600-1613464200@hbaofic.org
SUMMARY:Legislative Committee Meeting
DESCRIPTION:The Iowa City Area HBA’s Legislative Committee meets every other month on the third Tuesday from 7:30 – 8:30 a.m. \nThe committee recommends policies to the association on legislative\, regulatory and legal matters. It tracks and monitors issues\, explores options on ways to deal with them and connects with local officials and legislative leaders. The committee endorses candidates for local elections and actively recruits candidates for boards and commissions. It also discusses strategies and methods of advocating to gain the best possible results for HBA members. Board members Mike Pugh and Glenn Siders oversee the Legislative Committee. \n  \n        \nLegislative Committee\, chaired by Mike Pugh.
URL:https://hbaofic.org/calendar/legislative-committee-meeting-9/
LOCATION:Online
CATEGORIES:HBA Event
ORGANIZER;CN="Greater Iowa City Area Home Builders Association":MAILTO:eo@hbaofic.org
END:VEVENT
BEGIN:VEVENT
DTSTART;VALUE=DATE:20210217
DTEND;VALUE=DATE:20210219
DTSTAMP:20260422T045118
CREATED:20210124T012001Z
LAST-MODIFIED:20210124T012001Z
UID:10000877-1613523600-1613609999@hbaofic.org
SUMMARY:HBA of Iowa Winter Board Meeting
DESCRIPTION:
URL:https://hbaofic.org/calendar/hba-of-iowa-winter-board-meeting/
LOCATION:IA
END:VEVENT
BEGIN:VEVENT
DTSTART;TZID=America/Chicago:20210217T120000
DTEND;TZID=America/Chicago:20210217T130000
DTSTAMP:20260422T045118
CREATED:20210124T012105Z
LAST-MODIFIED:20210202T155603Z
UID:10001118-1613563200-1613566800@hbaofic.org
SUMMARY:Lunch N Learn with OnMedia: Reaching Customers with Targeted TV and Digital Advertising
DESCRIPTION:Learn about targeting TV and digital advertising using CTV and OTT with Debbie Reynolds of OnMedia. CTV is an exciting new seamless addition to TV and lets you reach highly engaged customers on the largest screen in the home with non-skippable ads. OTT also features non-skippable ads and extends your long or short video message so you can reach your desired audience on the go across multiple screens\, including smart phones. Both can filter by zip code and more. \nFind out how these affordable innovations can get your business in front of consumers and translate to sales! \nTo attend this Zoom event\, RSVP to Debbie Reynolds at dreynolds1@onmediaadsales.com by 5 p.m. on Tuesday\, Feb 16. \nOnMedia\, an Iowa City Area HBA member\, provides digital and television advertising as well as integrated marketing and cable broadband. \n \n 
URL:https://hbaofic.org/calendar/lunch-n-learn-with-onmedia/
LOCATION:Virtual
CATEGORIES:HBA Event
ORGANIZER;CN="Greater Iowa City Area Home Builders Association":MAILTO:eo@hbaofic.org
END:VEVENT
BEGIN:VEVENT
DTSTART;TZID=America/Chicago:20210218T120000
DTEND;TZID=America/Chicago:20210218T130000
DTSTAMP:20260422T045118
CREATED:20201202T171515Z
LAST-MODIFIED:20201202T171515Z
UID:10001081-1613649600-1613653200@hbaofic.org
SUMMARY:Board of Directors Meeting
DESCRIPTION:The board of directors typically meets the 3rd Thursday of every month except August.
URL:https://hbaofic.org/calendar/board-of-directors-meeting-50/
LOCATION:Online
CATEGORIES:HBA Event
ORGANIZER;CN="Greater Iowa City Area Home Builders Association":MAILTO:eo@hbaofic.org
END:VEVENT
BEGIN:VEVENT
DTSTART;VALUE=DATE:20210221
DTEND;VALUE=DATE:20210223
DTSTAMP:20260422T045118
CREATED:20210124T013312Z
LAST-MODIFIED:20210124T013312Z
UID:10001120-1613869200-1613955599@hbaofic.org
SUMMARY:Home Show Magazine in The Gazette
DESCRIPTION:Pick up The Iowa City Area HBA Home Show magazine in The Cedar Rapids Gazette to see participating exhibitors\, trends in home design\, what to expect during the 2021 show and more. \nThe Home Show happens Feb. 22 – 28 via a new interactive website\, ichomeshow.com. The event is presented by Collins Community Credit Union and Lepic-Kroeger\, REALTORS and put on by  The Greater Iowa City Area HBA.
URL:https://hbaofic.org/calendar/home-show-magazine-in-the-gazette/
LOCATION:IA
CATEGORIES:HBA Event
ORGANIZER;CN="Greater Iowa City Area Home Builders Association":MAILTO:eo@hbaofic.org
END:VEVENT
BEGIN:VEVENT
DTSTART;TZID=America/Chicago:20210221T110000
DTEND;TZID=America/Chicago:20210221T113000
DTSTAMP:20260422T045118
CREATED:20210124T012951Z
LAST-MODIFIED:20210124T013414Z
UID:10001119-1613905200-1613907000@hbaofic.org
SUMMARY:The Home Show Preview on CBS Channel 2
DESCRIPTION: Tune into CBS 2/KGAN for The Home Show Preview to see participating exhibitors and learn more about what to expect during The Iowa City Area HBA Virtual Home Show. \nThe Home Show happens Feb. 22 – 28 via a new interactive website\, ichomeshow.com. The event is presented by Collins Community Credit Union and Lepic-Kroeger\, REALTORS and put on by  The Greater Iowa City Area HBA.
URL:https://hbaofic.org/calendar/the-home-show-preview-on-cbs/
LOCATION:Televised
CATEGORIES:HBA Event
ORGANIZER;CN="Greater Iowa City Area Home Builders Association":MAILTO:eo@hbaofic.org
END:VEVENT
BEGIN:VEVENT
DTSTART;VALUE=DATE:20210222
DTEND;VALUE=DATE:20210302
DTSTAMP:20260422T045118
CREATED:20201202T171826Z
LAST-MODIFIED:20210223T172522Z
UID:10001082-1613955600-1614560399@hbaofic.org
SUMMARY:The Iowa City Area HBA Virtual Home Show
DESCRIPTION:Experience the Home Show from home!  Click here to visit The Home Show website for all the details\, including featured exhibitors\, daily giveaways and expert advice. Imagine the possibilities! \n \n@ICAreaHBAHomeShow\n#ICHBAHOMESHOW\nThank You to Our Sponsors!\nCo-Presenting Sponsors\n                                                                                           \nKids Coloring Contest Sponsor
URL:https://hbaofic.org/calendar/the-iowa-city-area-hba-virtual-home-show/
LOCATION:Online
CATEGORIES:HBA Event
ORGANIZER;CN="Greater Iowa City Area Home Builders Association":MAILTO:eo@hbaofic.org
END:VEVENT
BEGIN:VEVENT
DTSTART;VALUE=DATE:20210228
DTEND;VALUE=DATE:20210302
DTSTAMP:20260422T045118
CREATED:20210223T210023Z
LAST-MODIFIED:20210224T154010Z
UID:10001127-1614474000-1614560399@hbaofic.org
SUMMARY:Parade of Homes/Remodelers Parade Final\, Extended Deadline
DESCRIPTION:Showcase your work and gain publicity and business by entering\nthe Iowa City Area HBA Parade of Homes or Remodelers Parade!  \nDates for the 2021 Parade of Homes are: \nJune 12 and 13\nJune 15 and 17\nJune 19 and 20 \nThe Remodelers Parade is the SECOND WEEKEND\, June 19 and 20.  \nTimes are:\nSaturdays: 10:00 am – 5:00 pm\nSundays: Noon – 5:00 pm\nTuesday and Thursday: 5:30 – 8:30 pm \nClick here to apply for the new-construction Parade of Homes.\nClick here to apply for the Remodelers Parade.\nThe Parade of Homes is sponsored by Hills Bank and Urban Acres Real Estate. \n                                                                                                      \n            
URL:https://hbaofic.org/calendar/parade-of-homes-remodelers-parade-final-extended-deadline/
LOCATION:IA
CATEGORIES:HBA Event
ORGANIZER;CN="Greater Iowa City Area Home Builders Association":MAILTO:eo@hbaofic.org
END:VEVENT
END:VCALENDAR