BEGIN:VCALENDAR
VERSION:2.0
PRODID:-//The Greater Iowa City Home Builders Association  - ECPv6.11.2//NONSGML v1.0//EN
CALSCALE:GREGORIAN
METHOD:PUBLISH
X-WR-CALNAME:The Greater Iowa City Home Builders Association 
X-ORIGINAL-URL:https://hbaofic.org
X-WR-CALDESC:Events for The Greater Iowa City Home Builders Association 
REFRESH-INTERVAL;VALUE=DURATION:PT1H
X-Robots-Tag:noindex
X-PUBLISHED-TTL:PT1H
BEGIN:VTIMEZONE
TZID:America/Chicago
BEGIN:DAYLIGHT
TZOFFSETFROM:-0600
TZOFFSETTO:-0500
TZNAME:CDT
DTSTART:20210314T080000
END:DAYLIGHT
BEGIN:STANDARD
TZOFFSETFROM:-0500
TZOFFSETTO:-0600
TZNAME:CST
DTSTART:20211107T070000
END:STANDARD
END:VTIMEZONE
BEGIN:VEVENT
DTSTART;VALUE=DATE:20210408
DTEND;VALUE=DATE:20210410
DTSTAMP:20260422T010350
CREATED:20210118T222344Z
LAST-MODIFIED:20210129T154040Z
UID:10001108-1617843600-1617929999@hbaofic.org
SUMMARY:CANCELED: Cedar Rapids/Iowa City HBA Spring Social
DESCRIPTION:
URL:https://hbaofic.org/calendar/cedar-rapids-iowa-city-hba-spring-social-tentative/
LOCATION:IA
END:VEVENT
BEGIN:VEVENT
DTSTART;TZID=America/Chicago:20210413T120000
DTEND;TZID=America/Chicago:20210413T130000
DTSTAMP:20260422T010350
CREATED:20210118T161345Z
LAST-MODIFIED:20210118T161928Z
UID:10000848-1618315200-1618318800@hbaofic.org
SUMMARY:Remodelers Council Board Meeting
DESCRIPTION:The Remodelers Council Board of Directors meets the 2nd Tuesday of every other month – except August –  in the IC HBA’s Conference Room. Interested in joining our Remodelers Council? Email karyl@hbaofic.org. Learn more under our Remodelers Council tab.
URL:https://hbaofic.org/calendar/remodelers-council-board-meeting-11/
LOCATION:IA
CATEGORIES:HBA Event
END:VEVENT
BEGIN:VEVENT
DTSTART;TZID=America/Chicago:20210415T120000
DTEND;TZID=America/Chicago:20210415T130000
DTSTAMP:20260422T010350
CREATED:20210118T170939Z
LAST-MODIFIED:20210118T172647Z
UID:10000863-1618488000-1618491600@hbaofic.org
SUMMARY:Board of Directors Meeting
DESCRIPTION:The board of directors typically meets the 3rd Thursday of every month except August. \n 
URL:https://hbaofic.org/calendar/board-of-directors-meeting-52/
LOCATION:IA
CATEGORIES:HBA Event
END:VEVENT
BEGIN:VEVENT
DTSTART;TZID=America/Chicago:20210415T160000
DTEND;TZID=America/Chicago:20210415T170000
DTSTAMP:20260422T010350
CREATED:20210223T193500Z
LAST-MODIFIED:20210427T201120Z
UID:10001126-1618502400-1618506000@hbaofic.org
SUMMARY:April Membership Meeting: Developments Snapshot Part 2
DESCRIPTION:Keep your business in the know! Join us to learn the latest in area development from Kalona and Johnson County administrators and planners during this update meeting. \nWe’ll hear from: \nCity of Tiffin\nBrian Shay\, Building & Zoning Official \nClick here for the City of Tiffin presentation PDF. \nJohnson County\nNeil Bombei\, Lead Building Inspector\nJosh Busard\, Planning & Zoning \nClick here for Johnson County’s presentation PDF. \nSolon\nSandy Steil\, Project Manager/Business Development with MMS Consultants \nClick here for MMS Consultants’ Solon presentation PDF. \nThis meeting is free and virtual only. Please RSVP to Karyl by 5 p.m. Wednesday\, April 14 to receive a Zoom link invitation.  \nMiss our March Developments Snapshot 1 meeting with Coralville\, Iowa City and North Liberty? Download the presentations: \nClick here for Coralville’s presentation PDF. \nClick here for Iowa City’s presentation PDF. \nClick here for North Liberty’s presentation PDF. \n                                                                                       
URL:https://hbaofic.org/calendar/april-membership-meeting-developments-snapshot-part-2/
LOCATION:Virtual
CATEGORIES:HBA Event
ORGANIZER;CN="Greater Iowa City Area Home Builders Association":MAILTO:eo@hbaofic.org
END:VEVENT
BEGIN:VEVENT
DTSTART;TZID=America/Chicago:20210416T080000
DTEND;TZID=America/Chicago:20210416T170000
DTSTAMP:20260422T010350
CREATED:20210323T165738Z
LAST-MODIFIED:20210324T145633Z
UID:10000883-1618560000-1618592400@hbaofic.org
SUMMARY:Scholarships Application Deadline
DESCRIPTION:The Greater Iowa City Area HBA’s Women’s Council each May awards its scholarships students entering skilled-trades\, Architecture-Construction-Engineering arena or who have  an HBA affiliation. \nApplication link is below. Submission deadline is April 16. \nQuestions? Contact Karyl Bohnsack at (319) 351-5333. \n2021 Iowa City Area HBA Scholarship Application \n 
URL:https://hbaofic.org/calendar/scholarships-application-deadline/
LOCATION:IA
CATEGORIES:HBA Event
END:VEVENT
BEGIN:VEVENT
DTSTART;TZID=America/Chicago:20210420T073000
DTEND;TZID=America/Chicago:20210420T083000
DTSTAMP:20260422T010350
CREATED:20210110T204056Z
LAST-MODIFIED:20210118T163804Z
UID:10001095-1618903800-1618907400@hbaofic.org
SUMMARY:Legislative Committee Meeting
DESCRIPTION:The Iowa City Area HBA’s Legislative Committee meets every other month on the third Tuesday from 7:30 – 8:30 a.m. \nThe committee recommends policies to the association on legislative\, regulatory and legal matters. It tracks and monitors issues\, explores options on ways to deal with them and connects with local officials and legislative leaders. The committee endorses candidates for local elections and actively recruits candidates for boards and commissions. It also discusses strategies and methods of advocating to gain the best possible results for HBA members. Board members Mike Pugh and Glenn Siders oversee the Legislative Committee. \n  \n        \nLegislative Committee\, chaired by Mike Pugh.
URL:https://hbaofic.org/calendar/legislative-committee-meeting-10/
LOCATION:Online
CATEGORIES:HBA Event
ORGANIZER;CN="Greater Iowa City Area Home Builders Association":MAILTO:eo@hbaofic.org
END:VEVENT
BEGIN:VEVENT
DTSTART;TZID=America/Chicago:20210421T120000
DTEND;TZID=America/Chicago:20210421T130000
DTSTAMP:20260422T010350
CREATED:20210309T195425Z
LAST-MODIFIED:20210311T150559Z
UID:10000879-1619006400-1619010000@hbaofic.org
SUMMARY:Lunch N Learn: Social Media Best Practices
DESCRIPTION:Your business is using social media\, but is it making the most of each social platform? Join Brook Easton\, director of digital marketing and co-owner of Easton Design\, as she shares\, best practices for social media. Included will be deciding which social networks will get you the most bang for your buck and how to tackle content creation.  \nThis class is perfect for the business that already has social channels created\, but is hitting roadblocks with engagement or getting started and staying consistent.  \nThere will be time for a Q&A. \nRSVP by 5:00 p.m. Tuesday\, April 20 to Karyl to receive a Zoom-link invite for this virtual event. \n  \nAbout Our Presenter:\n\nBrook Easton is the Director of Digital Marketing for Iowa City Area HBA member Easton Design\, a  digital marketing agency she co-owns with her husband. The company specializes in web design; social media marketing; and strategy\, branding and videography. With more than 25 years of marketing experience and a laptop\, she helps businesses find their voice online. Creating communities\, building relationships and telling brand stories\, one post\, like and share at a time. 
URL:https://hbaofic.org/calendar/lunch-n-learn-social-media-best-practices/
LOCATION:Online
CATEGORIES:HBA Event
ORGANIZER;CN="Greater Iowa City Area Home Builders Association":MAILTO:eo@hbaofic.org
END:VEVENT
BEGIN:VEVENT
DTSTART;VALUE=DATE:20210424
DTEND;VALUE=DATE:20210426
DTSTAMP:20260422T010350
CREATED:20210420T153247Z
LAST-MODIFIED:20210420T181818Z
UID:10000885-1619226000-1619312399@hbaofic.org
SUMMARY:Energy Blitz
DESCRIPTION:Sign up for the Energy Blitz ! The event is a collaboration between the\nCity of Iowa City and Johnson Clean Energy District to commemorate April’s Earth Day.\n\nWho: \nAnyone is welcome to volunteer! You will need your own transportation. High School students are eligible to earn Silver Cord volunteer hours for participating. Everyone receives a reusable eco-friendly water bottle. Each participant must complete a liability waiver. \nWhat:\nLED lightbulbs and other energy efficiency supplies will be distributed on the south side of Iowa City. Volunteers will travel together in small groups to deliver energy savings boxes in local neighborhoods. Masks are required to be worn at all times and social distancing will be practiced. \nTimes: \n9 – 11:30 a.m. OR 3:30 – 5 p.m. \nSign Up Link:\nhttps://www.signupgenius.com/go/70a0b4fafad2da6f49-earth \nOrientation:\nRecorded Zoom\nHand Out\n \nMeeting Place: \nEach team will assemble at Fairmeadows Park at the start of their shift to meet their team captains\, go over instructions and ask questions before heading out. Please arrive 10 minutes before your shift. \n \nWhy:\nThe energy packages being supplied to families will save energy and money. The products are an easy way to work toward the City of Iowa City’s greenhouse gas emissions reduction goals. For more information on the City’s climate goals visit https://www.icgov.org/project/climate-action. To become involved with Johnson Clean Energy District visit https://johnsoncleanenergydistrict.org/. \n 
URL:https://hbaofic.org/calendar/energy-blitz/
LOCATION:Fairmeadows Park\, 2451 Miami Drive\, Iowa City\, IA\, 52240
END:VEVENT
BEGIN:VEVENT
DTSTART;VALUE=DATE:20210427
DTEND;VALUE=DATE:20210429
DTSTAMP:20260422T010350
CREATED:20210124T004216Z
LAST-MODIFIED:20210124T004216Z
UID:10000875-1619485200-1619571599@hbaofic.org
SUMMARY:Build My Future - Virtual
DESCRIPTION:Build My Future is virtual during 2021 via Zoom!  This award-winning iniative is intended to expose youth to the skilled trades and plant seeds for developing Iowa’s future building-industry workforce. It is hosted by the ACE Sector Board and a collaboration among The Greater Iowa City Area HBA; the Greater Cedar Rapids HBA; and Kirkwood Community College.  \nSchedule to come. Click here to learn more about Build My Future\, including how to become a sponsor or provide a demonstration for the broadcast. \n 
URL:https://hbaofic.org/calendar/build-my-future-virtual/
LOCATION:IA
CATEGORIES:HBA Event
ORGANIZER;CN="Greater Iowa City Area Home Builders Association":MAILTO:eo@hbaofic.org
END:VEVENT
END:VCALENDAR