BEGIN:VCALENDAR
VERSION:2.0
PRODID:-//The Greater Iowa City Home Builders Association  - ECPv6.11.2//NONSGML v1.0//EN
CALSCALE:GREGORIAN
METHOD:PUBLISH
X-WR-CALNAME:The Greater Iowa City Home Builders Association 
X-ORIGINAL-URL:https://hbaofic.org
X-WR-CALDESC:Events for The Greater Iowa City Home Builders Association 
REFRESH-INTERVAL;VALUE=DURATION:PT1H
X-Robots-Tag:noindex
X-PUBLISHED-TTL:PT1H
BEGIN:VTIMEZONE
TZID:America/Chicago
BEGIN:DAYLIGHT
TZOFFSETFROM:-0600
TZOFFSETTO:-0500
TZNAME:CDT
DTSTART:20240310T080000
END:DAYLIGHT
BEGIN:STANDARD
TZOFFSETFROM:-0500
TZOFFSETTO:-0600
TZNAME:CST
DTSTART:20241103T070000
END:STANDARD
END:VTIMEZONE
BEGIN:VEVENT
DTSTART;TZID=America/Chicago:20240607T070000
DTEND;TZID=America/Chicago:20240607T120000
DTSTAMP:20260423T190128
CREATED:20240509T204912Z
LAST-MODIFIED:20240509T204912Z
UID:10001332-1717743600-1717761600@hbaofic.org
SUMMARY:Parade of Homes Breakfast - Members Only Tour & Awards Ceremony
DESCRIPTION:Join us for an HBA Member Breakfast Awards ceremony & VIP Parade of Homes tour sponsored by Hills Bank. \nStarting at 7:00 AM on June 7th at the Celebration Barn Join us for an Awards Ceremony & Breakfast followed by an Exclusive Members Only Tour of the 2024 Parade Homes.\nBe sure to get your coffee from the PWB Coffee Bar Sponsored by Java House Coffee of Iowa City. Proceeds will go to the PWB Scholarship fund. \n  \nfile:///C:/Users/HBA/Downloads/Member%20Only%20Breakfast%20+%20Tour.pdf \nhttps://lp.constantcontactpages.com/ev/reg/2dg2eru/lp/2025d09e-c5fc-4977-9871-863b25d96d6c
URL:https://hbaofic.org/calendar/parade-of-homes-breakfast-members-only-tour-awards-ceremony/
LOCATION:The Celebration Farm\, 4696 Robin Woods Ln NE\, Iowa City\, IA\, United States
ORGANIZER;CN="HBA of IC":MAILTO:eo@hbaofic.org
END:VEVENT
BEGIN:VEVENT
DTSTART;VALUE=DATE:20240608
DTEND;VALUE=DATE:20240611
DTSTAMP:20260423T190128
CREATED:20231101T161739Z
LAST-MODIFIED:20231101T161739Z
UID:10001300-1717808400-1717981199@hbaofic.org
SUMMARY:Remodelers Parade
DESCRIPTION:Coming home is the best feeling in the world. If you’re looking for a new place or want fresh ideas and innovations for your current one\, visit The Greater Iowa City Area Home Builders Association Parade of Homes. \n \n  \nhttps://iowacityhomes.thegazette.com/ \nGet inspired by touring beautiful homes during the \n57th Annual Iowa City Area HBA\nParade of Homes.  \nDates for the 2024 Parade of Homes are: \nJune 8 and 9\nJune 11 and 13\nJune 15 and 16\nTimes are:\nSaturdays: 10:00 am – 5:00 pm\nSundays: Noon – 5:00 pm\nTuesday and Thursday: 5:30 – 8:30 pm\nThank You to Our 2024 Sponsors
URL:https://hbaofic.org/calendar/remodelers-parade-5/
LOCATION:IA
ORGANIZER;CN="HBA of IC":MAILTO:eo@hbaofic.org
END:VEVENT
BEGIN:VEVENT
DTSTART;VALUE=DATE:20240608
DTEND;VALUE=DATE:20240611
DTSTAMP:20260423T190128
CREATED:20231101T162016Z
LAST-MODIFIED:20231101T162016Z
UID:10001301-1717808400-1717981199@hbaofic.org
SUMMARY:Parade of Homes
DESCRIPTION:Coming home is the best feeling in the world. If you’re looking for a new place or want fresh ideas and innovations for your current one\, visit The Greater Iowa City Area Home Builders Association Parade of Homes. \n \n  \nhttps://iowacityhomes.thegazette.com/ \nGet inspired by touring beautiful homes during the \n57th Annual Iowa City Area HBA\nParade of Homes.  \nDates for the 2024 Parade of Homes are: \nJune 8 and 9\nJune 11 and 13\nJune 15 and 16\nTimes are:\nSaturdays: 10:00 am – 5:00 pm\nSundays: Noon – 5:00 pm\nTuesday and Thursday: 5:30 – 8:30 pm\nThank You to Our 2024 Sponsors\n\n\n 
URL:https://hbaofic.org/calendar/parade-of-homes-31/
LOCATION:IA
ORGANIZER;CN="HBA of IC":MAILTO:eo@hbaofic.org
END:VEVENT
BEGIN:VEVENT
DTSTART;TZID=America/Chicago:20240611T120000
DTEND;TZID=America/Chicago:20240611T130000
DTSTAMP:20260423T190128
CREATED:20231101T162752Z
LAST-MODIFIED:20231101T162752Z
UID:10001305-1718107200-1718110800@hbaofic.org
SUMMARY:Remodelers Council Meeting
DESCRIPTION:
URL:https://hbaofic.org/calendar/remodelers-council-meeting-14/
LOCATION:HBA Office & Zoom\, 11 S Gilbert St\, Iowa City\, IA\, 52240\, United States
ORGANIZER;CN="HBA of IC":MAILTO:eo@hbaofic.org
END:VEVENT
BEGIN:VEVENT
DTSTART;TZID=America/Chicago:20240611T173000
DTEND;TZID=America/Chicago:20240611T203000
DTSTAMP:20260423T190128
CREATED:20231101T162525Z
LAST-MODIFIED:20231101T162525Z
UID:10001303-1718127000-1718137800@hbaofic.org
SUMMARY:Parade of Homes
DESCRIPTION:Coming home is the best feeling in the world. If you’re looking for a new place or want fresh ideas and innovations for your current one\, visit The Greater Iowa City Area Home Builders Association Parade of Homes. \n \n  \nhttps://iowacityhomes.thegazette.com/ \nGet inspired by touring beautiful homes during the \n57th Annual Iowa City Area HBA\nParade of Homes.  \nDates for the 2024 Parade of Homes are: \nJune 8 and 9\nJune 11 and 13\nJune 15 and 16\nTimes are:\nSaturdays: 10:00 am – 5:00 pm\nSundays: Noon – 5:00 pm\nTuesday and Thursday: 5:30 – 8:30 pm\nThank You to Our 2024 Sponsors
URL:https://hbaofic.org/calendar/parade-of-homes-33/
LOCATION:IA
ORGANIZER;CN="HBA of IC":MAILTO:eo@hbaofic.org
END:VEVENT
BEGIN:VEVENT
DTSTART;TZID=America/Chicago:20240613T173000
DTEND;TZID=America/Chicago:20240613T203000
DTSTAMP:20260423T190128
CREATED:20231101T162309Z
LAST-MODIFIED:20231101T162408Z
UID:10001302-1718299800-1718310600@hbaofic.org
SUMMARY:Parade of Homes
DESCRIPTION:Coming home is the best feeling in the world. If you’re looking for a new place or want fresh ideas and innovations for your current one\, visit The Greater Iowa City Area Home Builders Association Parade of Homes. \n \n  \nhttps://iowacityhomes.thegazette.com/ \nGet inspired by touring beautiful homes during the \n57th Annual Iowa City Area HBA\nParade of Homes.  \nDates for the 2024 Parade of Homes are: \nJune 8 and 9\nJune 11 and 13\nJune 15 and 16\nTimes are:\nSaturdays: 10:00 am – 5:00 pm\nSundays: Noon – 5:00 pm\nTuesday and Thursday: 5:30 – 8:30 pm\nThank You to Our 2024 Sponsors
URL:https://hbaofic.org/calendar/parade-of-homes-32/
LOCATION:IA
ORGANIZER;CN="HBA of IC":MAILTO:eo@hbaofic.org
END:VEVENT
BEGIN:VEVENT
DTSTART;VALUE=DATE:20240615
DTEND;VALUE=DATE:20240618
DTSTAMP:20260423T190128
CREATED:20231101T162643Z
LAST-MODIFIED:20231101T162643Z
UID:10001304-1718413200-1718585999@hbaofic.org
SUMMARY:Parade of Homes
DESCRIPTION:Coming home is the best feeling in the world. If you’re looking for a new place or want fresh ideas and innovations for your current one\, visit The Greater Iowa City Area Home Builders Association Parade of Homes. \n \n  \nhttps://iowacityhomes.thegazette.com/ \nGet inspired by touring beautiful homes during the \n57th Annual Iowa City Area HBA\nParade of Homes.  \nDates for the 2024 Parade of Homes are: \nJune 8 and 9\nJune 11 and 13\nJune 15 and 16\nTimes are:\nSaturdays: 10:00 am – 5:00 pm\nSundays: Noon – 5:00 pm\nTuesday and Thursday: 5:30 – 8:30 pm\nThank You to Our 2024 Sponsors
URL:https://hbaofic.org/calendar/parade-of-homes-34/
LOCATION:IA
ORGANIZER;CN="HBA of IC":MAILTO:eo@hbaofic.org
END:VEVENT
BEGIN:VEVENT
DTSTART;TZID=America/Chicago:20240620T120000
DTEND;TZID=America/Chicago:20240620T130000
DTSTAMP:20260423T190128
CREATED:20231101T162848Z
LAST-MODIFIED:20231101T162848Z
UID:10001306-1718884800-1718888400@hbaofic.org
SUMMARY:Board of Directors Meeting
DESCRIPTION:
URL:https://hbaofic.org/calendar/board-of-directors-meeting-78/
LOCATION:HBA Office & Zoom\, 11 S Gilbert St\, Iowa City\, IA\, 52240\, United States
ORGANIZER;CN="HBA of IC":MAILTO:eo@hbaofic.org
END:VEVENT
END:VCALENDAR