BEGIN:VCALENDAR
VERSION:2.0
PRODID:-//The Greater Iowa City Home Builders Association  - ECPv6.11.2//NONSGML v1.0//EN
CALSCALE:GREGORIAN
METHOD:PUBLISH
X-WR-CALNAME:The Greater Iowa City Home Builders Association 
X-ORIGINAL-URL:https://hbaofic.org
X-WR-CALDESC:Events for The Greater Iowa City Home Builders Association 
REFRESH-INTERVAL;VALUE=DURATION:PT1H
X-Robots-Tag:noindex
X-PUBLISHED-TTL:PT1H
BEGIN:VTIMEZONE
TZID:America/Chicago
BEGIN:DAYLIGHT
TZOFFSETFROM:-0600
TZOFFSETTO:-0500
TZNAME:CDT
DTSTART:20240310T080000
END:DAYLIGHT
BEGIN:STANDARD
TZOFFSETFROM:-0500
TZOFFSETTO:-0600
TZNAME:CST
DTSTART:20241103T070000
END:STANDARD
END:VTIMEZONE
BEGIN:VEVENT
DTSTART;TZID=America/Chicago:20240807T160000
DTEND;TZID=America/Chicago:20240807T170000
DTSTAMP:20260423T151514
CREATED:20231106T192128Z
LAST-MODIFIED:20240801T160330Z
UID:10001312-1723046400-1723050000@hbaofic.org
SUMMARY:Professional Women in Building (PWB) Wednesday Brew
DESCRIPTION:
URL:https://hbaofic.org/calendar/professional-women-in-building-pwb-wednesday-brew-8/
LOCATION:Pin Seekers\, Tiffin
END:VEVENT
BEGIN:VEVENT
DTSTART;TZID=America/Chicago:20240813T120000
DTEND;TZID=America/Chicago:20240813T130000
DTSTAMP:20260423T151514
CREATED:20240729T151710Z
LAST-MODIFIED:20240729T151710Z
UID:10001333-1723550400-1723554000@hbaofic.org
SUMMARY:Email Management Course
DESCRIPTION:  \nMaster your inbox: Join us for an email management course and take control of your digital communication. In this class you will learn the best practices for organizing and managing your email inbox\,\ndevelop strategies for prioritizing and responding to emails efficiently\, and reduce email clutter.\nBe sure to bring your laptops! Lunch will be provided.
URL:https://hbaofic.org/calendar/email-management-course/
LOCATION:PSC Distribution – 2nd Floor Training Room\, 72 Commercial Dr\, Iowa City\, IA\, 52246\, United States
ORGANIZER;CN="Greater Iowa City Area Home Builders Association":MAILTO:eo@hbaofic.org
END:VEVENT
END:VCALENDAR