BEGIN:VCALENDAR
VERSION:2.0
PRODID:-//The Greater Iowa City Home Builders Association  - ECPv6.11.2//NONSGML v1.0//EN
CALSCALE:GREGORIAN
METHOD:PUBLISH
X-ORIGINAL-URL:https://hbaofic.org
X-WR-CALDESC:Events for The Greater Iowa City Home Builders Association 
REFRESH-INTERVAL;VALUE=DURATION:PT1H
X-Robots-Tag:noindex
X-PUBLISHED-TTL:PT1H
BEGIN:VTIMEZONE
TZID:America/Chicago
BEGIN:DAYLIGHT
TZOFFSETFROM:-0600
TZOFFSETTO:-0500
TZNAME:CDT
DTSTART:20210314T080000
END:DAYLIGHT
BEGIN:STANDARD
TZOFFSETFROM:-0500
TZOFFSETTO:-0600
TZNAME:CST
DTSTART:20211107T070000
END:STANDARD
END:VTIMEZONE
BEGIN:VEVENT
DTSTART;TZID=America/Chicago:20210127T113000
DTEND;TZID=America/Chicago:20210127T123000
DTSTAMP:20260422T130612
CREATED:20201211T150705Z
LAST-MODIFIED:20210112T192612Z
UID:10001091-1611747000-1611750600@hbaofic.org
SUMMARY:Authentic Advertising: Creative that Speaks to Your Customer Lunch N Learn with KZIA
DESCRIPTION:NOTE: This event was rescheduled from Jan. 20. \nUnderstanding how to tell your customer who you are can make or break a great branding plan. Honing in on your best message and delivering it in a relatable way helps new customers find you\, and existing customers love you even more.  During this event\, learn tips on crafting your message. \nRSVP by 5 p.m.\, Tuesday\, Jan. 26 to karyl@hbaofic.org or michelle@hbaofic.org. Once registered\, you will receive a Zoom link/calendar invite for the seminar.
URL:https://hbaofic.org/calendar/messaging-lunch-n-learn-with-kzia/
LOCATION:Online
CATEGORIES:HBA Event
ORGANIZER;CN="Greater Iowa City Area Home Builders Association":MAILTO:eo@hbaofic.org
END:VEVENT
BEGIN:VEVENT
DTSTART;TZID=America/Chicago:20210127T170000
DTEND;TZID=America/Chicago:20210127T183000
DTSTAMP:20260422T130612
CREATED:20201223T175210Z
LAST-MODIFIED:20210113T152938Z
UID:10001092-1611766800-1611772200@hbaofic.org
SUMMARY:NAHB Annual Meeting of the Members
DESCRIPTION:All National Association of Home Builders (NAHB) members are invited to join the 2021 virtual Meeting of the Members to elect and celebrate the 2021 Delegates to the NAHB Leadership Council. \nDetails regarding this session will be available at https://www.nahb.org/events/MeetingoftheMembers \n 
URL:https://hbaofic.org/calendar/nahb-annual-meeting-of-the-members/
LOCATION:Online
CATEGORIES:HBA Event
END:VEVENT
BEGIN:VEVENT
DTSTART;VALUE=DATE:20210129
DTEND;VALUE=DATE:20210131
DTSTAMP:20260422T130612
CREATED:20201202T182104Z
LAST-MODIFIED:20201208T180735Z
UID:10001086-1611882000-1611968399@hbaofic.org
SUMMARY:Third Deadline for Iowa City Area HBA Parade of Homes Applications
DESCRIPTION:Showcase your work and gain publicity and business by entering\nthe Iowa City Area HBA Parade of Homes or Remodelers Parade!  \nDates for the 2021 Parade of Homes are: \nJune 12 and 13\nJune 15 and 17\nJune 19 and 20 \nThe Remodelers Parade is the SECOND WEEKEND\, June 15 and 17.  \nTimes are:\nSaturdays: 10:00 am – 5:00 pm\nSundays: Noon – 5:00 pm\nTuesday and Thursday: 5:30 – 8:30 pm \nClick here to apply for the new-construction Parade of Homes.\nClick here to apply for the Remodelers Parade.\nThe Parade of Homes is sponsored by Hills Bank and Urban Acres Real Estate. \n                                                                                                      \n            
URL:https://hbaofic.org/calendar/third-deadline-for-iowa-city-area-hba-parade-of-homes-applications/
LOCATION:IA
CATEGORIES:HBA Event
END:VEVENT
END:VCALENDAR