BEGIN:VCALENDAR
VERSION:2.0
PRODID:-//The Greater Iowa City Home Builders Association  - ECPv6.11.2//NONSGML v1.0//EN
CALSCALE:GREGORIAN
METHOD:PUBLISH
X-ORIGINAL-URL:https://hbaofic.org
X-WR-CALDESC:Events for The Greater Iowa City Home Builders Association 
REFRESH-INTERVAL;VALUE=DURATION:PT1H
X-Robots-Tag:noindex
X-PUBLISHED-TTL:PT1H
BEGIN:VTIMEZONE
TZID:America/Chicago
BEGIN:DAYLIGHT
TZOFFSETFROM:-0600
TZOFFSETTO:-0500
TZNAME:CDT
DTSTART:20210314T080000
END:DAYLIGHT
BEGIN:STANDARD
TZOFFSETFROM:-0500
TZOFFSETTO:-0600
TZNAME:CST
DTSTART:20211107T070000
END:STANDARD
END:VTIMEZONE
BEGIN:VEVENT
DTSTART;VALUE=DATE:20210222
DTEND;VALUE=DATE:20210302
DTSTAMP:20260422T063512
CREATED:20201202T171826Z
LAST-MODIFIED:20210223T172522Z
UID:10001082-1613955600-1614560399@hbaofic.org
SUMMARY:The Iowa City Area HBA Virtual Home Show
DESCRIPTION:Experience the Home Show from home!  Click here to visit The Home Show website for all the details\, including featured exhibitors\, daily giveaways and expert advice. Imagine the possibilities! \n \n@ICAreaHBAHomeShow\n#ICHBAHOMESHOW\nThank You to Our Sponsors!\nCo-Presenting Sponsors\n                                                                                           \nKids Coloring Contest Sponsor
URL:https://hbaofic.org/calendar/the-iowa-city-area-hba-virtual-home-show/
LOCATION:Online
CATEGORIES:HBA Event
ORGANIZER;CN="Greater Iowa City Area Home Builders Association":MAILTO:eo@hbaofic.org
END:VEVENT
BEGIN:VEVENT
DTSTART;VALUE=DATE:20210228
DTEND;VALUE=DATE:20210302
DTSTAMP:20260422T063512
CREATED:20210223T210023Z
LAST-MODIFIED:20210224T154010Z
UID:10001127-1614474000-1614560399@hbaofic.org
SUMMARY:Parade of Homes/Remodelers Parade Final\, Extended Deadline
DESCRIPTION:Showcase your work and gain publicity and business by entering\nthe Iowa City Area HBA Parade of Homes or Remodelers Parade!  \nDates for the 2021 Parade of Homes are: \nJune 12 and 13\nJune 15 and 17\nJune 19 and 20 \nThe Remodelers Parade is the SECOND WEEKEND\, June 19 and 20.  \nTimes are:\nSaturdays: 10:00 am – 5:00 pm\nSundays: Noon – 5:00 pm\nTuesday and Thursday: 5:30 – 8:30 pm \nClick here to apply for the new-construction Parade of Homes.\nClick here to apply for the Remodelers Parade.\nThe Parade of Homes is sponsored by Hills Bank and Urban Acres Real Estate. \n                                                                                                      \n            
URL:https://hbaofic.org/calendar/parade-of-homes-remodelers-parade-final-extended-deadline/
LOCATION:IA
CATEGORIES:HBA Event
ORGANIZER;CN="Greater Iowa City Area Home Builders Association":MAILTO:eo@hbaofic.org
END:VEVENT
END:VCALENDAR