BEGIN:VCALENDAR
VERSION:2.0
PRODID:-//The Greater Iowa City Home Builders Association  - ECPv6.11.2//NONSGML v1.0//EN
CALSCALE:GREGORIAN
METHOD:PUBLISH
X-ORIGINAL-URL:https://hbaofic.org
X-WR-CALDESC:Events for The Greater Iowa City Home Builders Association 
REFRESH-INTERVAL;VALUE=DURATION:PT1H
X-Robots-Tag:noindex
X-PUBLISHED-TTL:PT1H
BEGIN:VTIMEZONE
TZID:America/Chicago
BEGIN:DAYLIGHT
TZOFFSETFROM:-0600
TZOFFSETTO:-0500
TZNAME:CDT
DTSTART:20210314T080000
END:DAYLIGHT
BEGIN:STANDARD
TZOFFSETFROM:-0500
TZOFFSETTO:-0600
TZNAME:CST
DTSTART:20211107T070000
END:STANDARD
END:VTIMEZONE
BEGIN:VEVENT
DTSTART;TZID=America/Chicago:20210329T173000
DTEND;TZID=America/Chicago:20210329T183000
DTSTAMP:20260422T063440
CREATED:20210223T221357Z
LAST-MODIFIED:20210324T150332Z
UID:10001128-1617039000-1617042600@hbaofic.org
SUMMARY:Virtual Whiskey Cocktail Hour
DESCRIPTION: \n\nIOWA CITY AREA HBA WOMEN’S COUNCIL\ninvites all members and guests to a  \nVirtual Whiskey Cocktail Hour  \nSponsored by Sueppel’s Siding & Remodeling \nHow it Works\nZoom in at 5:30 p.m.\nMake and enjoy two cocktails from Cedar Ridge Winery & Distillery.\nYou’ll also enjoy snacks and learn about what you’re drinking. \nCost Levels\n$15 Event Participation Fee — All money goes to the Women’s Council Scholarship Fund. \n$35 Sampler Pack — Purchase the Cedar Ridge American Whiskey Sampler Pack Collection (optional).\nYou can get this even if you are unable to attend the Zoom cocktail hour. \n$50 Combo — Combines the $15 entry fee and $35 sampler pack purchases. \nRSVP & Pick Up\nR.S.V.P. to Karyl by Friday\, March 26 for a Zoom-link invitation.\nOn Monday\, March 29\, between 9 a.m. and 5 p.m.\, pick up your cocktails mix and snacks\,\nplus the sampler pack if you purchased it\, at Studio H20 (2020 South Riverside Dr.\, Iowa City).\nCall or text 319-338-8275 before arriving as the doors are locked.\nOR you may pick up your sampler box through March 28 at the Iowa City Area HBA Office (11 S. Gilbert St.\, Iowa City). \n\n \n \n                                                                    
URL:https://hbaofic.org/calendar/20083/
LOCATION:Virtual
CATEGORIES:HBA Event
ORGANIZER;CN="Greater Iowa City Area Home Builders Association":MAILTO:eo@hbaofic.org
END:VEVENT
END:VCALENDAR