BEGIN:VCALENDAR
VERSION:2.0
PRODID:-//The Greater Iowa City Home Builders Association  - ECPv6.11.2//NONSGML v1.0//EN
CALSCALE:GREGORIAN
METHOD:PUBLISH
X-ORIGINAL-URL:https://hbaofic.org
X-WR-CALDESC:Events for The Greater Iowa City Home Builders Association 
REFRESH-INTERVAL;VALUE=DURATION:PT1H
X-Robots-Tag:noindex
X-PUBLISHED-TTL:PT1H
BEGIN:VTIMEZONE
TZID:America/Chicago
BEGIN:DAYLIGHT
TZOFFSETFROM:-0600
TZOFFSETTO:-0500
TZNAME:CDT
DTSTART:20210314T080000
END:DAYLIGHT
BEGIN:STANDARD
TZOFFSETFROM:-0500
TZOFFSETTO:-0600
TZNAME:CST
DTSTART:20211107T070000
END:STANDARD
END:VTIMEZONE
BEGIN:VEVENT
DTSTART;VALUE=DATE:20210531
DTEND;VALUE=DATE:20210602
DTSTAMP:20260421T193623
CREATED:20210512T203219Z
LAST-MODIFIED:20210512T203219Z
UID:10001131-1622422800-1622509199@hbaofic.org
SUMMARY:Lego Parade of Homes Entry Portal Closes (5 p.m.)
DESCRIPTION:2021 IOWA CITY AREA HBA LEGO PARADE OF HOMES \nEnter May 17 – 31\nThe Iowa City Area HBA Lego Parade of Homes is back by popular demand\, sponsored by Great Western Bank. Kids aged 17 and younger are invited to summon their inner builder for a chance to win prizes\, courtesy of Locals Love Us – ICR. \nContest dates are May 17 – 31\, with category winners announced June 11. The Lego parade tour goes live June 12 at www.iowacityhomes.thegazette.com/lego-tour\, the first day of the Iowa City Area HBA Parade of Homes. The public may vote on the website for their Lego favorites through June 20\, the last day of the Iowa City Area HBA Parade of Homes & Remodelers Parade. The Lego Parade People’s Choice Award recipient will be revealed June 25. \nAll winners will be announced on Facebook @ICAreaHBAParadeofHomes and Instagram @icareahba. \nHere’s how to enter:\nStep 1: Collect all your Legos.\nStep 2: Build your home sweet home.\nStep 3: Take photos of your creation.\nStep 4: Enter your masterpiece by 5 p.m.\, May 31\, at www.iowacityhomes.thegazette.com/lego-tour by following the prompts. Only first names will be used when publicizing entries. Don’t forget to include your description (e.g. number of bedrooms\, colors\, types of countertops\, etc.). \nCategories: Building Excellence & Creative Description\nTop three in each category receive:\n1st: $50 to Bread Garden\n2nd: $25 to La Regia\n3rd: Iowa Children’s Museum Family Pass \nWinners will be named June 11\, and judges are from Great Western Bank and Iowa City Area HBA Parade of Homes Presenting Co-Sponsors Hills Bank and Urban Acres Real Estate. \nPeople’s Choice Award\nThe entry with the most public votes wins $50 to Bread Garden. Voting is June 12 – 20 at  www.iowacityhomes.thegazette.com/lego-tour. Winner will be revealed June 25.  \n“Everyone had so much fun with the Lego parade last year that we decided to do it again\,” said Iowa City Area HBA Parade of Homes Co-Chair Mitchell Manning of Sobaski Abbey Carpet & Floor. “Kids are incredibly creative\, and we’re eager to see 2021 entries.” \nContest questions should be directed to (319) 351-5333 or karyl@hbaofic.org. \n                                    
URL:https://hbaofic.org/calendar/lego-parade-of-homes-entry-portal-closes-5-p-m/
LOCATION:IA
CATEGORIES:HBA Event
ORGANIZER;CN="Greater Iowa City Area Home Builders Association":MAILTO:eo@hbaofic.org
END:VEVENT
END:VCALENDAR