BEGIN:VCALENDAR
VERSION:2.0
PRODID:-//The Greater Iowa City Home Builders Association  - ECPv6.11.2//NONSGML v1.0//EN
CALSCALE:GREGORIAN
METHOD:PUBLISH
X-WR-CALNAME:The Greater Iowa City Home Builders Association 
X-ORIGINAL-URL:https://hbaofic.org
X-WR-CALDESC:Events for The Greater Iowa City Home Builders Association 
REFRESH-INTERVAL;VALUE=DURATION:PT1H
X-Robots-Tag:noindex
X-PUBLISHED-TTL:PT1H
BEGIN:VTIMEZONE
TZID:America/Chicago
BEGIN:DAYLIGHT
TZOFFSETFROM:-0600
TZOFFSETTO:-0500
TZNAME:CDT
DTSTART:20210314T080000
END:DAYLIGHT
BEGIN:STANDARD
TZOFFSETFROM:-0500
TZOFFSETTO:-0600
TZNAME:CST
DTSTART:20211107T070000
END:STANDARD
END:VTIMEZONE
BEGIN:VEVENT
DTSTART;VALUE=DATE:20210617
DTEND;VALUE=DATE:20210621
DTSTAMP:20260421T142428
CREATED:20210128T143657Z
LAST-MODIFIED:20210608T183018Z
UID:10001121-1623891600-1624150799@hbaofic.org
SUMMARY:NAHB Spring Leadership Meetings
DESCRIPTION:
URL:https://hbaofic.org/calendar/nahb-spring-leadership-meetings/
LOCATION:Virtual
END:VEVENT
BEGIN:VEVENT
DTSTART;TZID=America/Chicago:20210620T120000
DTEND;TZID=America/Chicago:20210620T170000
DTSTAMP:20260421T142428
CREATED:20210118T225436Z
LAST-MODIFIED:20210611T175647Z
UID:10001114-1624190400-1624208400@hbaofic.org
SUMMARY:Parade of Homes & Remodelers Parade
DESCRIPTION:https://iowacityhomes.thegazette.com/\nGet inspired by touring beautiful homes during the\n54th Annual Iowa City Area HBA Parade of Homes & 24th Remodelers Parade.  \nDates for the 2021 Parade of Homes are: \nJune 12 and 13\nJune 15 and 17\nJune 19 and 20\nThe Remodelers Parade is the SECOND WEEKEND\,\nJune 19 and 20. \nTimes are:\nSaturdays: 10:00 am – 5:00 pm\nSundays: Noon – 5:00 pm\nTuesday and Thursday: 5:30 – 8:30 pm\nThank You to Our 2021 Sponsors\nPresenting Co-Sponsors \n                                                                                                      \nBreakfast Sponsor & Parade App Sponsor \n \n            Virtual Tour Sponsor \n \nEquipment Sponsor \n \nLumber Sponsor \n                                                                                                                                                         \n Builders Excellence Awards Sponsor \n      \nRemodelers Parade Award Sponsor \n        \nThe Motto Award Sponsor \n \nPeople’s Choice Awards Sponsor  \n \n  Ticket Sponsor   \n \n  Happy Hour Sponsor \n \nGiveaway Sponsor\n  \n                           \nLego Parade of Homes Sponsor  \n    \nLego Parade Prizes Sponsor  \n    \n Water Sponsor \n \nVolunteer Coordinator \n   \nPromotional Partners \nThe Gazette\nCBS 2/FOX 28\nEaston Design\nKCRG\nKZIA\niHeart Media\nOnMedia\nTownsquare Media (KHAK)
URL:https://hbaofic.org/calendar/parade-of-homes-remodelers-parade-6/
LOCATION:IA
CATEGORIES:HBA Event
ORGANIZER;CN="Greater Iowa City Area Home Builders Association":MAILTO:eo@hbaofic.org
END:VEVENT
BEGIN:VEVENT
DTSTART;TZID=America/Chicago:20210624T103000
DTEND;TZID=America/Chicago:20210624T120000
DTSTAMP:20260421T142428
CREATED:20210119T160217Z
LAST-MODIFIED:20210608T183659Z
UID:10000872-1624530600-1624536000@hbaofic.org
SUMMARY:Vocational Training Council Annual Meeting
DESCRIPTION:The Vocational Training Council (VTC) Board of Directors meets the third Thursday of the month\, every three months. \nToday is the VTC’s Annual Meeting\, and a new Board of Directors will be elected. Below is the  proposed slate of officers. \nTim Ruth                                  President                                  McCreedy-Ruth Construction \nGT Karr                                    Vice-President                         Sueppel’s Siding & Remodeling \nAdam Hahn                              Past President                          Watts Group                             \nMarty Tunning                        Treasurer                                  RSM US \nAaron McGlynn                      Director                                    Cabinet Works \nAndy Martin                            Director                                    Martin Construction   \nJoe Greathouse                        Director                                    Kirkwood \nTony Frederick                        Director                                    Hart-Frederick Consultants \nMark Mitchell                          Director                                    Engineered Building Design \nTom Balmer                             Director                                    PSC Distribution \nCorey Ackerman                     Director                                    Ackerman Plumbing \nAndy Hodge                             Director                                    Hodge Construction \nKaryl Bohnsack                       Executive Officer/Secretary   HBA of Iowa City \nDennis Boelk                           Committee Member                Hodge Construction \nJason Hayes                             Committee Member                Skogman Realty \nLindsey Schluckebier             Committee Member                Iowa City Comm. School Dist. \nMelissa Kumle-Hammes        Committee Member                Kirkwood Workplace Learning Connection          \nBecky Weininger                    Committee Member                Kirkwood Workforce Initiatives Project Manager \nThe VTC assists and supports area schools in the operation of their vocational training programs. Initiatives include the Student-Built House Program\, Build My Future showcase\, career fairs\, job shadows and guest lecturing at ACE Academy classes. Contact any VTC member or the Iowa City Area HBA office to get involved.
URL:https://hbaofic.org/calendar/vocational-training-council-annual-meeting/
LOCATION:Virtual
CATEGORIES:HBA Event
ORGANIZER;CN="Greater Iowa City Area Home Builders Association":MAILTO:eo@hbaofic.org
END:VEVENT
BEGIN:VEVENT
DTSTART;TZID=America/Chicago:20210624T120000
DTEND;TZID=America/Chicago:20210624T130000
DTSTAMP:20260421T142428
CREATED:20210118T171354Z
LAST-MODIFIED:20210521T161806Z
UID:10001100-1624536000-1624539600@hbaofic.org
SUMMARY:Board of Directors Meeting
DESCRIPTION:The board of directors typically meets the 3rd Thursday of every month except August. \n 
URL:https://hbaofic.org/calendar/board-of-directors-meeting-54/
LOCATION:IA
ORGANIZER;CN="Greater Iowa City Area Home Builders Association":MAILTO:eo@hbaofic.org
END:VEVENT
BEGIN:VEVENT
DTSTART;TZID=America/Chicago:20210624T120000
DTEND;TZID=America/Chicago:20210624T130000
DTSTAMP:20260421T142428
CREATED:20210616T145432Z
LAST-MODIFIED:20210616T145539Z
UID:10001134-1624536000-1624539600@hbaofic.org
SUMMARY:Mental Health for Construction Industry Young Professionals
DESCRIPTION:Members aged 45 or younger are invited to attend this free National Association of Home Builders event series. Join the conversation about mental health for young professionals in the construction industry. Virtual one-hour event each Thursday\, June 10 – 24 via Zoom. Details below. \nEmail Karyl or Michelle to learn more about the Iowa City Area/Cedar Rapids HBAs Young Professionals Network for those aged 35 or younger just starting their careers or new to the industry. \nJoin Zoom Meeting\n \nMeeting ID: 818 8890 7095\nPasscode: 341428\nOne tap mobile\n+13017158592\,\,81888907095#\,\,\,\,*341428# US (Washington DC)\n+13126266799\,\,81888907095#\,\,\,\,*341428# US (Chicago) \nDial by your location\n+1 301 715 8592 US (Washington DC)\n+1 312 626 6799 US (Chicago)\n+1 646 558 8656 US (New York)\n+1 253 215 8782 US (Tacoma)\n+1 346 248 7799 US (Houston)\n+1 669 900 6833 US (San Jose)\nMeeting ID: 818 8890 7095\nPasscode: 341428\nFind your local number:  \nJoin by SIP\n81888907095@zoomcrc.com \nJoin by H.323\n162.255.37.11 (US West)\n162.255.36.11 (US East)\n115.114.131.7 (India Mumbai)\n115.114.115.7 (India Hyderabad)\n213.19.144.110 (Amsterdam Netherlands)\n213.244.140.110 (Germany)\n103.122.166.55 (Australia Sydney)\n103.122.167.55 (Australia Melbourne)\n149.137.40.110 (Singapore)\n64.211.144.160 (Brazil)\n69.174.57.160 (Canada Toronto)\n65.39.152.160 (Canada Vancouver)\n207.226.132.110 (Japan Tokyo)\n149.137.24.110 (Japan Osaka)\nMeeting ID: 818 8890 7095\nPasscode: 341428 \n 
URL:https://hbaofic.org/calendar/mental-health-for-construction-industry-young-professionals-3/
LOCATION:Virtual
END:VEVENT
END:VCALENDAR