BEGIN:VCALENDAR
VERSION:2.0
PRODID:-//The Greater Iowa City Home Builders Association  - ECPv6.11.2//NONSGML v1.0//EN
CALSCALE:GREGORIAN
METHOD:PUBLISH
X-ORIGINAL-URL:https://hbaofic.org
X-WR-CALDESC:Events for The Greater Iowa City Home Builders Association 
REFRESH-INTERVAL;VALUE=DURATION:PT1H
X-Robots-Tag:noindex
X-PUBLISHED-TTL:PT1H
BEGIN:VTIMEZONE
TZID:America/Chicago
BEGIN:DAYLIGHT
TZOFFSETFROM:-0600
TZOFFSETTO:-0500
TZNAME:CDT
DTSTART:20210314T080000
END:DAYLIGHT
BEGIN:STANDARD
TZOFFSETFROM:-0500
TZOFFSETTO:-0600
TZNAME:CST
DTSTART:20211107T070000
END:STANDARD
END:VTIMEZONE
BEGIN:VEVENT
DTSTART;TZID=America/Chicago:20210708T150000
DTEND;TZID=America/Chicago:20210708T160000
DTSTAMP:20260421T142501
CREATED:20210627T173150Z
LAST-MODIFIED:20210627T181500Z
UID:10001136-1625756400-1625760000@hbaofic.org
SUMMARY:NAHB Remodelers Shop Talk: Addressing Supply Chain Challenges Through Alternative Building Solutions
DESCRIPTION:Join veteran Remodeler Vince Butler\, CAPS\, GMB\, GMR and Shawn Callahan of Metwood Building Solutions. The peer-to-peer discussion will center on strategies for navigating lumber and supply chain issues through alternative building products that work in conjunction with wood\, concrete and other building systems.  \nClick here to join or call (206) 691-8827. Use code 239229706. \n 
URL:https://hbaofic.org/calendar/nahb-remodelers-shop-talk-addressing-supply-chain-challenges-through-alternative-building-solutions/
LOCATION:Virtual
CATEGORIES:HBA Event
END:VEVENT
END:VCALENDAR