BEGIN:VCALENDAR
VERSION:2.0
PRODID:-//The Greater Iowa City Home Builders Association  - ECPv6.11.2//NONSGML v1.0//EN
CALSCALE:GREGORIAN
METHOD:PUBLISH
X-ORIGINAL-URL:https://hbaofic.org
X-WR-CALDESC:Events for The Greater Iowa City Home Builders Association 
REFRESH-INTERVAL;VALUE=DURATION:PT1H
X-Robots-Tag:noindex
X-PUBLISHED-TTL:PT1H
BEGIN:VTIMEZONE
TZID:America/Chicago
BEGIN:DAYLIGHT
TZOFFSETFROM:-0600
TZOFFSETTO:-0500
TZNAME:CDT
DTSTART:20210314T080000
END:DAYLIGHT
BEGIN:STANDARD
TZOFFSETFROM:-0500
TZOFFSETTO:-0600
TZNAME:CST
DTSTART:20211107T070000
END:STANDARD
END:VTIMEZONE
BEGIN:VEVENT
DTSTART;TZID=America/Chicago:20210914T120000
DTEND;TZID=America/Chicago:20210914T130000
DTSTAMP:20260421T084656
CREATED:20210831T190122Z
LAST-MODIFIED:20210901T200945Z
UID:10001144-1631620800-1631624400@hbaofic.org
SUMMARY:City of Iowa City Stormwater Pollution Prevention Plan Website Lunch N Learn
DESCRIPTION:Chad Arp\, Stormwater Specialist with the City of Iowa City\, will take us through how to navigate and submit a plan on the city’s new Stormwater Pollution Prevention Plan (SWPPP) interactive construction-site runoff website. Learn the latest process for conducting\, documenting and distributing weekly SWPPP inspection reports and corrective actions. Good information no matter what your role is in the building industry. \nArp is an Iowa native with a B.S. in Environmental Science and more than 10 years of stormwater experience. He began his stormwater career as a SWPPP Inspector at Soil-Tek and has worked for the City of Cedar Rapids as an Environmental Specialist and as an Environmental Manager for the City of Moline.  \nRSVP by Friday\, Sept. 10 to karyl@hbaofic.org. \nSPONSORED BY \nEvent Sponsor \n \n  \nDessert Sponsor \n \n  \n 
URL:https://hbaofic.org/calendar/city-of-iowa-city-stormwater-pollution-prevention-plan-lunch-n-learn/
LOCATION:Eastside Recycling Center\, 2401 Scott Blvd SE\, Iowa City\, IA\, United States
CATEGORIES:HBA Event
ORGANIZER;CN="Greater Iowa City Area Home Builders Association":MAILTO:eo@hbaofic.org
END:VEVENT
BEGIN:VEVENT
DTSTART;VALUE=DATE:20210916
DTEND;VALUE=DATE:20210918
DTSTAMP:20260421T084656
CREATED:20210805T203939Z
LAST-MODIFIED:20210805T210108Z
UID:10001140-1631754000-1631840399@hbaofic.org
SUMMARY:Future Ready Iowa Summit
DESCRIPTION:The 2021 statewide Future Ready Iowa Summit is focused on “Transforming Education for the Workforce\,” This event is presented by the Iowa Governor’s STEM Advisory Council and aims to connect Iowa educators and employers to expand work-based learning and computer science as critical aspects of STEM education. The agenda includes speakers\, breakout sessions and other events. Click here to learn more and register. \n  \n                                             
URL:https://hbaofic.org/calendar/future-ready-iowa-summit/
LOCATION:Iowa Events Center\, 730 3rd St\, Des Moines\, IA\, 50309\, United States
CATEGORIES:HBA Event
END:VEVENT
BEGIN:VEVENT
DTSTART;TZID=America/Chicago:20210916T103000
DTEND;TZID=America/Chicago:20210916T113000
DTSTAMP:20260421T084656
CREATED:20210119T160800Z
LAST-MODIFIED:20210824T182927Z
UID:10000873-1631788200-1631791800@hbaofic.org
SUMMARY:Vocational Training Council Board Meeting
DESCRIPTION:The Vocational Training Council (VTC) Board of Directors meets the third Thursday of the month\, every three months. \nThe VTC assists and supports area schools in the operation of their vocational training programs. Initiatives include the Student-Built House Program\, Build My Future showcase\, career fairs\, job shadows and guest lecturing at ACE Academy classes. Contact VTC President Tim Ruth of McCreedy-Ruth Construction for more information. \n  \n            \nThe 2021 Vocational Training Council Board of Directors. 
URL:https://hbaofic.org/calendar/vocational-training-council-meeting-6/
LOCATION:Iowa City Area Association of Realtors\, 847 Quarry Road\, Suite #110\, Coralville\, IA\, United States
CATEGORIES:HBA Event
ORGANIZER;CN="Greater Iowa City Area Home Builders Association":MAILTO:eo@hbaofic.org
END:VEVENT
BEGIN:VEVENT
DTSTART;TZID=America/Chicago:20210916T120000
DTEND;TZID=America/Chicago:20210916T130000
DTSTAMP:20260421T084656
CREATED:20210118T171653Z
LAST-MODIFIED:20210824T183005Z
UID:10001103-1631793600-1631797200@hbaofic.org
SUMMARY:Board of Directors Meeting
DESCRIPTION:The board of directors typically meets the 3rd Thursday of every month except August. \n 
URL:https://hbaofic.org/calendar/board-of-directors-meeting-57/
LOCATION:Iowa City Area Association of Realtors\, 847 Quarry Road\, Suite #110\, Coralville\, IA\, United States
CATEGORIES:HBA Event
ORGANIZER;CN="Greater Iowa City Area Home Builders Association":MAILTO:eo@hbaofic.org
END:VEVENT
BEGIN:VEVENT
DTSTART;TZID=America/Chicago:20210916T133000
DTEND;TZID=America/Chicago:20210916T153000
DTSTAMP:20260421T084656
CREATED:20210824T184020Z
LAST-MODIFIED:20210824T184855Z
UID:10001143-1631799000-1631806200@hbaofic.org
SUMMARY:One in 21 Membership Recruitment Training with NAHB
DESCRIPTION:NAHB to Help with Fall Membership Drive! We Need you!\nDonna Franza with NAHB will be in Iowa City to train HBA members from across the state of Iowa on recruiting new members. \nSnacks will be provided by NAHB and we’ll wrap up training with a social at Backpocket Brewing courtesy of  CBI Bank & Trust.\nCall days will be September 22 – 24 with fabulous “MemBeerShip” prizes going to the winners!\n \nEmail Karyl today to RSVP!
URL:https://hbaofic.org/calendar/one-in-21-membership-recruitment-training-with-nahb/
LOCATION:Iowa City Area Association of Realtors\, 847 Quarry Road\, Suite #110\, Coralville\, IA\, United States
CATEGORIES:HBA Event
ORGANIZER;CN="Greater Iowa City Area Home Builders Association":MAILTO:eo@hbaofic.org
END:VEVENT
END:VCALENDAR