BEGIN:VCALENDAR
VERSION:2.0
PRODID:-//The Greater Iowa City Home Builders Association  - ECPv6.11.2//NONSGML v1.0//EN
CALSCALE:GREGORIAN
METHOD:PUBLISH
X-WR-CALNAME:The Greater Iowa City Home Builders Association 
X-ORIGINAL-URL:https://hbaofic.org
X-WR-CALDESC:Events for The Greater Iowa City Home Builders Association 
REFRESH-INTERVAL;VALUE=DURATION:PT1H
X-Robots-Tag:noindex
X-PUBLISHED-TTL:PT1H
BEGIN:VTIMEZONE
TZID:America/Chicago
BEGIN:DAYLIGHT
TZOFFSETFROM:-0600
TZOFFSETTO:-0500
TZNAME:CDT
DTSTART:20240310T080000
END:DAYLIGHT
BEGIN:STANDARD
TZOFFSETFROM:-0500
TZOFFSETTO:-0600
TZNAME:CST
DTSTART:20241103T070000
END:STANDARD
END:VTIMEZONE
BEGIN:VEVENT
DTSTART;VALUE=DATE:20240225
DTEND;VALUE=DATE:20240302
DTSTAMP:20260424T041400
CREATED:20231101T152454Z
LAST-MODIFIED:20231101T152454Z
UID:10001282-1708822800-1709254799@hbaofic.org
SUMMARY:International Builders Show (IBS)
DESCRIPTION:Don’t miss out on education sessions that engage and excite.  Take your industry knowledge to new heights at IBS 2024.   \nMix in a little fun with your industry peers at IBS networking events. \n1\,300+ companies will be exhibiting at IBS 2024. \nJoin Us!
URL:https://hbaofic.org/calendar/international-builders-show-ibs/
LOCATION:Las Vegas Convention Center\, 3105 Paradise Road\, Las Vegas\, NV\, 89109
END:VEVENT
END:VCALENDAR