BEGIN:VCALENDAR
VERSION:2.0
PRODID:-//The Greater Iowa City Home Builders Association  - ECPv6.11.2//NONSGML v1.0//EN
CALSCALE:GREGORIAN
METHOD:PUBLISH
X-WR-CALNAME:The Greater Iowa City Home Builders Association 
X-ORIGINAL-URL:https://hbaofic.org
X-WR-CALDESC:Events for The Greater Iowa City Home Builders Association 
REFRESH-INTERVAL;VALUE=DURATION:PT1H
X-Robots-Tag:noindex
X-PUBLISHED-TTL:PT1H
BEGIN:VTIMEZONE
TZID:America/Chicago
BEGIN:DAYLIGHT
TZOFFSETFROM:-0600
TZOFFSETTO:-0500
TZNAME:CDT
DTSTART:20240310T080000
END:DAYLIGHT
BEGIN:STANDARD
TZOFFSETFROM:-0500
TZOFFSETTO:-0600
TZNAME:CST
DTSTART:20241103T070000
END:STANDARD
END:VTIMEZONE
BEGIN:VEVENT
DTSTART;VALUE=DATE:20240426
DTEND;VALUE=DATE:20240430
DTSTAMP:20260424T061911
CREATED:20231101T155059Z
LAST-MODIFIED:20231101T155059Z
UID:10001292-1714093200-1714352399@hbaofic.org
SUMMARY:Home and Garden Show
DESCRIPTION:
URL:https://hbaofic.org/calendar/home-and-garden-show/
LOCATION:Johnson County Fairgrounds\, 4261 Oak Crest Hill Rd SE\, Iowa City\, IA\, 52246\, United States
CATEGORIES:Exhibitor,HBA Event
ORGANIZER;CN="HBA of IC":MAILTO:eo@hbaofic.org
END:VEVENT
BEGIN:VEVENT
DTSTART;VALUE=DATE:20240430
DTEND;VALUE=DATE:20240502
DTSTAMP:20260424T061911
CREATED:20231101T160329Z
LAST-MODIFIED:20240311T184529Z
UID:10001293-1714438800-1714525199@hbaofic.org
SUMMARY:Build My Future
DESCRIPTION:High School Seniors are encouraged to attend the Job Fair! \nAbout Build My Future: \nBuild My Future is a national workforce development initiative started in Springfield\, Mo to highlight careers through hands-on training provided by local employers\, educators and skilled trades associations. \n2019 was the 1st Annual Build My Future-ACE event in the ICR region.  Through this event\, 18 local companies\, Kirkwood faculty and Skilled Trades Associations engaged 153 middle school students from 10 schools in hands-on training in a wide range of activities including: roofing\, siding\, designing & building a tiny house\, framing\, hanging & mudding drywall\, plumbing\, hanging doors\, GPS surveying\, excavation and underground utilities\, job site supervision\, tying rebar\, old methods vs. new technologies\, brick laying\, and much more.   \nThrough these experiences the students not only learn about the craft behind a wide range of trades\, they also engage in conversations with experts about what kind of training is needed\, potential wages\, working conditions\, a typical days work and opportunities within the industry.   \nLearn more about Build My Future at www.explore-ace.org \n  \nEmail eo@hbaofic.org
URL:https://hbaofic.org/calendar/build-my-future-3/
LOCATION:Hawkeye Downs – Cedar Rapids\, 4601 6th St SW\, Cedar Rapids\, IA\, 52404
CATEGORIES:Exhibitor,HBA Event
ORGANIZER;CN="Build My Future - ACE":MAILTO:karyl@hbaofic.org
END:VEVENT
BEGIN:VEVENT
DTSTART;TZID=America/Chicago:20240501T160000
DTEND;TZID=America/Chicago:20240501T170000
DTSTAMP:20260424T061911
CREATED:20231101T160503Z
LAST-MODIFIED:20231101T160503Z
UID:10001294-1714579200-1714582800@hbaofic.org
SUMMARY:Professional Women in Building (PWB) Wednesday Brew
DESCRIPTION:
URL:https://hbaofic.org/calendar/professional-women-in-building-pwb-wednesday-brew-5/
LOCATION:To Be Determined
ORGANIZER;CN="HBA of IC":MAILTO:eo@hbaofic.org
END:VEVENT
END:VCALENDAR