BEGIN:VCALENDAR
VERSION:2.0
PRODID:-//The Greater Iowa City Home Builders Association  - ECPv6.11.2//NONSGML v1.0//EN
CALSCALE:GREGORIAN
METHOD:PUBLISH
X-WR-CALNAME:The Greater Iowa City Home Builders Association 
X-ORIGINAL-URL:https://hbaofic.org
X-WR-CALDESC:Events for The Greater Iowa City Home Builders Association 
REFRESH-INTERVAL;VALUE=DURATION:PT1H
X-Robots-Tag:noindex
X-PUBLISHED-TTL:PT1H
BEGIN:VTIMEZONE
TZID:America/Chicago
BEGIN:DAYLIGHT
TZOFFSETFROM:-0600
TZOFFSETTO:-0500
TZNAME:CDT
DTSTART:20240310T080000
END:DAYLIGHT
BEGIN:STANDARD
TZOFFSETFROM:-0500
TZOFFSETTO:-0600
TZNAME:CST
DTSTART:20241103T070000
END:STANDARD
END:VTIMEZONE
BEGIN:VEVENT
DTSTART;TZID=America/Chicago:20240514T073000
DTEND;TZID=America/Chicago:20240514T083000
DTSTAMP:20260424T062008
CREATED:20231101T160840Z
LAST-MODIFIED:20231101T160840Z
UID:10001296-1715671800-1715675400@hbaofic.org
SUMMARY:Legislative Committee Meeting
DESCRIPTION:
URL:https://hbaofic.org/calendar/legislative-committee-meeting-22/
LOCATION:HBA Office & Zoom\, 11 S Gilbert St\, Iowa City\, IA\, 52240\, United States
ORGANIZER;CN="HBA of IC":MAILTO:eo@hbaofic.org
END:VEVENT
BEGIN:VEVENT
DTSTART;TZID=America/Chicago:20240514T120000
DTEND;TZID=America/Chicago:20240514T130000
DTSTAMP:20260424T062008
CREATED:20231101T160949Z
LAST-MODIFIED:20231101T160949Z
UID:10001297-1715688000-1715691600@hbaofic.org
SUMMARY:Vocational Training Council (VTC) Meeting
DESCRIPTION:
URL:https://hbaofic.org/calendar/vocational-training-council-vtc-meeting-2/
LOCATION:HBA Office & Zoom\, 11 S Gilbert St\, Iowa City\, IA\, 52240\, United States
ORGANIZER;CN="HBA of IC":MAILTO:eo@hbaofic.org
END:VEVENT
BEGIN:VEVENT
DTSTART;TZID=America/Chicago:20240516T120000
DTEND;TZID=America/Chicago:20240516T130000
DTSTAMP:20260424T062008
CREATED:20231101T161118Z
LAST-MODIFIED:20231101T161118Z
UID:10001298-1715860800-1715864400@hbaofic.org
SUMMARY:Board of Directors Meeting
DESCRIPTION:
URL:https://hbaofic.org/calendar/board-of-directors-meeting-77/
LOCATION:HBA Office & Zoom\, 11 S Gilbert St\, Iowa City\, IA\, 52240\, United States
ORGANIZER;CN="HBA of IC":MAILTO:eo@hbaofic.org
END:VEVENT
END:VCALENDAR