BEGIN:VCALENDAR
VERSION:2.0
PRODID:-//The Greater Iowa City Home Builders Association  - ECPv6.11.2//NONSGML v1.0//EN
CALSCALE:GREGORIAN
METHOD:PUBLISH
X-ORIGINAL-URL:https://hbaofic.org
X-WR-CALDESC:Events for The Greater Iowa City Home Builders Association 
REFRESH-INTERVAL;VALUE=DURATION:PT1H
X-Robots-Tag:noindex
X-PUBLISHED-TTL:PT1H
BEGIN:VTIMEZONE
TZID:America/Chicago
BEGIN:DAYLIGHT
TZOFFSETFROM:-0600
TZOFFSETTO:-0500
TZNAME:CDT
DTSTART:20240310T080000
END:DAYLIGHT
BEGIN:STANDARD
TZOFFSETFROM:-0500
TZOFFSETTO:-0600
TZNAME:CST
DTSTART:20241103T070000
END:STANDARD
END:VTIMEZONE
BEGIN:VEVENT
DTSTART;TZID=America/Chicago:20240521T113000
DTEND;TZID=America/Chicago:20240521T133000
DTSTAMP:20260424T015527
CREATED:20240507T170206Z
LAST-MODIFIED:20240507T171238Z
UID:10001331-1716291000-1716298200@hbaofic.org
SUMMARY:Remodelers Lunch and Learn
DESCRIPTION:Have you wondered about the hype around bidet toilet seats? \nCome learn all about them\, network\, and enjoy a free lunch! \n  \n·What are the benefits and drawbacks of a bidet/cleansing seat? \n·Can I put one on an existing toilet? \n·What preparation do I need to do for installation? \n·Do they really save toilet paper? \n·Do I need a hot water line by my toilet? \n·Check out different brands’ features and benefits. \n·Try one in person if you’d like – or just see how it works! \n  \nWhere: Studio H2O\, 2020 S Riverside Drive\, Iowa City\, IA 52246 \nWhen: Tuesday\, May 21st\, 2024\, 11:45am-1:30pm \nCost: FREE to HBA Members\, NON-MEMBERS $15 \nRSVP: NLT Friday May 17\, 2024\, HERE \n  \n**Bring your business cards to pass out to fellow attendees!
URL:https://hbaofic.org/calendar/remodelers-lunch-and-learn/
LOCATION:Studio H2O Kitchen & Bath Showroom\, 2020 S Riverside Drive\, Iowa City\, IA\, 52240\, United States
ORGANIZER;CN="Greater Iowa City Area Home Builders Association":MAILTO:eo@hbaofic.org
END:VEVENT
END:VCALENDAR