BEGIN:VCALENDAR
VERSION:2.0
PRODID:-//The Greater Iowa City Home Builders Association  - ECPv6.11.2//NONSGML v1.0//EN
CALSCALE:GREGORIAN
METHOD:PUBLISH
X-WR-CALNAME:The Greater Iowa City Home Builders Association 
X-ORIGINAL-URL:https://hbaofic.org
X-WR-CALDESC:Events for The Greater Iowa City Home Builders Association 
REFRESH-INTERVAL;VALUE=DURATION:PT1H
X-Robots-Tag:noindex
X-PUBLISHED-TTL:PT1H
BEGIN:VTIMEZONE
TZID:America/Chicago
BEGIN:DAYLIGHT
TZOFFSETFROM:-0600
TZOFFSETTO:-0500
TZNAME:CDT
DTSTART:20250309T080000
END:DAYLIGHT
BEGIN:STANDARD
TZOFFSETFROM:-0500
TZOFFSETTO:-0600
TZNAME:CST
DTSTART:20251102T070000
END:STANDARD
END:VTIMEZONE
BEGIN:VEVENT
DTSTART;TZID=America/Chicago:20250311T160000
DTEND;TZID=America/Chicago:20250311T180000
DTSTAMP:20260423T031309
CREATED:20250205T161218Z
LAST-MODIFIED:20250222T174420Z
UID:10001354-1741708800-1741716000@hbaofic.org
SUMMARY:Build Johnson County: City/ County Update Meeting
DESCRIPTION:  \nJoin us for the Build Johnson County: City/County Update Meeting\, hosted in partnership with The Greater IC at Big Grove Iowa City. This informative event will feature city and county officials sharing updates on upcoming developments and key projects shaping communities across Johnson County. \nGain valuable insights into growth initiatives\, infrastructure plans\, and economic development strategies directly from local leaders. After the presentations\, stick around for a casual happy hour—a perfect opportunity to network with fellow attendees\, community members\, and officials. \nDon’t miss this chance to connect\, learn\, and engage with the future of Johnson County!
URL:https://hbaofic.org/calendar/build-johnson-county-city-county-update-meeting/
LOCATION:Big Grove Brewery and Tap Room\, 1225 S. Gilbert St.\, Iowa City\, Iowa
ATTACH;FMTTYPE=image/png:https://hbaofic.org/wp-content/uploads/2025/02/Events-GMM-March-CityCounty-1.png
ORGANIZER;CN="Greater Iowa City Area Home Builders Association":MAILTO:eo@hbaofic.org
END:VEVENT
END:VCALENDAR