BEGIN:VCALENDAR
VERSION:2.0
PRODID:-//The Greater Iowa City Home Builders Association  - ECPv6.11.2//NONSGML v1.0//EN
CALSCALE:GREGORIAN
METHOD:PUBLISH
X-ORIGINAL-URL:https://hbaofic.org
X-WR-CALDESC:Events for The Greater Iowa City Home Builders Association 
REFRESH-INTERVAL;VALUE=DURATION:PT1H
X-Robots-Tag:noindex
X-PUBLISHED-TTL:PT1H
BEGIN:VTIMEZONE
TZID:America/Chicago
BEGIN:DAYLIGHT
TZOFFSETFROM:-0600
TZOFFSETTO:-0500
TZNAME:CDT
DTSTART:20250309T080000
END:DAYLIGHT
BEGIN:STANDARD
TZOFFSETFROM:-0500
TZOFFSETTO:-0600
TZNAME:CST
DTSTART:20251102T070000
END:STANDARD
END:VTIMEZONE
BEGIN:VEVENT
DTSTART;TZID=America/Chicago:20250708T090000
DTEND;TZID=America/Chicago:20250708T170000
DTSTAMP:20260422T182532
CREATED:20250609T163211Z
LAST-MODIFIED:20250609T163422Z
UID:10001366-1751965200-1751994000@hbaofic.org
SUMMARY:Marketing and Communicating with the Aging in Place Client (CAPS I) - Live Online 2025 - July 8
DESCRIPTION:July 8 | 9:00 a.m. – 5:00 p.m. ET \nMillions of Americans are living longer and more active lives. Because they are embracing newly found and changing lifestyles\, they need to revitalize their home environment. Identifying this burgeoning opportunity and then developing the skills to interact with this market can help you grow your business dramatically. \nThis course equips participants with the knowledge and tools to effectively market and sell services to the aging-in-place (AIP) market. \nContact elearninghelp@nahb.org with any questions. \nhttps://storefront.nahb.org/Catalogs/NAHB/NAHB-Education/40540 \n 
URL:https://hbaofic.org/calendar/marketing-and-communicating-with-the-aging-in-place-client-caps-i-live-online-2025-july-8/
LOCATION:IA
CATEGORIES:Education,HBA Event
ATTACH;FMTTYPE=image/jpeg:https://hbaofic.org/wp-content/uploads/2025/03/RemodelersLogo2016.jpg
END:VEVENT
END:VCALENDAR