BEGIN:VCALENDAR
VERSION:2.0
PRODID:-//The Greater Iowa City Home Builders Association  - ECPv6.11.2//NONSGML v1.0//EN
CALSCALE:GREGORIAN
METHOD:PUBLISH
X-ORIGINAL-URL:https://hbaofic.org
X-WR-CALDESC:Events for The Greater Iowa City Home Builders Association 
REFRESH-INTERVAL;VALUE=DURATION:PT1H
X-Robots-Tag:noindex
X-PUBLISHED-TTL:PT1H
BEGIN:VTIMEZONE
TZID:America/Chicago
BEGIN:DAYLIGHT
TZOFFSETFROM:-0600
TZOFFSETTO:-0500
TZNAME:CDT
DTSTART:20250309T080000
END:DAYLIGHT
BEGIN:STANDARD
TZOFFSETFROM:-0500
TZOFFSETTO:-0600
TZNAME:CST
DTSTART:20251102T070000
END:STANDARD
END:VTIMEZONE
BEGIN:VEVENT
DTSTART;TZID=America/Chicago:20250716T130000
DTEND;TZID=America/Chicago:20250716T140000
DTSTAMP:20260422T182419
CREATED:20250711T174628Z
LAST-MODIFIED:20250711T174628Z
UID:10001372-1752670800-1752674400@hbaofic.org
SUMMARY:Building for All Ages: Age-Friendly Housing and AARP’s HomeFit™ Solutions for Lifelong Living
DESCRIPTION:This dynamic webinar is tailored for home building professionals\, designers\, and community planners interested in creating housing that supports residents throughout all stages of life. Discover why age-friendly design is essential\, what it takes to achieve it\, and how thoughtful housing can promote independence\, safety\, and comfort across generations. Featuring Rodney Harrell\, Vice President\, Family\, Home and Community (FHC)\, AARP\, the session explores practical\, room-by-room solutions rooted in universal design principles—tools that help people stay in their homes as they age. The session will also draw from best practices and AARP’s HomeFit™ initiative\, offering insights you can apply in the field. This session provides actionable guidance to meet the evolving needs of today’s and tomorrow’s residents. \n  \nRegister: Here \n 
URL:https://hbaofic.org/calendar/building-for-all-ages-age-friendly-housing-and-aarps-homefit-solutions-for-lifelong-living/
LOCATION:IA
ATTACH;FMTTYPE=image/jpeg:https://hbaofic.org/wp-content/uploads/2025/03/RemodelersLogo2016.jpg
END:VEVENT
BEGIN:VEVENT
DTSTART;TZID=America/Chicago:20250718T080000
DTEND;TZID=America/Chicago:20250718T160000
DTSTAMP:20260422T182419
CREATED:20250128T165305Z
LAST-MODIFIED:20250708T200114Z
UID:10001352-1752825600-1752854400@hbaofic.org
SUMMARY:Nail Drivers Open- SOLD OUT!
DESCRIPTION:Event Agenda\nSchedule\n\n\n\n\nCheck-In for Hole Sponsors\n07/18/2025 – 7:00 AM\n\n\nCheck-In for Golfers\n07/18/2025 – 8:00 AM\n\n\nShotgun Start\n07/18/2025 – 9:00 AM\n\n\nBoxed Lunches – Sponsored by Lowes\, McGrath Toyota of Iowa City\, and Urban Acres: The Bails Team\n07/18/2025 – 11:30 AM\n\n\nCheck-In for Bags Players\n07/18/2025 – 1:00 PM\n\n\nBags Tournament Starts\n07/18/2025 – 1:30 PM\n\n\nDinner & Awards\n07/18/2025 – 4:00 PM
URL:https://hbaofic.org/calendar/nail-drivers-open-bags-tournament/
LOCATION:Saddleback Ridge Golf Course\, 4646 180th St NE\, Solon\, IA\, 52333\, United States
ATTACH;FMTTYPE=image/jpeg:https://hbaofic.org/wp-content/uploads/2025/01/4-1.jpg
END:VEVENT
BEGIN:VEVENT
DTSTART;TZID=America/Chicago:20250718T130000
DTEND;TZID=America/Chicago:20250718T170000
DTSTAMP:20260422T182419
CREATED:20250512T145321Z
LAST-MODIFIED:20250514T180505Z
UID:10001360-1752843600-1752858000@hbaofic.org
SUMMARY:Nailed It! Bags Tournament
DESCRIPTION:🎯 Bags Tournament – July 18th\nJoin the fun during our annual Golf Outing at Saddleback Golf Course with a friendly Bags Tournament happening at the same time! \nGrab a partner and toss some bags in the sun. It’s a great way to connect\, compete\, and enjoy the day. \n🕒 Date: July 18th Check-In 12:30\, Start: 1:00 📍 Location: Saddleback Golf Course🎁 Prizes and refreshments provided! \nSign Up Here: https://nail-drivers-open-1735.perfectgolfevent.com/ \nThis event is proudly sponsored by Thermal Shop — come out and support a great local business while enjoying the festivities!
URL:https://hbaofic.org/calendar/nailed-it-bags-tournament/
LOCATION:Saddleback Ridge Golf Course\, 4646 180th St NE\, Solon\, IA\, 52333\, United States
ATTACH;FMTTYPE=image/jpeg:https://hbaofic.org/wp-content/uploads/2025/05/the-2nd-annual.jpg
ORGANIZER;CN="Greater Iowa City Area Home Builders Association":MAILTO:eo@hbaofic.org
END:VEVENT
END:VCALENDAR