BEGIN:VCALENDAR
VERSION:2.0
PRODID:-//The Greater Iowa City Home Builders Association  - ECPv6.11.2//NONSGML v1.0//EN
CALSCALE:GREGORIAN
METHOD:PUBLISH
X-ORIGINAL-URL:https://hbaofic.org
X-WR-CALDESC:Events for The Greater Iowa City Home Builders Association 
REFRESH-INTERVAL;VALUE=DURATION:PT1H
X-Robots-Tag:noindex
X-PUBLISHED-TTL:PT1H
BEGIN:VTIMEZONE
TZID:America/Chicago
BEGIN:DAYLIGHT
TZOFFSETFROM:-0600
TZOFFSETTO:-0500
TZNAME:CDT
DTSTART:20250309T080000
END:DAYLIGHT
BEGIN:STANDARD
TZOFFSETFROM:-0500
TZOFFSETTO:-0600
TZNAME:CST
DTSTART:20251102T070000
END:STANDARD
END:VTIMEZONE
BEGIN:VEVENT
DTSTART;TZID=America/Chicago:20250904T120000
DTEND;TZID=America/Chicago:20250904T150000
DTSTAMP:20260422T030343
CREATED:20250725T163759Z
LAST-MODIFIED:20250725T174657Z
UID:10001374-1756987200-1756998000@hbaofic.org
SUMMARY:Live Online Course: How to Craft a Winning Digital Marketing Strategy - Sept. 4
DESCRIPTION:This course focuses on building a strong marketing foundation (website\, branding and content)\, and how to use marketing strategy and tactics to engage potential home buyers and turn them into leads. \nRegister: Here
URL:https://hbaofic.org/calendar/live-online-course-how-to-craft-a-winning-digital-marketing-strategy-sept-4/
LOCATION:IA
CATEGORIES:Education
ATTACH;FMTTYPE=image/jpeg:https://hbaofic.org/wp-content/uploads/2025/07/nahbnow-email-1600x900-1.jpg
END:VEVENT
BEGIN:VEVENT
DTSTART;TZID=America/Chicago:20250905T090000
DTEND;TZID=America/Chicago:20250905T140000
DTSTAMP:20260422T030343
CREATED:20250205T161600Z
LAST-MODIFIED:20250729T145946Z
UID:10001355-1757062800-1757080800@hbaofic.org
SUMMARY:Clay Sporting Shoot
DESCRIPTION:Events Committee (Website) by IC Area HBA \nRegister Here:\nhttps://lp.constantcontactpages.com/ev/reg/rtv6k6t \n  \n 
URL:https://hbaofic.org/calendar/clay-sporting-shoot/
LOCATION:Highland Hideaway Hunting\, 3127 160th St\, Riverside\, IA\, 52327\, United States
ATTACH;FMTTYPE=image/jpeg:https://hbaofic.org/wp-content/uploads/2025/01/3-1.jpg
ORGANIZER;CN="Greater Iowa City Area Home Builders Association":MAILTO:eo@hbaofic.org
END:VEVENT
END:VCALENDAR