BEGIN:VCALENDAR
VERSION:2.0
PRODID:-//The Greater Iowa City Home Builders Association  - ECPv6.11.2//NONSGML v1.0//EN
CALSCALE:GREGORIAN
METHOD:PUBLISH
X-ORIGINAL-URL:https://hbaofic.org
X-WR-CALDESC:Events for The Greater Iowa City Home Builders Association 
REFRESH-INTERVAL;VALUE=DURATION:PT1H
X-Robots-Tag:noindex
X-PUBLISHED-TTL:PT1H
BEGIN:VTIMEZONE
TZID:America/Chicago
BEGIN:DAYLIGHT
TZOFFSETFROM:-0600
TZOFFSETTO:-0500
TZNAME:CDT
DTSTART:20250309T080000
END:DAYLIGHT
BEGIN:STANDARD
TZOFFSETFROM:-0500
TZOFFSETTO:-0600
TZNAME:CST
DTSTART:20251102T070000
END:STANDARD
END:VTIMEZONE
BEGIN:VEVENT
DTSTART;TZID=America/Chicago:20250923T173000
DTEND;TZID=America/Chicago:20250923T193000
DTSTAMP:20260421T193719
CREATED:20250205T161855Z
LAST-MODIFIED:20250722T175718Z
UID:10001356-1758648600-1758655800@hbaofic.org
SUMMARY:Kinnick Stadium Social
DESCRIPTION:Join us for a one-of-a-kind networking event overlooking the iconic Kinnick Stadium! Mingle with fellow HBA members\, industry professionals\, and community leaders while enjoying appetizers\, drinks\, and a stunning view from the stadium press box. \nThis casual after-hours event is a great opportunity to connect\, collaborate\, and celebrate the kick-off to fall with fellow HBA Members. Whether you’re a longtime member or new to the HBA\, we’d love to see you there! \nRegister Here: \nhttps://lp.constantcontactpages.com/ev/reg/8cvuaz2 \nSponsored by MidAmerican Energy
URL:https://hbaofic.org/calendar/kinnick-stadium-social/
LOCATION:Kinnick Stadium\, 825 Stadium Dr.\, Iowa City\, IA\, 52240\, United States
ATTACH;FMTTYPE=image/jpeg:https://hbaofic.org/wp-content/uploads/2025/01/8.jpg
ORGANIZER;CN="Greater Iowa City Area Home Builders Association":MAILTO:eo@hbaofic.org
END:VEVENT
BEGIN:VEVENT
DTSTART;TZID=America/Chicago:20250925T113000
DTEND;TZID=America/Chicago:20250925T130000
DTSTAMP:20260421T193719
CREATED:20250625T171455Z
LAST-MODIFIED:20250908T183224Z
UID:10001371-1758799800-1758805200@hbaofic.org
SUMMARY:Lunch & Learn: Rock Your World: Set Goals That Actually Get Done
DESCRIPTION:Lunch & Learn by IC Area HBA
URL:https://hbaofic.org/calendar/lunch-learn-rock-your-world-set-goals-that-actually-get-done/
LOCATION:Hills Bank\, 590 W Forevergreen Rd\, North Liberty\, IA\, United States
CATEGORIES:Education,HBA Event
ATTACH;FMTTYPE=image/jpeg:https://hbaofic.org/wp-content/uploads/2025/06/Speaker-600-x-600-px.jpg
ORGANIZER;CN="Greater Iowa City Area Home Builders Association":MAILTO:eo@hbaofic.org
END:VEVENT
END:VCALENDAR