BEGIN:VCALENDAR
VERSION:2.0
PRODID:-//The Greater Iowa City Home Builders Association  - ECPv6.11.2//NONSGML v1.0//EN
CALSCALE:GREGORIAN
METHOD:PUBLISH
X-ORIGINAL-URL:https://hbaofic.org
X-WR-CALDESC:Events for The Greater Iowa City Home Builders Association 
REFRESH-INTERVAL;VALUE=DURATION:PT1H
X-Robots-Tag:noindex
X-PUBLISHED-TTL:PT1H
BEGIN:VTIMEZONE
TZID:America/Chicago
BEGIN:DAYLIGHT
TZOFFSETFROM:-0600
TZOFFSETTO:-0500
TZNAME:CDT
DTSTART:20250309T080000
END:DAYLIGHT
BEGIN:STANDARD
TZOFFSETFROM:-0500
TZOFFSETTO:-0600
TZNAME:CST
DTSTART:20251102T070000
END:STANDARD
END:VTIMEZONE
BEGIN:VEVENT
DTSTART;TZID=America/Chicago:20251014T120000
DTEND;TZID=America/Chicago:20251014T130000
DTSTAMP:20260421T174723
CREATED:20251006T133314Z
LAST-MODIFIED:20251006T133326Z
UID:10001379-1760443200-1760446800@hbaofic.org
SUMMARY:Shop Talk: Connections Not Content: How to Correctly Use AI to Strengthen Your Business
DESCRIPTION:Join moderator Vince Butler of Butler Brothers Corp.\, for a live discussion on how to use AI effectively. AI isn’t meant to be your spokesperson; it’s your most brilliant resource to generate and analyze innovation for building better relationships. Through four real-world examples\, discover how to use AI to create relationships and enhance connections that drive valuable sales and cultivate business. Don’t miss this valuable conversation on October 14 at 1 p.m. ET! This Shop Talk is sponsored by Hyphen Solutions. NOTE: This Shop Talk will be recorded for use on NAHB.org. By registering for this discussion\, you agree to participate.\nZoom Link: Here
URL:https://hbaofic.org/calendar/shop-talk-connections-not-content-how-to-correctly-use-ai-to-strengthen-your-business/
LOCATION:IA
ATTACH;FMTTYPE=image/jpeg:https://hbaofic.org/wp-content/uploads/2025/10/lsc-video-series-1600x900-1.jpg
END:VEVENT
END:VCALENDAR