BEGIN:VCALENDAR
VERSION:2.0
PRODID:-//The Greater Iowa City Home Builders Association  - ECPv6.11.2//NONSGML v1.0//EN
CALSCALE:GREGORIAN
METHOD:PUBLISH
X-ORIGINAL-URL:https://hbaofic.org
X-WR-CALDESC:Events for The Greater Iowa City Home Builders Association 
REFRESH-INTERVAL;VALUE=DURATION:PT1H
X-Robots-Tag:noindex
X-PUBLISHED-TTL:PT1H
BEGIN:VTIMEZONE
TZID:America/Chicago
BEGIN:DAYLIGHT
TZOFFSETFROM:-0600
TZOFFSETTO:-0500
TZNAME:CDT
DTSTART:20250309T080000
END:DAYLIGHT
BEGIN:STANDARD
TZOFFSETFROM:-0500
TZOFFSETTO:-0600
TZNAME:CST
DTSTART:20251102T070000
END:STANDARD
END:VTIMEZONE
BEGIN:VEVENT
DTSTART;TZID=America/Chicago:20251105T120000
DTEND;TZID=America/Chicago:20251105T130000
DTSTAMP:20260421T104047
CREATED:20251027T193055Z
LAST-MODIFIED:20251027T193055Z
UID:10001380-1762344000-1762347600@hbaofic.org
SUMMARY:Immigration Compliance and Enforcement: What Home Builders Need to Know
DESCRIPTION:
URL:https://hbaofic.org/calendar/immigration-compliance-and-enforcement-what-home-builders-need-to-know/
LOCATION:IA
ATTACH;FMTTYPE=image/jpeg:https://hbaofic.org/wp-content/uploads/2015/03/Remaffilcmyk_201011160312301.jpg
END:VEVENT
BEGIN:VEVENT
DTSTART;TZID=America/Chicago:20251106T120000
DTEND;TZID=America/Chicago:20251106T130000
DTSTAMP:20260421T104047
CREATED:20251027T193409Z
LAST-MODIFIED:20251027T193435Z
UID:10001382-1762430400-1762434000@hbaofic.org
SUMMARY:Webinar -Understanding Immigration and Workforce Solutions in Residential Construction
DESCRIPTION:
URL:https://hbaofic.org/calendar/webinar-understanding-immigration-and-workforce-solutions-in-residential-construction/
LOCATION:IA
ATTACH;FMTTYPE=image/jpeg:https://hbaofic.org/wp-content/uploads/2015/03/Remaffilcmyk_201011160312301.jpg
END:VEVENT
BEGIN:VEVENT
DTSTART;TZID=America/Chicago:20251106T170000
DTEND;TZID=America/Chicago:20251106T193000
DTSTAMP:20260421T104047
CREATED:20250205T162017Z
LAST-MODIFIED:20251027T141505Z
UID:10001357-1762448400-1762457400@hbaofic.org
SUMMARY:Annual Meeting
DESCRIPTION:2025 Annual Meeting & Awards Dinner\n  \n\n    Thursday\, November 6 · Courtyard by Marriott\, Iowa City\n   \n\n    Celebrate another incredible year with the Greater Iowa City Area Home Builders Association!\n    Enjoy dinner\, networking\, and the presentation of our annual awards as we honor members and welcome the 2026 Board of Directors.\n   \n  \n     👉 RSVP Here\n   \n   \n\nEvening Agenda\n\n      5:00 PM: Doors Open & Cocktails\n      5:30 PM: Dinner Service & Program Begins\n      Presentation of Awards\n      7:30 PM: Program Concludes\n     \n \n\nThank You to Our Sponsors\n   \nSocial Sponsors\n\n    \n      \n    \n    \n      \n    \n    \n      \n    \n    \n      \n    \n  \n   \nMission Partners\n\n    \n      \n    \n    \n      \n    \n    \n      \n    \n    \n      \n    \n    \n      \n    \n    \n      \n    \n  \n\n\n    Questions? Contact Ali Salow at the Greater Iowa City Area HBA.\n   \n\n \n\n  Presented by the Greater Iowa City Area Home Builders Association
URL:https://hbaofic.org/calendar/annual-meeting-10/
LOCATION:Courtyard by Marriott\, 901 Melrose Avenue\, Iowa City\, Iowa\, 52246
ATTACH;FMTTYPE=image/jpeg:https://hbaofic.org/wp-content/uploads/2025/01/6.jpg
ORGANIZER;CN="Greater Iowa City Area Home Builders Association":MAILTO:eo@hbaofic.org
END:VEVENT
END:VCALENDAR