BEGIN:VCALENDAR
VERSION:2.0
PRODID:-//The Greater Iowa City Home Builders Association  - ECPv6.11.2//NONSGML v1.0//EN
CALSCALE:GREGORIAN
METHOD:PUBLISH
X-WR-CALNAME:The Greater Iowa City Home Builders Association 
X-ORIGINAL-URL:https://hbaofic.org
X-WR-CALDESC:Events for The Greater Iowa City Home Builders Association 
REFRESH-INTERVAL;VALUE=DURATION:PT1H
X-Robots-Tag:noindex
X-PUBLISHED-TTL:PT1H
BEGIN:VTIMEZONE
TZID:America/Chicago
BEGIN:DAYLIGHT
TZOFFSETFROM:-0600
TZOFFSETTO:-0500
TZNAME:CDT
DTSTART:20140309T080000
END:DAYLIGHT
BEGIN:STANDARD
TZOFFSETFROM:-0500
TZOFFSETTO:-0600
TZNAME:CST
DTSTART:20141102T070000
END:STANDARD
BEGIN:DAYLIGHT
TZOFFSETFROM:-0600
TZOFFSETTO:-0500
TZNAME:CDT
DTSTART:20150308T080000
END:DAYLIGHT
BEGIN:STANDARD
TZOFFSETFROM:-0500
TZOFFSETTO:-0600
TZNAME:CST
DTSTART:20151101T070000
END:STANDARD
BEGIN:DAYLIGHT
TZOFFSETFROM:-0600
TZOFFSETTO:-0500
TZNAME:CDT
DTSTART:20160313T080000
END:DAYLIGHT
BEGIN:STANDARD
TZOFFSETFROM:-0500
TZOFFSETTO:-0600
TZNAME:CST
DTSTART:20161106T070000
END:STANDARD
BEGIN:DAYLIGHT
TZOFFSETFROM:-0600
TZOFFSETTO:-0500
TZNAME:CDT
DTSTART:20170312T080000
END:DAYLIGHT
BEGIN:STANDARD
TZOFFSETFROM:-0500
TZOFFSETTO:-0600
TZNAME:CST
DTSTART:20171105T070000
END:STANDARD
BEGIN:DAYLIGHT
TZOFFSETFROM:-0600
TZOFFSETTO:-0500
TZNAME:CDT
DTSTART:20180311T080000
END:DAYLIGHT
BEGIN:STANDARD
TZOFFSETFROM:-0500
TZOFFSETTO:-0600
TZNAME:CST
DTSTART:20181104T070000
END:STANDARD
BEGIN:DAYLIGHT
TZOFFSETFROM:-0600
TZOFFSETTO:-0500
TZNAME:CDT
DTSTART:20190310T080000
END:DAYLIGHT
BEGIN:STANDARD
TZOFFSETFROM:-0500
TZOFFSETTO:-0600
TZNAME:CST
DTSTART:20191103T070000
END:STANDARD
BEGIN:DAYLIGHT
TZOFFSETFROM:-0600
TZOFFSETTO:-0500
TZNAME:CDT
DTSTART:20200308T080000
END:DAYLIGHT
BEGIN:STANDARD
TZOFFSETFROM:-0500
TZOFFSETTO:-0600
TZNAME:CST
DTSTART:20201101T070000
END:STANDARD
BEGIN:DAYLIGHT
TZOFFSETFROM:-0600
TZOFFSETTO:-0500
TZNAME:CDT
DTSTART:20210314T080000
END:DAYLIGHT
BEGIN:STANDARD
TZOFFSETFROM:-0500
TZOFFSETTO:-0600
TZNAME:CST
DTSTART:20211107T070000
END:STANDARD
BEGIN:DAYLIGHT
TZOFFSETFROM:-0600
TZOFFSETTO:-0500
TZNAME:CDT
DTSTART:20220313T080000
END:DAYLIGHT
BEGIN:STANDARD
TZOFFSETFROM:-0500
TZOFFSETTO:-0600
TZNAME:CST
DTSTART:20221106T070000
END:STANDARD
BEGIN:DAYLIGHT
TZOFFSETFROM:-0600
TZOFFSETTO:-0500
TZNAME:CDT
DTSTART:20230312T080000
END:DAYLIGHT
BEGIN:STANDARD
TZOFFSETFROM:-0500
TZOFFSETTO:-0600
TZNAME:CST
DTSTART:20231105T070000
END:STANDARD
BEGIN:DAYLIGHT
TZOFFSETFROM:-0600
TZOFFSETTO:-0500
TZNAME:CDT
DTSTART:20240310T080000
END:DAYLIGHT
BEGIN:STANDARD
TZOFFSETFROM:-0500
TZOFFSETTO:-0600
TZNAME:CST
DTSTART:20241103T070000
END:STANDARD
END:VTIMEZONE
BEGIN:VEVENT
DTSTART;TZID=America/Chicago:20240607T070000
DTEND;TZID=America/Chicago:20240607T120000
DTSTAMP:20260421T084639
CREATED:20240509T204912Z
LAST-MODIFIED:20240509T204912Z
UID:10001332-1717743600-1717761600@hbaofic.org
SUMMARY:Parade of Homes Breakfast - Members Only Tour & Awards Ceremony
DESCRIPTION:Join us for an HBA Member Breakfast Awards ceremony & VIP Parade of Homes tour sponsored by Hills Bank. \nStarting at 7:00 AM on June 7th at the Celebration Barn Join us for an Awards Ceremony & Breakfast followed by an Exclusive Members Only Tour of the 2024 Parade Homes.\nBe sure to get your coffee from the PWB Coffee Bar Sponsored by Java House Coffee of Iowa City. Proceeds will go to the PWB Scholarship fund. \n  \nfile:///C:/Users/HBA/Downloads/Member%20Only%20Breakfast%20+%20Tour.pdf \nhttps://lp.constantcontactpages.com/ev/reg/2dg2eru/lp/2025d09e-c5fc-4977-9871-863b25d96d6c
URL:https://hbaofic.org/calendar/parade-of-homes-breakfast-members-only-tour-awards-ceremony/
LOCATION:The Celebration Farm\, 4696 Robin Woods Ln NE\, Iowa City\, IA\, United States
ORGANIZER;CN="HBA of IC":MAILTO:eo@hbaofic.org
END:VEVENT
BEGIN:VEVENT
DTSTART;TZID=America/Chicago:20230609T070000
DTEND;TZID=America/Chicago:20230609T080000
DTSTAMP:20260421T084639
CREATED:20221206T191302Z
LAST-MODIFIED:20230524T203105Z
UID:10001253-1686294000-1686297600@hbaofic.org
SUMMARY:Parade of Homes Awards Breakfast
DESCRIPTION:AWARDS BREAKFAST (7:00 – 8:00 a.m.):\nStart your day at the Awards Breakfast\, sponsored by Hills Bank\, at the Celebration Farm (4696 Robin Woods Lane). \nWe’ll present new-construction Builders Excellence Awards and the third Motto Award before members head out to tour the homes. The Motto Award is based on NAHB’s mantra to do business with members and goes to the builder or remodeler who used the highest percentage of Iowa City Area HBA member subcontractors on their parade entry.  We’ll also announce our Lego Parade of Homes winners!  The Professional Women in Building will be making mimosas for tips and donations to support the Scholarship Fund\, so bring your wallet. \nRSVPs for breakfast are required.\nEmail karyl@hbaofic.org by Friday\, June 2 to join us. \n \nhttps://iowacityhomes.thegazette.com/ \nGet inspired by touring beautiful homes during the \n56th Annual Iowa City Area HBA\nParade of Homes.  \nDates for the 2023 Parade of Homes are: \nJune 10 and 11\nJune 13 and 15\nJune 17 and 18\nTimes are:\nSaturdays: 10:00 am – 5:00 pm\nSundays: Noon – 5:00 pm\nTuesday and Thursday: 5:30 – 8:30 pm\nThank You to Our 2023 Sponsors\nPresenting Co-Sponsors \n           \n  \nBreakfast Sponsor                                           Breakfast Water Sponsor \n                                              \n  \nParade App Sponsor                                  Virtual Tour Sponsor \n                                            \n  \nLumber Sponsor \n \n  \nBuilders Excellence Awards               Remodelers Parade Award   \n                                                              \n  \n          The Motto Award                        People’s Choice Awards Sponsor   \n                                                             \n  \n              Ticket Sponsor                                               Giveaway Sponsor  \n                                               \n  \nLego Parade of Homes Sponsor                         Lego Parade Prizes Sponsor \n                                                      \n  \nVolunteer Coordinator \n   \nPromotional Partners \nThe Gazette\nCBS 2/FOX 28\nEaston Design\nKCRG\nKZIA\niHeart Media\nOnMedia\nTownsquare Media (KHAK)
URL:https://hbaofic.org/calendar/parade-of-homes-awards-breakfast-2/
LOCATION:The Celebration Farm\, 4696 Robin Woods Ln NE\, Iowa City\, IA\, United States
END:VEVENT
BEGIN:VEVENT
DTSTART;TZID=America/Chicago:20220609T070000
DTEND;TZID=America/Chicago:20220609T080000
DTSTAMP:20260421T084639
CREATED:20221206T173024Z
LAST-MODIFIED:20221206T173024Z
UID:10001221-1654758000-1654761600@hbaofic.org
SUMMARY:Parade of Homes Awards Breakfast
DESCRIPTION:
URL:https://hbaofic.org/calendar/parade-of-homes-awards-breakfast/
LOCATION:The Celebration Farm\, 4696 Robin Woods Ln NE\, Iowa City\, IA\, United States
END:VEVENT
BEGIN:VEVENT
DTSTART;TZID=America/Chicago:20210611T070000
DTEND;TZID=America/Chicago:20210611T080000
DTSTAMP:20260421T084639
CREATED:20210124T010349Z
LAST-MODIFIED:20210611T174434Z
UID:10000876-1623394800-1623398400@hbaofic.org
SUMMARY:Parade of Homes Members Awards Breakfast
DESCRIPTION:Celebrate The Iowa City Area HBA Parade of Homes during the Members Award Breakfast! \nJoin us in the Timber Frame Barn at The Celebration Farm for the awards breakfast\, sponsored by CBI Bank & Trust\,  \nWe’ll present new-construction Builders Excellence Awards and the first Motto Award before members head out to tour the homes. The Motto Award is based on NAHB’s mantra to do business with members and goes to the builder or remodeler who used the highest percentage of Iowa City Area HBA member subcontractors on their parade entry. We’ll also announce our Lego Parade of Homes winners!  \nEnjoy a Mimosa Bar sponsored by our Women’s Council with all tips going to the Scholarship Fund. \nRSVP to karyl@hbaofic.org or michelle@hbaofic.org by Friday\, June 4 to join us. \n \nhttps://iowacityhomes.thegazette.com/\nGet inspired by touring beautiful homes during the\n54th Annual Iowa City Area HBA Parade of Homes & 24th Remodelers Parade.  \nDates for the 2021 Parade of Homes are: \nJune 12 and 13\nJune 15 and 17\nJune 19 and 20\nThe Remodelers Parade is the SECOND WEEKEND\,\nJune 19 and 20. \nTimes are:\nSaturdays: 10:00 am – 5:00 pm\nSundays: Noon – 5:00 pm\nTuesday and Thursday: 5:30 – 8:30 pm\nThank You to Our 2021 Sponsors\nPresenting Co-Sponsors \n                                                                                                      \nBreakfast Sponsor & Parade App Sponsor \n \n            Virtual Tour Sponsor \n \nEquipment Sponsor \n \nLumber Sponsor \n                                                                                                                                                         \n Builders Excellence Awards Sponsor \n      \nRemodelers Parade Awards Sponsor \n        \nThe Motto Award Sponsor \n \nPeople’s Choice Awards Sponsor  \n \n  Ticket Sponsor   \n \n  Happy Hour Sponsor \n \nGiveaway Sponsor\n  \n                           \nLego Parade of Homes Sponsor  \n    \nLego Parade Prizes Sponsor  \n    \n Water Sponsor \n \nVolunteer Coordinator \n   \nPromotional Partners \nThe Gazette\nCBS 2/FOX 28\nEaston Design\nKCRG\nKZIA\niHeart Media\nOnMedia\nTownsquare Media (KHAK)
URL:https://hbaofic.org/calendar/parade-of-homes-members-award-breakfast/
LOCATION:The Celebration Farm\, 4696 Robin Woods Ln NE\, Iowa City\, IA\, United States
CATEGORIES:HBA Event
ORGANIZER;CN="Greater Iowa City Area Home Builders Association":MAILTO:eo@hbaofic.org
END:VEVENT
BEGIN:VEVENT
DTSTART;TZID=America/Chicago:20190531T070000
DTEND;TZID=America/Chicago:20190531T080000
DTSTAMP:20260421T084639
CREATED:20190301T162832Z
LAST-MODIFIED:20190508T214638Z
UID:10000990-1559286000-1559289600@hbaofic.org
SUMMARY:Parade of Homes Member Breakfast
DESCRIPTION:Celebrate The Parade of Homes during the Member Tour Breakfast! \nEnjoy a Mimosa Bar sponsored by our Women’s Council with all tips going to the scholarship fund. \nBreakfast is sponsored by CBI Bank & Trust. \n \nThe Awards Ceremony is sponsored by Mills Custom Homes fka M&R Construction. \n \nThe 52nd Annual Parade of Homes is sponsored by Hills Bank and Urban Acres Real Estate. \n             \nAlexander Lumber is the official lumber sponsor of the 2019 Parade of Homes.
URL:https://hbaofic.org/calendar/parade-of-homes-member-tour-breakfast/
LOCATION:The Celebration Farm\, 4696 Robin Woods Ln NE\, Iowa City\, IA\, United States
CATEGORIES:HBA Event
ORGANIZER;CN="Greater Iowa City Area Home Builders Association":MAILTO:eo@hbaofic.org
END:VEVENT
BEGIN:VEVENT
DTSTART;TZID=America/Chicago:20180601T070000
DTEND;TZID=America/Chicago:20180601T080000
DTSTAMP:20260421T084639
CREATED:20180404T162625Z
LAST-MODIFIED:20180404T163028Z
UID:10000707-1527836400-1527840000@hbaofic.org
SUMMARY:Parade of Homes Award Breakfast
DESCRIPTION:Congratulate the 2018 Parade of Homes Builders and Remodelers on their incredible homes! \nSponsored by:
URL:https://hbaofic.org/calendar/parade-of-homes-award-breakfast-and-member-tour/
LOCATION:The Celebration Farm\, 4696 Robin Woods Ln NE\, Iowa City\, IA\, United States
CATEGORIES:HBA Event
ORGANIZER;CN="Greater Iowa City Area Home Builders Association":MAILTO:eo@hbaofic.org
END:VEVENT
BEGIN:VEVENT
DTSTART;TZID=America/Chicago:20170602T070000
DTEND;TZID=America/Chicago:20170602T080000
DTSTAMP:20260421T084639
CREATED:20161221T200201Z
LAST-MODIFIED:20170425T185644Z
UID:10000835-1496386800-1496390400@hbaofic.org
SUMMARY:Parade of Homes Award Breakfast
DESCRIPTION:Sponsored by: \n \nRSVP to Karyl@HBAofIC.org or call (319) 351-5333
URL:https://hbaofic.org/calendar/parade-of-homes-award-breakfast/
LOCATION:The Celebration Farm\, 4696 Robin Woods Ln NE\, Iowa City\, IA\, United States
CATEGORIES:HBA Event
ORGANIZER;CN="Greater Iowa City Area Home Builders Association":MAILTO:eo@hbaofic.org
END:VEVENT
BEGIN:VEVENT
DTSTART;TZID=America/Chicago:20141204T180000
DTEND;TZID=America/Chicago:20141204T180000
DTSTAMP:20260421T084639
CREATED:20141118T220136Z
LAST-MODIFIED:20141118T220337Z
UID:10000640-1417716000-1417716000@hbaofic.org
SUMMARY:Holiday Party
DESCRIPTION:
URL:https://hbaofic.org/calendar/holiday-party/
LOCATION:The Celebration Farm\, 4696 Robin Woods Ln NE\, Iowa City\, IA\, United States
ORGANIZER;CN="Greater Iowa City Area Home Builders Association":MAILTO:eo@hbaofic.org
END:VEVENT
END:VCALENDAR