BEGIN:VCALENDAR
VERSION:2.0
PRODID:-//The Greater Iowa City Home Builders Association  - ECPv6.11.2//NONSGML v1.0//EN
CALSCALE:GREGORIAN
METHOD:PUBLISH
X-WR-CALNAME:The Greater Iowa City Home Builders Association 
X-ORIGINAL-URL:https://hbaofic.org
X-WR-CALDESC:Events for The Greater Iowa City Home Builders Association 
REFRESH-INTERVAL;VALUE=DURATION:PT1H
X-Robots-Tag:noindex
X-PUBLISHED-TTL:PT1H
BEGIN:VTIMEZONE
TZID:America/Chicago
BEGIN:DAYLIGHT
TZOFFSETFROM:-0600
TZOFFSETTO:-0500
TZNAME:CDT
DTSTART:20200308T080000
END:DAYLIGHT
BEGIN:STANDARD
TZOFFSETFROM:-0500
TZOFFSETTO:-0600
TZNAME:CST
DTSTART:20201101T070000
END:STANDARD
BEGIN:DAYLIGHT
TZOFFSETFROM:-0600
TZOFFSETTO:-0500
TZNAME:CDT
DTSTART:20210314T080000
END:DAYLIGHT
BEGIN:STANDARD
TZOFFSETFROM:-0500
TZOFFSETTO:-0600
TZNAME:CST
DTSTART:20211107T070000
END:STANDARD
END:VTIMEZONE
BEGIN:VEVENT
DTSTART;TZID=America/Chicago:20210421T120000
DTEND;TZID=America/Chicago:20210421T130000
DTSTAMP:20260421T091039
CREATED:20210309T195425Z
LAST-MODIFIED:20210311T150559Z
UID:10000879-1619006400-1619010000@hbaofic.org
SUMMARY:Lunch N Learn: Social Media Best Practices
DESCRIPTION:Your business is using social media\, but is it making the most of each social platform? Join Brook Easton\, director of digital marketing and co-owner of Easton Design\, as she shares\, best practices for social media. Included will be deciding which social networks will get you the most bang for your buck and how to tackle content creation.  \nThis class is perfect for the business that already has social channels created\, but is hitting roadblocks with engagement or getting started and staying consistent.  \nThere will be time for a Q&A. \nRSVP by 5:00 p.m. Tuesday\, April 20 to Karyl to receive a Zoom-link invite for this virtual event. \n  \nAbout Our Presenter:\n\nBrook Easton is the Director of Digital Marketing for Iowa City Area HBA member Easton Design\, a  digital marketing agency she co-owns with her husband. The company specializes in web design; social media marketing; and strategy\, branding and videography. With more than 25 years of marketing experience and a laptop\, she helps businesses find their voice online. Creating communities\, building relationships and telling brand stories\, one post\, like and share at a time. 
URL:https://hbaofic.org/calendar/lunch-n-learn-social-media-best-practices/
LOCATION:Online
CATEGORIES:HBA Event
ORGANIZER;CN="Greater Iowa City Area Home Builders Association":MAILTO:eo@hbaofic.org
END:VEVENT
BEGIN:VEVENT
DTSTART;TZID=America/Chicago:20201210T083000
DTEND;TZID=America/Chicago:20201210T123000
DTSTAMP:20260421T091039
CREATED:20201005T194051Z
LAST-MODIFIED:20201007T233925Z
UID:10001077-1607589000-1607603400@hbaofic.org
SUMMARY:Online Lead Renovator Refresher Training Class
DESCRIPTION:Let’s talk about lead! Catch up on the latest information during this four-hour course\, offered by The Greater Iowa City Area HBA\, that is required by the State of Iowa as a prerequisite for renewing your Lead Renovator license. \nTHIS CLASS WILL BE HELD ONLINE USING A ZOOM MEETING. \nDuring the course we will review how to safely work with lead-base painted surfaces\, including: worker protection\, proper cleanup and disposal methods\, on the job training\, record keeping and the Iowa Department of Public Health licensing process. \nThis course applies to anyone that needs to renew their lead renovator license\, however\, if you are also a Plumbing/Mechanical/HVAC license holder\, the class is approved by the Iowa Plumbing & Mechanical Systems Board for four continuing education credits towards your safety hours. \nHave more questions about the class or licensing? Contact Marci at Iowa Lead & Asbestos Safety\, (515) 331-1690 or marci@iowaleadsafety.com. \nRSVP by Monday\, Dec. 7 to\nKaryl at (319) 351-5333 karyl@hbaofic.org\nClick here to print a hand page of this information that includes details about Zoom meetings and how you take your test. \n 
URL:https://hbaofic.org/calendar/online-lead-renovator-refresher-training-class/
LOCATION:Online
CATEGORIES:HBA Event
ORGANIZER;CN="Greater Iowa City Area Home Builders Association":MAILTO:eo@hbaofic.org
END:VEVENT
END:VCALENDAR