BEGIN:VCALENDAR
VERSION:2.0
PRODID:-//The Greater Iowa City Home Builders Association  - ECPv6.11.2//NONSGML v1.0//EN
CALSCALE:GREGORIAN
METHOD:PUBLISH
X-WR-CALNAME:The Greater Iowa City Home Builders Association 
X-ORIGINAL-URL:https://hbaofic.org
X-WR-CALDESC:Events for The Greater Iowa City Home Builders Association 
REFRESH-INTERVAL;VALUE=DURATION:PT1H
X-Robots-Tag:noindex
X-PUBLISHED-TTL:PT1H
BEGIN:VTIMEZONE
TZID:America/Chicago
BEGIN:DAYLIGHT
TZOFFSETFROM:-0600
TZOFFSETTO:-0500
TZNAME:CDT
DTSTART:20170312T080000
END:DAYLIGHT
BEGIN:STANDARD
TZOFFSETFROM:-0500
TZOFFSETTO:-0600
TZNAME:CST
DTSTART:20171105T070000
END:STANDARD
BEGIN:DAYLIGHT
TZOFFSETFROM:-0600
TZOFFSETTO:-0500
TZNAME:CDT
DTSTART:20180311T080000
END:DAYLIGHT
BEGIN:STANDARD
TZOFFSETFROM:-0500
TZOFFSETTO:-0600
TZNAME:CST
DTSTART:20181104T070000
END:STANDARD
BEGIN:DAYLIGHT
TZOFFSETFROM:-0600
TZOFFSETTO:-0500
TZNAME:CDT
DTSTART:20190310T080000
END:DAYLIGHT
BEGIN:STANDARD
TZOFFSETFROM:-0500
TZOFFSETTO:-0600
TZNAME:CST
DTSTART:20191103T070000
END:STANDARD
BEGIN:DAYLIGHT
TZOFFSETFROM:-0600
TZOFFSETTO:-0500
TZNAME:CDT
DTSTART:20200308T080000
END:DAYLIGHT
BEGIN:STANDARD
TZOFFSETFROM:-0500
TZOFFSETTO:-0600
TZNAME:CST
DTSTART:20201101T070000
END:STANDARD
END:VTIMEZONE
BEGIN:VEVENT
DTSTART;TZID=America/Chicago:20200305T180000
DTEND;TZID=America/Chicago:20200305T200000
DTSTAMP:20260421T194440
CREATED:20191229T235608Z
LAST-MODIFIED:20200221T151315Z
UID:10001014-1583431200-1583438400@hbaofic.org
SUMMARY:March Membership Meeting
DESCRIPTION:Members and guests\, come learn the latest in area development from our city and county administrators and planners during this annual update meeting. \nRSVP by Friday\, Feb. 28 to Karyl or Michelle.  \n \nHost and Sponsor: \n   \nRaffle Sponsor: \n \n  \n  \n  \n 
URL:https://hbaofic.org/calendar/march-membership-meeting/
LOCATION:South Slope Cooperative Communications\, 980 North Front Street\, North Liberty\, IA\, 52317\, United States
ORGANIZER;CN="Greater Iowa City Area Home Builders Association":MAILTO:eo@hbaofic.org
END:VEVENT
BEGIN:VEVENT
DTSTART;TZID=America/Chicago:20170309T180000
DTEND;TZID=America/Chicago:20170309T200000
DTSTAMP:20260421T194440
CREATED:20161221T195500Z
LAST-MODIFIED:20170214T201930Z
UID:10000828-1489082400-1489089600@hbaofic.org
SUMMARY:March General Membership Meeting
DESCRIPTION:The City and County Managers and Administrators will be invited to update our members on development in the area. \nSponsored by CBI Bank & Trust and South Slope Cooperative Communications \n   \n 
URL:https://hbaofic.org/calendar/march-general-membership-meeting-2/
LOCATION:South Slope Cooperative Communications\, 980 North Front Street\, North Liberty\, IA\, 52317\, United States
CATEGORIES:HBA Event
ORGANIZER;CN="Greater Iowa City Area Home Builders Association":MAILTO:eo@hbaofic.org
END:VEVENT
END:VCALENDAR